{"text_format":"1","workbook":"xlsx","n_sheets":5,"sheets":["Map","Data","Control","City","Palette"],"not_rendered":{"charts":1,"images":0,"macros":1,"external_links":0,"defined_names":441,"comments":0,"pivot_tables":0},"unopened":[],"bounds":{"document_bytes":16777216,"sheet_cells":100000,"rows_first":2000,"rows_last":500,"rows_between":2000,"halvings":0,"cell_chars":16384,"cell_head_chars":4096},"cells_cut":0,"cells_raw":0,"read":"whole","date_system":"1900"}

{"sheet":"Map","index":0,"n_rows":35,"n_cols":12,"rows_kept":35,"cut":false,"hidden":false,"merged":[[20,7,20,9]]}
[]
[]
[]
[]
[]
[]
[]
[]
[]
[]
[]
[]
[]
[]
[]
[]
[]
[]
[]
[]
[null,null,null,null,null,null,null,"Legend"]
[null,null,null,null,null,null,null,">=",null,{"$f":"Control!D12","v":25},null,"Map colors"]
[null,null,null,null,null,null,null,{"$f":"Control!D11","v":20},"-",{"$f":"Control!D12","v":25}]
[null,null,null,null,null,null,null,{"$f":"Control!D10","v":15},"-",{"$f":"Control!D11","v":20}]
[null,null,null,null,null,null,null,{"$f":"Control!D9","v":10},"-",{"$f":"Control!D10","v":15}]
[null,null,null,null,null,null,null,{"$f":"Control!D8","v":5},"-",{"$f":"Control!D9","v":10}]
[null,null,null,null,null,null,null,{"$f":"Control!D7","v":0},"-",{"$f":"Control!D8","v":5}]
[null,null,null,null,null,null,null,{"$f":"Control!D6","v":-5},"-",{"$f":"Control!D7","v":0}]
[null,null,null,null,null,null,null,{"$f":"Control!D5","v":-10},"-",{"$f":"Control!D6","v":-5}]
[null,null,null,null,null,null,null,{"$f":"Control!D4","v":-15},"-",{"$f":"Control!D5","v":-10},null,"Bubble chart coloring"]
[null,null,null,null,null,null,null,{"$f":"Control!D3","v":-20},"-",{"$f":"Control!D4","v":-15}]
[null,null,null,null,null,null,null,"<",null,{"$f":"Control!D3","v":-20}]
[null,null,null,null,null,null,null,null,null,null,null,"Bubble size"]
[]
["Chart created with Excel Map of Germany, version Demo, © SkuteczneRaporty.pl"]

{"sheet":"Data","index":1,"n_rows":63,"n_cols":12,"rows_kept":63,"cut":false,"hidden":false,"merged":[]}
["Bundesland","Seat","Value","Bubble size","Bubble color",null,null,null,null,"Bins",null,"Bins on map"]
["Baden-Württemberg","Stuttgart",null,null,null,null,null,null,"Min",-20,"<",{"$f":"J2","v":-20}]
[null,null,null,null,null,null,null,null,null,-15,"<",-15]
[null,null,null,null,null,null,null,null,null,-10,"<",-10]
[null,null,null,null,null,null,null,null,null,-5,"<",-5]
[null,null,null,null,null,null,null,null,null,0,"<",0]
[null,null,null,null,null,null,null,null,null,5,"<",5]
[null,null,null,null,null,null,null,null,null,10,"<",10]
[null,null,null,null,null,null,null,null,null,15,"<",15]
[null,null,null,null,null,null,null,null,null,20,"<",20]
[null,null,null,null,null,null,null,null,"Max",25,"<",25]
[null,null,null,null,null,null,null,null,null,null,">=",{"$f":"J11","v":25}]
[]
[]
[]
[]
[]
[]
["Landkreis/Kreis/Stadt","Type","Bundesland","Seat","Value","Bubble size","Bubble color"]
["Alb-Donau-Kreis","Kreis","Baden-Württemberg","Ulm"]
["Baden-Baden","Stadt","Baden-Württemberg","Baden-Baden"]
["Biberach","Kreis","Baden-Württemberg","Biberach an der Riß"]
["Böblingen","Kreis","Baden-Württemberg","Böblingen"]
["Bodenseekreis","Kreis","Baden-Württemberg","Friedrichshafen"]
["Breisgau-Hochschwarzwald","Kreis","Baden-Württemberg","Freiburg im Breisgau"]
["Calw","Kreis","Baden-Württemberg","Calw"]
["Emmendingen","Kreis","Baden-Württemberg","Emmendingen"]
["Enzkreis","Kreis","Baden-Württemberg","Pforzheim"]
["Esslingen","Kreis","Baden-Württemberg","Esslingen am Neckar"]
["Freiburg im Breisgau","Stadt","Baden-Württemberg","Freiburg im Breisgau"]
["Freudenstadt","Kreis","Baden-Württemberg","Freudenstadt"]
["Göppingen","Kreis","Baden-Württemberg","Göppingen"]
["Heidelberg","Stadt","Baden-Württemberg","Heidelberg"]
["Heidenheim","Kreis","Baden-Württemberg","Heidenheim an der Brenz"]
["Heilbronn","Kreis","Baden-Württemberg","Heilbronn"]
["Heilbronn","Stadt","Baden-Württemberg","Heilbronn"]
["Hohenlohekreis","Kreis","Baden-Württemberg","Künzelsau"]
["Karlsruhe","Kreis","Baden-Württemberg","Karlsruhe"]
["Karlsruhe","Stadt","Baden-Württemberg","Karlsruhe"]
["Konstanz","Kreis","Baden-Württemberg","Konstanz"]
["Lörrach","Kreis","Baden-Württemberg","Lörrach"]
["Ludwigsburg","Kreis","Baden-Württemberg","Ludwigsburg"]
["Main-Tauber-Kreis","Kreis","Baden-Württemberg","Tauberbischofsheim"]
["Mannheim","Stadt","Baden-Württemberg","Mannheim"]
["Neckar-Odenwald-Kreis","Kreis","Baden-Württemberg","Mosbach"]
["Ortenaukreis","Kreis","Baden-Württemberg","Offenburg"]
["Ostalbkreis","Kreis","Baden-Württemberg","Aalen"]
["Pforzheim","Stadt","Baden-Württemberg","Pforzheim"]
["Rastatt","Kreis","Baden-Württemberg","Rastatt"]
["Ravensburg","Kreis","Baden-Württemberg","Ravensburg"]
["Rems-Murr-Kreis","Kreis","Baden-Württemberg","Waiblingen"]
["Reutlingen","Kreis","Baden-Württemberg","Reutlingen"]
["Rhein-Neckar-Kreis","Kreis","Baden-Württemberg","Heidelberg"]
["Rottweil","Kreis","Baden-Württemberg","Rottweil"]
["Schwäbisch Hall","Kreis","Baden-Württemberg","Schwäbisch Hall"]
["Schwarzwald-Baar-Kreis","Kreis","Baden-Württemberg","Villingen-Schwenningen"]
["Sigmaringen","Kreis","Baden-Württemberg","Sigmaringen"]
["Stuttgart","Stadt","Baden-Württemberg","Stuttgart"]
["Tübingen","Kreis","Baden-Württemberg","Tübingen"]
["Tuttlingen","Kreis","Baden-Württemberg","Tuttlingen"]
["Ulm","Stadt","Baden-Württemberg","Ulm"]
["Waldshut","Kreis","Baden-Württemberg","Waldshut-Tiengen"]
["Zollernalbkreis","Kreis","Baden-Württemberg","Balingen"]

{"sheet":"Control","index":2,"n_rows":430,"n_cols":20,"rows_kept":430,"cut":false,"hidden":true,"merged":[]}
["Code","Shape",null,"Bins","RGB code","Color code","Value",null,1,"on",null,1,null,null,null,null,null,null,null,15]
["d_kolor1","s_kolor1",null,{"$f":"D3-1000000","v":-1000020},{"$f":"INDEX(Palette!$A$1:$L$10,$I$1,ROW(E2))","v":2031719},"kolor11",{"$f":"D2","v":-1000020},null,null,"off",null,{"$f":"#REF!","v":{"$error":"#REF!"}}]
["d_kolor2","s_kolor2",null,{"$f":"Data!J2","v":-20},{"$f":"INDEX(Palette!$A$1:$L$10,$I$1,ROW(E3))","v":2824370},"kolor10",{"$f":"D3","v":-20},null,null,2,null,{"$f":"#REF!","v":{"$error":"#REF!"}}]
["d_kolor3","s_kolor3",null,{"$f":"Data!J3","v":-15},{"$f":"INDEX(Palette!$A$1:$L$10,$I$1,ROW(E4))","v":5071062},"kolor9",{"$f":"D4","v":-15},null,null,null,null,{"$f":"#REF!","v":{"$error":"#REF!"}}]
["d_kolor4","s_kolor4",null,{"$f":"Data!J4","v":-10},{"$f":"INDEX(Palette!$A$1:$L$10,$I$1,ROW(E5))","v":8562164},"kolor8",-10,null,"Number",0,null,{"$f":"#REF!","v":{"$error":"#REF!"}}]
["d_kolor5","s_kolor5",null,{"$f":"Data!J5","v":-5},{"$f":"INDEX(Palette!$A$1:$L$10,$I$1,ROW(E6))","v":13097981},"kolor7",-5,null,"Area",{"$f":"IF(Numer>0,INDEX(Data!$B$20:$B$421,Numer,1)&\": \"&INDEX(Data!$A$20:$A$421,Numer,1)&\" (\"&INDEX(Data!$C$20:$C$421,Numer,1)&\")\",\"\")","v":""},null,{"$f":"#REF!","v":{"$error":"#REF!"}}]
["d_kolor6","s_kolor6",null,{"$f":"Data!J6","v":0},{"$f":"INDEX(Palette!$A$1:$L$10,$I$1,ROW(E7))","v":16250871},"kolor6",0,null,"Format","0,00",null,{"$f":"#REF!","v":{"$error":"#REF!"}}]
["d_kolor7","s_kolor7",null,{"$f":"Data!J7","v":5},{"$f":"INDEX(Palette!$A$1:$L$10,$I$1,ROW(E8))","v":15787473},"kolor5",5,null,"Value",{"$f":"IF(Numer>0,TEXT(INDEX(Data!$E$20:$E$421,Numer,1),Format),\"\")","v":""},null,{"$f":"#REF!","v":{"$error":"#REF!"}}]
["d_kolor8","s_kolor8",null,{"$f":"Data!J8","v":10},{"$f":"INDEX(Palette!$A$1:$L$10,$I$1,ROW(E9))","v":14599570},"kolor4",10,null,"Number2",112,null,{"$f":"#REF!","v":{"$error":"#REF!"}}]
["d_kolor9","s_kolor9",null,{"$f":"Data!J9","v":15},{"$f":"INDEX(Palette!$A$1:$L$10,$I$1,ROW(E10))","v":12817219},"kolor3",15,null,null,null,null,{"$f":"#REF!","v":{"$error":"#REF!"}}]
["d_kolor10","s_kolor10",null,{"$f":"Data!J10","v":20},{"$f":"INDEX(Palette!$A$1:$L$10,$I$1,ROW(E11))","v":11298337},"kolor2",20,null,null,null,null,{"$f":"#REF!","v":{"$error":"#REF!"}}]
["d_kolor11","s_kolor11",null,{"$f":"Data!J11","v":25},{"$f":"INDEX(Palette!$A$1:$L$10,$I$1,ROW(E12))","v":6369285},"kolor1",25]
["s_Alb_Donau_Kreis","Alb_Donau_Kreis"]
["s_Baden_Baden","Baden_Baden"]
["s_Biberach","Biberach"]
["s_Böblingen","Böblingen"]
["s_Bodenseekreis","Bodenseekreis"]
["s_Breisgau_Hochschwarzwald","Breisgau_Hochschwarzwald"]
["s_Calw","Calw"]
["s_Emmendingen","Emmendingen"]
["s_Enzkreis","Enzkreis"]
["s_Esslingen","Esslingen"]
["s_Freiburg_im_Breisgau","Freiburg_im_Breisgau"]
["s_Freudenstadt","Freudenstadt"]
["s_Göppingen","Göppingen"]
["s_Heidelberg","Heidelberg"]
["s_Heidenheim","Heidenheim"]
["s_Heilbronn","Heilbronn"]
["s_Heilbronn_s","Heilbronn_s"]
["s_Hohenlohekreis","Hohenlohekreis"]
["s_Karlsruhe","Karlsruhe"]
["s_Karlsruhe_s","Karlsruhe_s"]
["s_Konstanz","Konstanz"]
["s_Lörrach","Lörrach"]
["s_Ludwigsburg","Ludwigsburg"]
["s_Main_Tauber_Kreis","Main_Tauber_Kreis"]
["s_Mannheim","Mannheim"]
["s_Neckar_Odenwald_Kreis","Neckar_Odenwald_Kreis"]
["s_Ortenaukreis","Ortenaukreis"]
["s_Ostalbkreis","Ostalbkreis"]
["s_Pforzheim","Pforzheim"]
["s_Rastatt","Rastatt"]
["s_Ravensburg","Ravensburg"]
["s_Rems_Murr_Kreis","Rems_Murr_Kreis"]
["s_Reutlingen","Reutlingen"]
["s_Rhein_Neckar_Kreis","Rhein_Neckar_Kreis"]
["s_Rottweil","Rottweil"]
["s_Schwäbisch_Hall","Schwäbisch_Hall"]
["s_Schwarzwald_Baar_Kreis","Schwarzwald_Baar_Kreis"]
["s_Sigmaringen","Sigmaringen"]
["s_Stuttgart","Stuttgart"]
["s_Tübingen","Tübingen"]
["s_Tuttlingen","Tuttlingen"]
["s_Ulm","Ulm"]
["s_Waldshut","Waldshut"]
["s_Zollernalbkreis","Zollernalbkreis"]
["s_Aichach_Friedberg","Aichach_Friedberg"]
["s_Altötting","Altötting"]
["s_Amberg","Amberg"]
["s_Amberg_Sulzbach","Amberg_Sulzbach"]
["s_Ansbach","Ansbach"]
["s_Ansbach_s","Ansbach_s"]
["s_Aschaffenburg","Aschaffenburg"]
["s_Aschaffenburg_s","Aschaffenburg_s"]
["s_Augsburg","Augsburg"]
["s_Augsburg_s","Augsburg_s"]
["s_Bad_Kissingen","Bad_Kissingen"]
["s_Bad_Tölz_Wolfratshausen","Bad_Tölz_Wolfratshausen"]
["s_Bamberg","Bamberg"]
["s_Bamberg_s","Bamberg_s"]
["s_Bayreuth","Bayreuth"]
["s_Bayreuth_s","Bayreuth_s"]
["s_Berchtesgadener_Land","Berchtesgadener_Land"]
["s_Cham","Cham"]
["s_Coburg","Coburg"]
["s_Coburg_s","Coburg_s"]
["s_Dachau","Dachau"]
["s_Deggendorf","Deggendorf"]
["s_Dillingen_an_der_Donau","Dillingen_an_der_Donau"]
["s_Dingolfing_Landau","Dingolfing_Landau"]
["s_Donau_Ries","Donau_Ries"]
["s_Ebersberg","Ebersberg"]
["s_Eichstätt","Eichstätt"]
["s_Erding","Erding"]
["s_Erlangen","Erlangen"]
["s_Erlangen_Höchstadt","Erlangen_Höchstadt"]
["s_Forchheim","Forchheim"]
["s_Freising","Freising"]
["s_Freyung_Grafenau","Freyung_Grafenau"]
["s_Fürstenfeldbruck","Fürstenfeldbruck"]
["s_Fürth","Fürth"]
["s_Fürth_s","Fürth_s"]
["s_Garmisch_Partenkirchen","Garmisch_Partenkirchen"]
["s_Günzburg","Günzburg"]
["s_Haßberge","Haßberge"]
["s_Hof","Hof"]
["s_Hof_s","Hof_s"]
["s_Ingolstadt","Ingolstadt"]
["s_Kaufbeuren","Kaufbeuren"]
["s_Kelheim","Kelheim"]
["s_Kempten_Allgäu","Kempten_(Allgäu)"]
["s_Kitzingen","Kitzingen"]
["s_Kronach","Kronach"]
["s_Kulmbach","Kulmbach"]
["s_Landsberg_am_Lech","Landsberg_am_Lech"]
["s_Landshut","Landshut"]
["s_Landshut_s","Landshut_s"]
["s_Lichtenfels","Lichtenfels"]
["s_Lindau_Bodensee","Lindau_(Bodensee)"]
["s_Main_Spessart","Main_Spessart"]
["s_Memmingen","Memmingen"]
["s_Miesbach","Miesbach"]
["s_Miltenberg","Miltenberg"]
["s_Mühldorf_am_Inn","Mühldorf_am_Inn"]
["s_München","München"]
["s_München_s","München_s"]
["s_Neuburg_Schrobenhausen","Neuburg_Schrobenhausen"]
["s_Neumarkt_in_der_Oberpfalz","Neumarkt_in_der_Oberpfalz"]
["s_Neustadt_an_der_Aisch","Neustadt_an_der_Aisch"]
["s_Neustadt_an_der_Waldnaab","Neustadt_an_der_Waldnaab"]
["s_Neu_Ulm","Neu_Ulm"]
["s_Nürnberg","Nürnberg"]
["s_Nürnberger_Land","Nürnberger_Land"]
["s_Oberallgäu","Oberallgäu"]
["s_Ostallgäu","Ostallgäu"]
["s_Passau","Passau"]
["s_Passau_s","Passau_s"]
["s_Pfaffenhofen_an_der_Ilm","Pfaffenhofen_an_der_Ilm"]
["s_Regen","Regen"]
["s_Regensburg","Regensburg"]
["s_Regensburg_s","Regensburg_s"]
["s_Rhön_Grabfeld","Rhön_Grabfeld"]
["s_Rosenheim","Rosenheim"]
["s_Rosenheim_s","Rosenheim_s"]
["s_Roth","Roth"]
["s_Rottal_Inn","Rottal_Inn"]
["s_Schwabach","Schwabach"]
["s_Schwandorf","Schwandorf"]
["s_Schweinfurt","Schweinfurt"]
["s_Schweinfurt_s","Schweinfurt_s"]
["s_Starnberg","Starnberg"]
["s_Straubing","Straubing"]
["s_Straubing_Bogen","Straubing_Bogen"]
["s_Tirschenreuth","Tirschenreuth"]
["s_Traunstein","Traunstein"]
["s_Unterallgäu","Unterallgäu"]
["s_Weiden_in_der_Oberpfalz","Weiden_in_der_Oberpfalz"]
["s_Weilheim_Schongau","Weilheim_Schongau"]
["s_Weißenburg_Gunzenhausen","Weißenburg_Gunzenhausen"]
["s_Wunsiedel_im_Fichtelgebirge","Wunsiedel_im_Fichtelgebirge"]
["s_Würzburg","Würzburg"]
["s_Würzburg_s","Würzburg_s"]
["s_Berlin","Berlin"]
["s_Barnim","Barnim"]
["s_Brandenburg_an_der_Havel","Brandenburg_an_der_Havel"]
["s_Cottbus","Cottbus"]
["s_Dahme_Spreewald","Dahme_Spreewald"]
["s_Elbe_Elster","Elbe_Elster"]
["s_Frankfurt_Oder","Frankfurt_(Oder)"]
["s_Havelland","Havelland"]
["s_Märkisch_Oderland","Märkisch_Oderland"]
["s_Oberhavel","Oberhavel"]
["s_Oberspreewald_Lausitz","Oberspreewald_Lausitz"]
["s_Oder_Spree","Oder_Spree"]
["s_Ostprignitz_Ruppin","Ostprignitz_Ruppin"]
["s_Potsdam","Potsdam"]
["s_Potsdam_Mittelmark","Potsdam_Mittelmark"]
["s_Prignitz","Prignitz"]
["s_Spree_Neiße","Spree_Neiße"]
["s_Teltow_Fläming","Teltow_Fläming"]
["s_Uckermark","Uckermark"]
["s_Bremen","Bremen"]
["s_Bremerhaven","Bremerhaven"]
["s_Hamburg","Hamburg"]
["s_Bergstraße","Bergstraße"]
["s_Darmstadt","Darmstadt"]
["s_Darmstadt_Dieburg","Darmstadt_Dieburg"]
["s_Frankfurt_am_Main","Frankfurt_am_Main"]
["s_Fulda","Fulda"]
["s_Gießen","Gießen"]
["s_Groß_Gerau","Groß_Gerau"]
["s_Hersfeld_Rotenburg","Hersfeld_Rotenburg"]
["s_Hochtaunuskreis","Hochtaunuskreis"]
["s_Kassel","Kassel"]
["s_Kassel_s","Kassel_s"]
["s_Lahn_Dill_Kreis","Lahn_Dill_Kreis"]
["s_Limburg_Weilburg","Limburg_Weilburg"]
["s_Main_Kinzig_Kreis","Main_Kinzig_Kreis"]
["s_Main_Taunus_Kreis","Main_Taunus_Kreis"]
["s_Marburg_Biedenkopf","Marburg_Biedenkopf"]
["s_Odenwaldkreis","Odenwaldkreis"]
["s_Offenbach","Offenbach"]
["s_Offenbach_am_Main","Offenbach_am_Main"]
["s_Rheingau_Taunus_Kreis","Rheingau_Taunus_Kreis"]
["s_Schwalm_Eder_Kreis","Schwalm_Eder_Kreis"]
["s_Vogelsbergkreis","Vogelsbergkreis"]
["s_Waldeck_Frankenberg","Waldeck_Frankenberg"]
["s_Werra_Meißner_Kreis","Werra_Meißner_Kreis"]
["s_Wetteraukreis","Wetteraukreis"]
["s_Wiesbaden","Wiesbaden"]
["s_Ludwigslust_Parchim","Ludwigslust_Parchim"]
["s_Mecklenburgische_Seenplatte","Mecklenburgische_Seenplatte"]
["s_Nordwestmecklenburg","Nordwestmecklenburg"]
["s_Rostock","Rostock"]
["s_Rostock_s","Rostock_s"]
["s_Schwerin","Schwerin"]
["s_Vorpommern_Greifswald","Vorpommern_Greifswald"]
["s_Vorpommern_Rügen","Vorpommern_Rügen"]
["s_Ammerland","Ammerland"]
["s_Aurich","Aurich"]
["s_Braunschweig","Braunschweig"]
["s_Celle","Celle"]
["s_Cloppenburg","Cloppenburg"]
["s_Cuxhaven","Cuxhaven"]
["s_Delmenhorst","Delmenhorst"]
["s_Diepholz","Diepholz"]
["s_Emden","Emden"]
["s_Emsland","Emsland"]
["s_Friesland","Friesland"]
["s_Gifhorn","Gifhorn"]
["s_Goslar","Goslar"]
["s_Göttingen","Göttingen"]
["s_Grafschaft_Bentheim","Grafschaft_Bentheim"]
["s_Hameln_Pyrmont","Hameln_Pyrmont"]
["s_Hannover","Hannover"]
["s_Harburg","Harburg"]
["s_Heidekreis","Heidekreis"]
["s_Helmstedt","Helmstedt"]
["s_Hildesheim","Hildesheim"]
["s_Holzminden","Holzminden"]
["s_Leer","Leer"]
["s_Lüchow_Dannenberg","Lüchow_Dannenberg"]
["s_Lüneburg","Lüneburg"]
["s_Nienburg_Weser","Nienburg/Weser"]
["s_Northeim","Northeim"]
["s_Oldenburg","Oldenburg"]
["s_Oldenburg_s","Oldenburg_s"]
["s_Osnabrück","Osnabrück"]
["s_Osnabrück_s","Osnabrück_s"]
["s_Osterholz","Osterholz"]
["s_Osterode_am_Harz","Osterode_am_Harz"]
["s_Peine","Peine"]
["s_Rotenburg_Wümme","Rotenburg_(Wümme)"]
["s_Salzgitter","Salzgitter"]
["s_Schaumburg","Schaumburg"]
["s_Stade","Stade"]
["s_Uelzen","Uelzen"]
["s_Vechta","Vechta"]
["s_Verden","Verden"]
["s_Wesermarsch","Wesermarsch"]
["s_Wilhelmshaven","Wilhelmshaven"]
["s_Wittmund","Wittmund"]
["s_Wolfenbüttel","Wolfenbüttel"]
["s_Wolfsburg","Wolfsburg"]
["s_Aachen","Aachen"]
["s_Bielefeld","Bielefeld"]
["s_Bochum","Bochum"]
["s_Bonn","Bonn"]
["s_Borken","Borken"]
["s_Bottrop","Bottrop"]
["s_Coesfeld","Coesfeld"]
["s_Dortmund","Dortmund"]
["s_Duisburg","Duisburg"]
["s_Düren","Düren"]
["s_Düsseldorf","Düsseldorf"]
["s_Ennepe_Ruhr_Kreis","Ennepe_Ruhr_Kreis"]
["s_Essen","Essen"]
["s_Euskirchen","Euskirchen"]
["s_Gelsenkirchen","Gelsenkirchen"]
["s_Gütersloh","Gütersloh"]
["s_Hagen","Hagen"]
["s_Hamm","Hamm"]
["s_Heinsberg","Heinsberg"]
["s_Herford","Herford"]
["s_Herne","Herne"]
["s_Hochsauerlandkreis","Hochsauerlandkreis"]
["s_Höxter","Höxter"]
["s_Kleve","Kleve"]
["s_Köln","Köln"]
["s_Krefeld","Krefeld"]
["s_Leverkusen","Leverkusen"]
["s_Lippe","Lippe"]
["s_Märkischer_Kreis","Märkischer_Kreis"]
["s_Mettmann","Mettmann"]
["s_Minden_Lübbecke","Minden_Lübbecke"]
["s_Mönchengladbach","Mönchengladbach"]
["s_Mülheim_an_der_Ruhr","Mülheim_an_der_Ruhr"]
["s_Münster","Münster"]
["s_Oberbergischer_Kreis","Oberbergischer_Kreis"]
["s_Oberhausen","Oberhausen"]
["s_Olpe","Olpe"]
["s_Paderborn","Paderborn"]
["s_Recklinghausen","Recklinghausen"]
["s_Remscheid","Remscheid"]
["s_Rhein_Erft_Kreis","Rhein_Erft_Kreis"]
["s_Rheinisch_Bergischer_Kreis","Rheinisch_Bergischer_Kreis"]
["s_Rhein_Kreis_Neuss","Rhein_Kreis_Neuss"]
["s_Rhein_Sieg_Kreis","Rhein_Sieg_Kreis"]
["s_Siegen_Wittgenstein","Siegen_Wittgenstein"]
["s_Soest","Soest"]
["s_Solingen","Solingen"]
["s_Steinfurt","Steinfurt"]
["s_Unna","Unna"]
["s_Viersen","Viersen"]
["s_Warendorf","Warendorf"]
["s_Wesel","Wesel"]
["s_Wuppertal","Wuppertal"]
["s_Ahrweiler","Ahrweiler"]
["s_Altenkirchen","Altenkirchen"]
["s_Alzey_Worms","Alzey_Worms"]
["s_Bad_Dürkheim","Bad_Dürkheim"]
["s_Bad_Kreuznach","Bad_Kreuznach"]
["s_Bernkastel_Wittlich","Bernkastel_Wittlich"]
["s_Birkenfeld","Birkenfeld"]
["s_Cochem_Zell","Cochem_Zell"]
["s_Donnersbergkreis","Donnersbergkreis"]
["s_Eifelkreis_Bitburg_Prüm","Eifelkreis_Bitburg_Prüm"]
["s_Frankenthal_Pfalz","Frankenthal_(Pfalz)"]
["s_Germersheim","Germersheim"]
["s_Kaiserslautern","Kaiserslautern"]
["s_Kaiserslautern_s","Kaiserslautern_s"]
["s_Koblenz","Koblenz"]
["s_Kusel","Kusel"]
["s_Landau_in_der_Pfalz","Landau_in_der_Pfalz"]
["s_Ludwigshafen_am_Rhein","Ludwigshafen_am_Rhein"]
["s_Mainz","Mainz"]
["s_Mainz_Bingen","Mainz_Bingen"]
["s_Mayen_Koblenz","Mayen_Koblenz"]
["s_Neustadt_an_der_Weinstraße","Neustadt_an_der_Weinstraße"]
["s_Neuwied","Neuwied"]
["s_Pirmasens","Pirmasens"]
["s_Rhein_Hunsrück_Kreis","Rhein_Hunsrück_Kreis"]
["s_Rhein_Lahn_Kreis","Rhein_Lahn_Kreis"]
["s_Rhein_Pfalz_Kreis","Rhein_Pfalz_Kreis"]
["s_Speyer","Speyer"]
["s_Südliche_Weinstraße","Südliche_Weinstraße"]
["s_Südwestpfalz","Südwestpfalz"]
["s_Trier","Trier"]
["s_Trier_Saarburg","Trier_Saarburg"]
["s_Vulkaneifel","Vulkaneifel"]
["s_Westerwaldkreis","Westerwaldkreis"]
["s_Worms","Worms"]
["s_Zweibrücken","Zweibrücken"]
["s_Merzig_Wadern","Merzig_Wadern"]
["s_Neunkirchen","Neunkirchen"]
["s_Saarbrücken","Saarbrücken"]
["s_Saarlouis","Saarlouis"]
["s_Saarpfalz_Kreis","Saarpfalz_Kreis"]
["s_Sankt_Wendel","Sankt_Wendel"]
["s_Bautzen","Bautzen"]
["s_Chemnitz","Chemnitz"]
["s_Dresden","Dresden"]
["s_Erzgebirgskreis","Erzgebirgskreis"]
["s_Görlitz","Görlitz"]
["s_Leipzig","Leipzig"]
["s_Leipzig_s","Leipzig_s"]
["s_Meißen","Meißen"]
["s_Mittelsachsen","Mittelsachsen"]
["s_Nordsachsen","Nordsachsen"]
["s_Sächsische_Schweiz_Osterzgebirge","Sächsische_Schweiz_Osterzgebirge"]
["s_Vogtlandkreis","Vogtlandkreis"]
["s_Zwickau","Zwickau"]
["s_Altmarkkreis_Salzwedel","Altmarkkreis_Salzwedel"]
["s_Anhalt_Bitterfeld","Anhalt_Bitterfeld"]
["s_Börde","Börde"]
["s_Burgenlandkreis","Burgenlandkreis"]
["s_Dessau_Roßlau","Dessau_Roßlau"]
["s_Halle_Saale","Halle_(Saale)"]
["s_Harz","Harz"]
["s_Jerichower_Land","Jerichower_Land"]
["s_Magdeburg","Magdeburg"]
["s_Mansfeld_Südharz","Mansfeld_Südharz"]
["s_Saalekreis","Saalekreis"]
["s_Salzlandkreis","Salzlandkreis"]
["s_Stendal","Stendal"]
["s_Wittenberg","Wittenberg"]
["s_Dithmarschen","Dithmarschen"]
["s_Flensburg","Flensburg"]
["s_Herzogtum_Lauenburg","Herzogtum_Lauenburg"]
["s_Kiel","Kiel"]
["s_Lübeck","Lübeck"]
["s_Neumünster","Neumünster"]
["s_Nordfriesland","Nordfriesland"]
["s_Ostholstein","Ostholstein"]
["s_Pinneberg","Pinneberg"]
["s_Plön","Plön"]
["s_Rendsburg_Eckernförde","Rendsburg_Eckernförde"]
["s_Schleswig_Flensburg","Schleswig_Flensburg"]
["s_Segeberg","Segeberg"]
["s_Steinburg","Steinburg"]
["s_Stormarn","Stormarn"]
["s_Altenburger_Land","Altenburger_Land"]
["s_Eichsfeld","Eichsfeld"]
["s_Eisenach","Eisenach"]
["s_Erfurt","Erfurt"]
["s_Gera","Gera"]
["s_Gotha","Gotha"]
["s_Greiz","Greiz"]
["s_Hildburghausen","Hildburghausen"]
["s_Ilm_Kreis","Ilm_Kreis"]
["s_Jena","Jena"]
["s_Kyffhäuserkreis","Kyffhäuserkreis"]
["s_Nordhausen","Nordhausen"]
["s_Saale_Holzland_Kreis","Saale_Holzland_Kreis"]
["s_Saale_Orla_Kreis","Saale_Orla_Kreis"]
["s_Saalfeld_Rudolstadt","Saalfeld_Rudolstadt"]
["s_Schmalkalden_Meiningen","Schmalkalden_Meiningen"]
["s_Sömmerda","Sömmerda"]
["s_Sonneberg","Sonneberg"]
["s_Suhl","Suhl"]
["s_Unstrut_Hainich_Kreis","Unstrut_Hainich_Kreis"]
["s_Wartburgkreis","Wartburgkreis"]
["s_Weimar","Weimar"]
["s_Weimarer_Land","Weimarer_Land"]
["s_Schleswig_Holstein","Schleswig_Holstein"]
["s_Niedersachsen","Niedersachsen"]
["s_Nordrhein_Westfalen","Nordrhein_Westfalen"]
["s_Hessen","Hessen"]
["s_Rheinland_Pfalz","Rheinland_Pfalz"]
["s_Baden_Württemberg","Baden_Württemberg"]
["s_Bayern","Bayern"]
["s_Saarland","Saarland"]
["s_Brandenburg","Brandenburg"]
["s_Mecklenburg_Vorpommern","Mecklenburg_Vorpommern"]
["s_Sachsen","Sachsen"]
["s_Sachsen_Anhalt","Sachsen_Anhalt"]
["s_Thüringen","Thüringen"]
["s_Berlin2","Berlin2"]
["s_Bremen2","Bremen2"]
["s_Hamburg2","Hamburg2"]

{"sheet":"City","index":3,"n_rows":2324,"n_cols":21,"rows_kept":2324,"cut":false,"hidden":true,"merged":[]}
["Bundesland","City","Longitude","Latitude","Bubble size","Bubble color","Bubble bins","Bubble bins on map",null,"Poziom","Poziom1","Poziom2","Poziom3","Poziom4","Poziom5","Poziom6","Poziom7","Poziom8","Poziom9","Poziom10","Poziom11"]
["Schleswig-Holstein","Heide",9.1019009999999998,54.195175999999996,{"$f":"IF(ISERROR(VLOOKUP(B2,miasta,3,0)),\"\",VLOOKUP(B2,miasta,3,0))","v":""},{"$f":"IF(ISERROR(VLOOKUP(City!B2,miasta,4,0)),\"\",IF(VLOOKUP(City!B2,miasta,4,0)=\"\",\"\",VLOOKUP(City!B2,miasta,4,0)))","v":""},{"$f":"G3-1000000","v":-1000020},{"$f":"\"<\"&G3","v":"<-20"},1,{"$f":"IF(ISERROR(VLOOKUP(F2,$G$2:$I$12,3,1)),\"\",VLOOKUP(F2,$G$2:$I$12,3,1))","v":""},{"$f":"IF($J2=COLUMN(K2)-10,$E2,\"\")","v":""},"","","","","","","","","",""]
["Schleswig-Holstein","Ratzeburg",10.77106,53.698962999999999,"",{"$f":"IF(ISERROR(VLOOKUP(City!B3,miasta,4,0)),\"\",IF(VLOOKUP(City!B3,miasta,4,0)=\"\",\"\",VLOOKUP(City!B3,miasta,4,0)))","v":""},{"$f":"Data!J2","v":-20},{"$f":"\"<\"&G4","v":"<-15"},2,{"$f":"IF(ISERROR(VLOOKUP(F3,$G$2:$I$12,3,1)),\"\",VLOOKUP(F3,$G$2:$I$12,3,1))","v":""},{"$f":"IF($J3=COLUMN(K3)-10,$E3,\"\")","v":""},"","","","","","","","","",""]
["Schleswig-Holstein","Husum",9.0600629999999995,54.483764000000001,"",{"$f":"IF(ISERROR(VLOOKUP(City!B4,miasta,4,0)),\"\",IF(VLOOKUP(City!B4,miasta,4,0)=\"\",\"\",VLOOKUP(City!B4,miasta,4,0)))","v":""},{"$f":"Data!J3","v":-15},{"$f":"\"<\"&G5","v":"<-10"},3,"","","","","","","","","","","",""]
["Schleswig-Holstein","Eutin",10.609505,54.133028000000003,"",{"$f":"IF(ISERROR(VLOOKUP(City!B5,miasta,4,0)),\"\",IF(VLOOKUP(City!B5,miasta,4,0)=\"\",\"\",VLOOKUP(City!B5,miasta,4,0)))","v":""},{"$f":"Data!J4","v":-10},"<-5",4,"","","","","","","","","","","",""]
["Schleswig-Holstein","Pinneberg",9.7938209999999994,53.654522999999998,"",{"$f":"IF(ISERROR(VLOOKUP(City!B6,miasta,4,0)),\"\",IF(VLOOKUP(City!B6,miasta,4,0)=\"\",\"\",VLOOKUP(City!B6,miasta,4,0)))","v":""},{"$f":"Data!J5","v":-5},"<0",5,"","","","","","","","","","","",""]
["Schleswig-Holstein","Plön",10.42595,54.16133,"",{"$f":"IF(ISERROR(VLOOKUP(City!B7,miasta,4,0)),\"\",IF(VLOOKUP(City!B7,miasta,4,0)=\"\",\"\",VLOOKUP(City!B7,miasta,4,0)))","v":""},{"$f":"Data!J6","v":0},"<5",6,"","","","","","","","","","","",""]
["Schleswig-Holstein","Rendsburg",9.6589910000000003,54.307549000000002,"",{"$f":"IF(ISERROR(VLOOKUP(City!B8,miasta,4,0)),\"\",IF(VLOOKUP(City!B8,miasta,4,0)=\"\",\"\",VLOOKUP(City!B8,miasta,4,0)))","v":""},{"$f":"Data!J7","v":5},"<10",7,"","","","","","","","","","","",""]
["Schleswig-Holstein","Schleswig",9.5632269999999995,54.523930999999997,"",{"$f":"IF(ISERROR(VLOOKUP(City!B9,miasta,4,0)),\"\",IF(VLOOKUP(City!B9,miasta,4,0)=\"\",\"\",VLOOKUP(City!B9,miasta,4,0)))","v":""},{"$f":"Data!J8","v":10},"<15",8,"","","","","","","","","","","",""]
["Schleswig-Holstein","Bad Segeberg",10.305365,53.939053000000001,"",{"$f":"IF(ISERROR(VLOOKUP(City!B10,miasta,4,0)),\"\",IF(VLOOKUP(City!B10,miasta,4,0)=\"\",\"\",VLOOKUP(City!B10,miasta,4,0)))","v":""},{"$f":"Data!J9","v":15},"<20",9,"","","","","","","","","","","",""]
["Schleswig-Holstein","Itzehoe",9.5121120000000001,53.934845000000003,"",{"$f":"IF(ISERROR(VLOOKUP(City!B11,miasta,4,0)),\"\",IF(VLOOKUP(City!B11,miasta,4,0)=\"\",\"\",VLOOKUP(City!B11,miasta,4,0)))","v":""},{"$f":"Data!J10","v":20},"<25",10,"","","","","","","","","","","",""]
["Schleswig-Holstein","Bad Oldesloe",10.373953,53.806483,"",{"$f":"IF(ISERROR(VLOOKUP(City!B12,miasta,4,0)),\"\",IF(VLOOKUP(City!B12,miasta,4,0)=\"\",\"\",VLOOKUP(City!B12,miasta,4,0)))","v":""},{"$f":"Data!J11","v":25},{"$f":"\">=\"&G12","v":">=25"},11,"","","","","","","","","","","",""]
["Niedersachsen","Gifhorn",10.549576,52.477116000000002,"",{"$f":"IF(ISERROR(VLOOKUP(City!B13,miasta,4,0)),\"\",IF(VLOOKUP(City!B13,miasta,4,0)=\"\",\"\",VLOOKUP(City!B13,miasta,4,0)))","v":""},null,null,null,"","","","","","","","","","","",""]
["Niedersachsen","Göttingen",9.9296900000000008,51.538352000000003,"",{"$f":"IF(ISERROR(VLOOKUP(City!B14,miasta,4,0)),\"\",IF(VLOOKUP(City!B14,miasta,4,0)=\"\",\"\",VLOOKUP(City!B14,miasta,4,0)))","v":""},null,null,null,"","","","","","","","","","","",""]
["Niedersachsen","Goslar",10.446574999999999,51.908334000000004,"",{"$f":"IF(ISERROR(VLOOKUP(City!B15,miasta,4,0)),\"\",IF(VLOOKUP(City!B15,miasta,4,0)=\"\",\"\",VLOOKUP(City!B15,miasta,4,0)))","v":""},null,null,null,"","","","","","","","","","","",""]
["Niedersachsen","Helmstedt",11.009544,52.228966,"",{"$f":"IF(ISERROR(VLOOKUP(City!B16,miasta,4,0)),\"\",IF(VLOOKUP(City!B16,miasta,4,0)=\"\",\"\",VLOOKUP(City!B16,miasta,4,0)))","v":""},null,null,null,"","","","","","","","","","","",""]
["Niedersachsen","Northeim",9.9959059999999997,51.700178999999999,"",{"$f":"IF(ISERROR(VLOOKUP(City!B17,miasta,4,0)),\"\",IF(VLOOKUP(City!B17,miasta,4,0)=\"\",\"\",VLOOKUP(City!B17,miasta,4,0)))","v":""},null,null,null,"","","","","","","","","","","",""]
["Niedersachsen","Osterode am Harz",10.258031000000001,51.729376999999999,"",{"$f":"IF(ISERROR(VLOOKUP(City!B18,miasta,4,0)),\"\",IF(VLOOKUP(City!B18,miasta,4,0)=\"\",\"\",VLOOKUP(City!B18,miasta,4,0)))","v":""},null,null,null,"","","","","","","","","","","",""]
["Niedersachsen","Peine",10.243266999999999,52.320410000000003,"",{"$f":"IF(ISERROR(VLOOKUP(City!B19,miasta,4,0)),\"\",IF(VLOOKUP(City!B19,miasta,4,0)=\"\",\"\",VLOOKUP(City!B19,miasta,4,0)))","v":""},null,null,null,"","","","","","","","","","","",""]
["Niedersachsen","Wolfenbüttel",10.540848,52.164040999999997,"",{"$f":"IF(ISERROR(VLOOKUP(City!B20,miasta,4,0)),\"\",IF(VLOOKUP(City!B20,miasta,4,0)=\"\",\"\",VLOOKUP(City!B20,miasta,4,0)))","v":""},null,null,null,"","","","","","","","","","","",""]
["Niedersachsen","Hannover",9.7320100000000007,52.375892,"",{"$f":"IF(ISERROR(VLOOKUP(City!B21,miasta,4,0)),\"\",IF(VLOOKUP(City!B21,miasta,4,0)=\"\",\"\",VLOOKUP(City!B21,miasta,4,0)))","v":""},null,null,null,"","","","","","","","","","","",""]
["Niedersachsen","Diepholz",8.3707879999999992,52.605646,"",{"$f":"IF(ISERROR(VLOOKUP(City!B22,miasta,4,0)),\"\",IF(VLOOKUP(City!B22,miasta,4,0)=\"\",\"\",VLOOKUP(City!B22,miasta,4,0)))","v":""},null,null,null,"","","","","","","","","","","",""]
["Niedersachsen","Hameln",9.3657629999999994,52.108687000000003,"",{"$f":"IF(ISERROR(VLOOKUP(City!B23,miasta,4,0)),\"\",IF(VLOOKUP(City!B23,miasta,4,0)=\"\",\"\",VLOOKUP(City!B23,miasta,4,0)))","v":""},null,null,null,"","","","","","","","","","","",""]
["Niedersachsen","Hildesheim",9.9658680000000004,52.140954000000001,"",{"$f":"IF(ISERROR(VLOOKUP(City!B24,miasta,4,0)),\"\",IF(VLOOKUP(City!B24,miasta,4,0)=\"\",\"\",VLOOKUP(City!B24,miasta,4,0)))","v":""},null,null,null,"","","","","","","","","","","",""]
["Niedersachsen","Holzminden",9.4599200000000003,51.825268999999999,"",{"$f":"IF(ISERROR(VLOOKUP(City!B25,miasta,4,0)),\"\",IF(VLOOKUP(City!B25,miasta,4,0)=\"\",\"\",VLOOKUP(City!B25,miasta,4,0)))","v":""},null,null,null,"","","","","","","","","","","",""]
["Niedersachsen","Nienburg/Weser",9.2557620000000007,52.635260000000002,"",{"$f":"IF(ISERROR(VLOOKUP(City!B26,miasta,4,0)),\"\",IF(VLOOKUP(City!B26,miasta,4,0)=\"\",\"\",VLOOKUP(City!B26,miasta,4,0)))","v":""},null,null,null,"","","",{"$f":"IF($J26=COLUMN(M26)-10,$E26,\"\")","v":""},"","","","","","","",""]
["Niedersachsen","Stadthagen",9.1998230000000003,52.325209999999998,"",{"$f":"IF(ISERROR(VLOOKUP(City!B27,miasta,4,0)),\"\",IF(VLOOKUP(City!B27,miasta,4,0)=\"\",\"\",VLOOKUP(City!B27,miasta,4,0)))","v":""},null,null,null,"",{"$f":"IF($J27=COLUMN(K27)-10,$E27,\"\")","v":""},"","","","","","","","","",""]
["Niedersachsen","Celle",10.063193999999999,52.616810999999998,"",{"$f":"IF(ISERROR(VLOOKUP(City!B28,miasta,4,0)),\"\",IF(VLOOKUP(City!B28,miasta,4,0)=\"\",\"\",VLOOKUP(City!B28,miasta,4,0)))","v":""},null,null,null,"","","","","","","","","","","",""]
["Niedersachsen","Cuxhaven",8.6930420000000002,53.863245999999997,"",{"$f":"IF(ISERROR(VLOOKUP(City!B29,miasta,4,0)),\"\",IF(VLOOKUP(City!B29,miasta,4,0)=\"\",\"\",VLOOKUP(City!B29,miasta,4,0)))","v":""},null,null,null,"","","","","","","","","","","",""]
["Niedersachsen","Winsen (Luhe)",10.212719999999999,53.357444000000001,"",{"$f":"IF(ISERROR(VLOOKUP(City!B30,miasta,4,0)),\"\",IF(VLOOKUP(City!B30,miasta,4,0)=\"\",\"\",VLOOKUP(City!B30,miasta,4,0)))","v":""},null,null,null,"","","","","","","","","","","",""]
["Niedersachsen","Lüchow (Wendland)",11.156798,52.970165000000001,"",{"$f":"IF(ISERROR(VLOOKUP(City!B31,miasta,4,0)),\"\",IF(VLOOKUP(City!B31,miasta,4,0)=\"\",\"\",VLOOKUP(City!B31,miasta,4,0)))","v":""},null,null,null,"","","","","","","","","","","",""]
["Niedersachsen","Lüneburg",10.411517999999999,53.246420999999998,"",{"$f":"IF(ISERROR(VLOOKUP(City!B32,miasta,4,0)),\"\",IF(VLOOKUP(City!B32,miasta,4,0)=\"\",\"\",VLOOKUP(City!B32,miasta,4,0)))","v":""},null,null,null,"","","","","","","","","","","",""]
["Niedersachsen","Osterholz-Scharmbeck",8.7900849999999995,53.227708,"",{"$f":"IF(ISERROR(VLOOKUP(City!B33,miasta,4,0)),\"\",IF(VLOOKUP(City!B33,miasta,4,0)=\"\",\"\",VLOOKUP(City!B33,miasta,4,0)))","v":""},null,null,null,"","","","","","","","","","","",""]
["Niedersachsen","Rotenburg (Wümme)",9.4,53.1,"",{"$f":"IF(ISERROR(VLOOKUP(City!B34,miasta,4,0)),\"\",IF(VLOOKUP(City!B34,miasta,4,0)=\"\",\"\",VLOOKUP(City!B34,miasta,4,0)))","v":""},null,null,null,"","","","","","","","","","","",""]
["Niedersachsen","Bad Fallingbostel",9.6957629999999995,52.866756000000002,"",{"$f":"IF(ISERROR(VLOOKUP(City!B35,miasta,4,0)),\"\",IF(VLOOKUP(City!B35,miasta,4,0)=\"\",\"\",VLOOKUP(City!B35,miasta,4,0)))","v":""},null,null,null,"","","","","","","","","","","",""]
["Niedersachsen","Stade",9.4709489999999992,53.592861999999997,"",{"$f":"IF(ISERROR(VLOOKUP(City!B36,miasta,4,0)),\"\",IF(VLOOKUP(City!B36,miasta,4,0)=\"\",\"\",VLOOKUP(City!B36,miasta,4,0)))","v":""},null,null,null,"","","","","","","","","","","",""]
["Niedersachsen","Uelzen",10.55803,52.965820000000001,"",{"$f":"IF(ISERROR(VLOOKUP(City!B37,miasta,4,0)),\"\",IF(VLOOKUP(City!B37,miasta,4,0)=\"\",\"\",VLOOKUP(City!B37,miasta,4,0)))","v":""},null,null,null,"","","","","","","","","","","",""]
["Niedersachsen","Verden (Aller)",9.2378269999999993,52.924954,"",{"$f":"IF(ISERROR(VLOOKUP(City!B38,miasta,4,0)),\"\",IF(VLOOKUP(City!B38,miasta,4,0)=\"\",\"\",VLOOKUP(City!B38,miasta,4,0)))","v":""},null,null,null,"","","","","","","","","","","",""]
["Niedersachsen","Westerstede",7.9263659999999998,53.255073000000003,"",{"$f":"IF(ISERROR(VLOOKUP(City!B39,miasta,4,0)),\"\",IF(VLOOKUP(City!B39,miasta,4,0)=\"\",\"\",VLOOKUP(City!B39,miasta,4,0)))","v":""},null,null,null,"","","","","","","","","","","",""]
["Niedersachsen","Aurich",7.4848309999999998,53.470838999999998,"",{"$f":"IF(ISERROR(VLOOKUP(City!B40,miasta,4,0)),\"\",IF(VLOOKUP(City!B40,miasta,4,0)=\"\",\"\",VLOOKUP(City!B40,miasta,4,0)))","v":""},null,null,null,"","","","","","","","","","","",""]
["Niedersachsen","Cloppenburg",8.0530159999999995,52.844197999999999,"",{"$f":"IF(ISERROR(VLOOKUP(City!B41,miasta,4,0)),\"\",IF(VLOOKUP(City!B41,miasta,4,0)=\"\",\"\",VLOOKUP(City!B41,miasta,4,0)))","v":""},null,null,null,"","","","","","","","","","","",""]
["Niedersachsen","Meppen",7.2994009999999996,52.695348000000003,"",{"$f":"IF(ISERROR(VLOOKUP(City!B42,miasta,4,0)),\"\",IF(VLOOKUP(City!B42,miasta,4,0)=\"\",\"\",VLOOKUP(City!B42,miasta,4,0)))","v":""},null,null,null,"","","","","","","","","","","",""]
["Niedersachsen","Jever",7.8969779999999998,53.570506000000002,"",{"$f":"IF(ISERROR(VLOOKUP(City!B43,miasta,4,0)),\"\",IF(VLOOKUP(City!B43,miasta,4,0)=\"\",\"\",VLOOKUP(City!B43,miasta,4,0)))","v":""},null,null,null,"","","","","","","","","","","",""]
["Niedersachsen","Nordhorn",7.0685710000000004,52.429580000000001,"",{"$f":"IF(ISERROR(VLOOKUP(City!B44,miasta,4,0)),\"\",IF(VLOOKUP(City!B44,miasta,4,0)=\"\",\"\",VLOOKUP(City!B44,miasta,4,0)))","v":""},null,null,null,"","","","","","","","","","","",""]
["Niedersachsen","Leer (Ostfriesland)",7.4679019999999996,53.235657000000003,"",{"$f":"IF(ISERROR(VLOOKUP(City!B45,miasta,4,0)),\"\",IF(VLOOKUP(City!B45,miasta,4,0)=\"\",\"\",VLOOKUP(City!B45,miasta,4,0)))","v":""},null,null,null,"","","","","","","","","","","",""]
["Niedersachsen","Wildeshausen",8.4258590000000009,52.891579,"",{"$f":"IF(ISERROR(VLOOKUP(City!B46,miasta,4,0)),\"\",IF(VLOOKUP(City!B46,miasta,4,0)=\"\",\"\",VLOOKUP(City!B46,miasta,4,0)))","v":""},null,null,null,"","","","","","","","","","","",""]
["Niedersachsen","Osnabrück",8.0471789999999999,52.279910999999998,"",{"$f":"IF(ISERROR(VLOOKUP(City!B47,miasta,4,0)),\"\",IF(VLOOKUP(City!B47,miasta,4,0)=\"\",\"\",VLOOKUP(City!B47,miasta,4,0)))","v":""},null,null,null,"","","","","","","","","","","",""]
["Niedersachsen","Vechta",8.2838759999999994,52.729225,"",{"$f":"IF(ISERROR(VLOOKUP(City!B48,miasta,4,0)),\"\",IF(VLOOKUP(City!B48,miasta,4,0)=\"\",\"\",VLOOKUP(City!B48,miasta,4,0)))","v":""},null,null,null,"","","","","","","","","","","",""]
["Niedersachsen","Brake (Unterweser)",8.477544,53.327236999999997,"",{"$f":"IF(ISERROR(VLOOKUP(City!B49,miasta,4,0)),\"\",IF(VLOOKUP(City!B49,miasta,4,0)=\"\",\"\",VLOOKUP(City!B49,miasta,4,0)))","v":""},null,null,null,"","","","","","","","","","","",""]
["Niedersachsen","Wittmund",7.7732890000000001,53.576630999999999,"",{"$f":"IF(ISERROR(VLOOKUP(City!B50,miasta,4,0)),\"\",IF(VLOOKUP(City!B50,miasta,4,0)=\"\",\"\",VLOOKUP(City!B50,miasta,4,0)))","v":""},null,null,null,"","","","","","","","","","","",""]
["Nordrhein-Westfalen","Kleve",6.1295400000000004,51.786726000000002,"",{"$f":"IF(ISERROR(VLOOKUP(City!B51,miasta,4,0)),\"\",IF(VLOOKUP(City!B51,miasta,4,0)=\"\",\"\",VLOOKUP(City!B51,miasta,4,0)))","v":""},null,null,null,"","","","","","","","","","","",""]
["Nordrhein-Westfalen","Mettmann",6.9740270000000004,51.250666000000002,"",{"$f":"IF(ISERROR(VLOOKUP(City!B52,miasta,4,0)),\"\",IF(VLOOKUP(City!B52,miasta,4,0)=\"\",\"\",VLOOKUP(City!B52,miasta,4,0)))","v":""},null,null,null,"","","","","","","","","","","",""]
["Nordrhein-Westfalen","Neuss",6.687951,51.204197000000001,"",{"$f":"IF(ISERROR(VLOOKUP(City!B53,miasta,4,0)),\"\",IF(VLOOKUP(City!B53,miasta,4,0)=\"\",\"\",VLOOKUP(City!B53,miasta,4,0)))","v":""},null,null,null,"","","","","","","","","","","",""]
["Nordrhein-Westfalen","Viersen",6.3965240000000003,51.255499,"",{"$f":"IF(ISERROR(VLOOKUP(City!B54,miasta,4,0)),\"\",IF(VLOOKUP(City!B54,miasta,4,0)=\"\",\"\",VLOOKUP(City!B54,miasta,4,0)))","v":""},null,null,null,"","","","","","",{"$f":"IF($J54=COLUMN(P54)-10,$E54,\"\")","v":""},"","","","",""]
["Nordrhein-Westfalen","Wesel",6.6295679999999999,51.664307999999998,"",{"$f":"IF(ISERROR(VLOOKUP(City!B55,miasta,4,0)),\"\",IF(VLOOKUP(City!B55,miasta,4,0)=\"\",\"\",VLOOKUP(City!B55,miasta,4,0)))","v":""},null,null,null,"","","","","","","","","","","",""]
["Nordrhein-Westfalen","Aachen",6.0838869999999998,50.775345999999999,"",{"$f":"IF(ISERROR(VLOOKUP(City!B56,miasta,4,0)),\"\",IF(VLOOKUP(City!B56,miasta,4,0)=\"\",\"\",VLOOKUP(City!B56,miasta,4,0)))","v":""},null,null,null,"","","","","","","","","","","",""]
["Nordrhein-Westfalen","Düren",6.4811050000000003,50.802951,"",{"$f":"IF(ISERROR(VLOOKUP(City!B57,miasta,4,0)),\"\",IF(VLOOKUP(City!B57,miasta,4,0)=\"\",\"\",VLOOKUP(City!B57,miasta,4,0)))","v":""},null,null,null,"","","","","","","","","","","",""]
["Nordrhein-Westfalen","Bergheim",6.6555020000000003,50.945194999999998,"",{"$f":"IF(ISERROR(VLOOKUP(City!B58,miasta,4,0)),\"\",IF(VLOOKUP(City!B58,miasta,4,0)=\"\",\"\",VLOOKUP(City!B58,miasta,4,0)))","v":""},null,null,null,"","","","","","","","","","","",""]
["Nordrhein-Westfalen","Euskirchen",6.7899950000000002,50.657438999999997,"",{"$f":"IF(ISERROR(VLOOKUP(City!B59,miasta,4,0)),\"\",IF(VLOOKUP(City!B59,miasta,4,0)=\"\",\"\",VLOOKUP(City!B59,miasta,4,0)))","v":""},null,null,null,"","","","","","","","","","","",""]
["Nordrhein-Westfalen","Heinsberg",6.1183730000000001,51.060037999999999,"",{"$f":"IF(ISERROR(VLOOKUP(City!B60,miasta,4,0)),\"\",IF(VLOOKUP(City!B60,miasta,4,0)=\"\",\"\",VLOOKUP(City!B60,miasta,4,0)))","v":""},null,null,null,"","","","","","","","","","","",""]
["Nordrhein-Westfalen","Gummersbach",7.5777999999999999,51.018965999999999,"",{"$f":"IF(ISERROR(VLOOKUP(City!B61,miasta,4,0)),\"\",IF(VLOOKUP(City!B61,miasta,4,0)=\"\",\"\",VLOOKUP(City!B61,miasta,4,0)))","v":""},null,null,null,"","","","","","","","","","","",""]
["Nordrhein-Westfalen","Bergisch Gladbach",7.1286209999999999,50.992308999999999,"",{"$f":"IF(ISERROR(VLOOKUP(City!B62,miasta,4,0)),\"\",IF(VLOOKUP(City!B62,miasta,4,0)=\"\",\"\",VLOOKUP(City!B62,miasta,4,0)))","v":""},null,null,null,"","","","","","","","","","","",""]
["Nordrhein-Westfalen","Siegburg",7.2074509999999998,50.799847,"",{"$f":"IF(ISERROR(VLOOKUP(City!B63,miasta,4,0)),\"\",IF(VLOOKUP(City!B63,miasta,4,0)=\"\",\"\",VLOOKUP(City!B63,miasta,4,0)))","v":""},null,null,null,"","","","","","","","","","","",""]
["Nordrhein-Westfalen","Borken",6.8594480000000004,51.848270999999997,"",{"$f":"IF(ISERROR(VLOOKUP(City!B64,miasta,4,0)),\"\",IF(VLOOKUP(City!B64,miasta,4,0)=\"\",\"\",VLOOKUP(City!B64,miasta,4,0)))","v":""},null,null,null,"","","","","","","","","","","",""]
["Nordrhein-Westfalen","Coesfeld",7.1675829999999996,51.938293999999999,"",{"$f":"IF(ISERROR(VLOOKUP(City!B65,miasta,4,0)),\"\",IF(VLOOKUP(City!B65,miasta,4,0)=\"\",\"\",VLOOKUP(City!B65,miasta,4,0)))","v":""},null,null,null,"","","","","","","","","","","",""]
["Nordrhein-Westfalen","Recklinghausen",7.1979449999999998,51.614064999999997,{"$f":"IF(ISERROR(VLOOKUP(B66,miasta,3,0)),\"\",VLOOKUP(B66,miasta,3,0))","v":""},{"$f":"IF(ISERROR(VLOOKUP(City!B66,miasta,4,0)),\"\",IF(VLOOKUP(City!B66,miasta,4,0)=\"\",\"\",VLOOKUP(City!B66,miasta,4,0)))","v":""},null,null,null,"","","","","","","","","","","",""]
["Nordrhein-Westfalen","Steinfurt",7.3441669999999997,52.147500000000001,"",{"$f":"IF(ISERROR(VLOOKUP(City!B67,miasta,4,0)),\"\",IF(VLOOKUP(City!B67,miasta,4,0)=\"\",\"\",VLOOKUP(City!B67,miasta,4,0)))","v":""},null,null,null,{"$f":"IF(ISERROR(VLOOKUP(F67,$G$2:$I$12,3,1)),\"\",VLOOKUP(F67,$G$2:$I$12,3,1))","v":""},"","","","","","","","","","",""]
["Nordrhein-Westfalen","Warendorf",7.9908989999999998,51.953868999999997,"",{"$f":"IF(ISERROR(VLOOKUP(City!B68,miasta,4,0)),\"\",IF(VLOOKUP(City!B68,miasta,4,0)=\"\",\"\",VLOOKUP(City!B68,miasta,4,0)))","v":""},null,null,null,"","","","","","","","","","","",""]
["Nordrhein-Westfalen","Gütersloh",8.3857529999999993,51.903238000000002,"",{"$f":"IF(ISERROR(VLOOKUP(City!B69,miasta,4,0)),\"\",IF(VLOOKUP(City!B69,miasta,4,0)=\"\",\"\",VLOOKUP(City!B69,miasta,4,0)))","v":""},null,null,null,"","","","","","","","","","","",""]
["Nordrhein-Westfalen","Herford",8.6793999999999993,52.117831000000002,"",{"$f":"IF(ISERROR(VLOOKUP(City!B70,miasta,4,0)),\"\",IF(VLOOKUP(City!B70,miasta,4,0)=\"\",\"\",VLOOKUP(City!B70,miasta,4,0)))","v":""},null,null,null,"","","","","","","","","","","",""]
["Nordrhein-Westfalen","Höxter",9.3771210000000007,51.777467999999999,"",{"$f":"IF(ISERROR(VLOOKUP(City!B71,miasta,4,0)),\"\",IF(VLOOKUP(City!B71,miasta,4,0)=\"\",\"\",VLOOKUP(City!B71,miasta,4,0)))","v":""},null,null,null,"","","","","","","","","","","",""]
["Nordrhein-Westfalen","Detmold",8.8686380000000007,51.938478000000003,"",{"$f":"IF(ISERROR(VLOOKUP(City!B72,miasta,4,0)),\"\",IF(VLOOKUP(City!B72,miasta,4,0)=\"\",\"\",VLOOKUP(City!B72,miasta,4,0)))","v":""},null,null,null,"","","","","","","","","","","",""]
["Nordrhein-Westfalen","Minden",8.8949210000000001,52.296492000000001,"",{"$f":"IF(ISERROR(VLOOKUP(City!B73,miasta,4,0)),\"\",IF(VLOOKUP(City!B73,miasta,4,0)=\"\",\"\",VLOOKUP(City!B73,miasta,4,0)))","v":""},null,null,null,"","","","","","","","","","","",""]
["Nordrhein-Westfalen","Paderborn",8.7575090000000007,51.718921000000002,"",{"$f":"IF(ISERROR(VLOOKUP(City!B74,miasta,4,0)),\"\",IF(VLOOKUP(City!B74,miasta,4,0)=\"\",\"\",VLOOKUP(City!B74,miasta,4,0)))","v":""},null,null,null,"","","","","","","","","","","",""]
["Nordrhein-Westfalen","Schwelm",7.291086,51.288266999999998,"",{"$f":"IF(ISERROR(VLOOKUP(City!B75,miasta,4,0)),\"\",IF(VLOOKUP(City!B75,miasta,4,0)=\"\",\"\",VLOOKUP(City!B75,miasta,4,0)))","v":""},null,null,null,"","","","","","","","","","","",""]
["Nordrhein-Westfalen","Meschede",8.2851300000000005,51.351125000000003,"",{"$f":"IF(ISERROR(VLOOKUP(City!B76,miasta,4,0)),\"\",IF(VLOOKUP(City!B76,miasta,4,0)=\"\",\"\",VLOOKUP(City!B76,miasta,4,0)))","v":""},null,null,null,"","","","","","","","","","","",""]
["Nordrhein-Westfalen","Lüdenscheid",7.6312600000000002,51.219104000000002,"",{"$f":"IF(ISERROR(VLOOKUP(City!B77,miasta,4,0)),\"\",IF(VLOOKUP(City!B77,miasta,4,0)=\"\",\"\",VLOOKUP(City!B77,miasta,4,0)))","v":""},null,null,null,"","","","","","","","","","","",""]
["Nordrhein-Westfalen","Olpe",7.8502939999999999,51.028210999999999,"",{"$f":"IF(ISERROR(VLOOKUP(City!B78,miasta,4,0)),\"\",IF(VLOOKUP(City!B78,miasta,4,0)=\"\",\"\",VLOOKUP(City!B78,miasta,4,0)))","v":""},null,null,null,"","","","","","","","","","","",""]
["Nordrhein-Westfalen","Siegen",8.0209589999999995,50.883848999999998,"",{"$f":"IF(ISERROR(VLOOKUP(City!B79,miasta,4,0)),\"\",IF(VLOOKUP(City!B79,miasta,4,0)=\"\",\"\",VLOOKUP(City!B79,miasta,4,0)))","v":""},null,null,null,"","","","","","","","","","","",""]
["Nordrhein-Westfalen","Soest",8.1057539999999992,51.571148000000001,"",{"$f":"IF(ISERROR(VLOOKUP(City!B80,miasta,4,0)),\"\",IF(VLOOKUP(City!B80,miasta,4,0)=\"\",\"\",VLOOKUP(City!B80,miasta,4,0)))","v":""},null,null,null,"","","","","","","","","","","",""]
["Nordrhein-Westfalen","Unna",7.6853109999999996,51.542634999999997,"",{"$f":"IF(ISERROR(VLOOKUP(City!B81,miasta,4,0)),\"\",IF(VLOOKUP(City!B81,miasta,4,0)=\"\",\"\",VLOOKUP(City!B81,miasta,4,0)))","v":""},null,null,null,"","","","","","","","","","","",""]
["Hessen","Heppenheim",8.6388890000000007,49.643050000000002,"",{"$f":"IF(ISERROR(VLOOKUP(City!B82,miasta,4,0)),\"\",IF(VLOOKUP(City!B82,miasta,4,0)=\"\",\"\",VLOOKUP(City!B82,miasta,4,0)))","v":""},null,null,null,"","","","","","","","","","","",""]
["Hessen","Darmstadt",8.6517619999999997,49.877648000000001,"",{"$f":"IF(ISERROR(VLOOKUP(City!B83,miasta,4,0)),\"\",IF(VLOOKUP(City!B83,miasta,4,0)=\"\",\"\",VLOOKUP(City!B83,miasta,4,0)))","v":""},null,null,null,"","","","","","","","","","","",""]
["Hessen","Groß-Gerau",8.4847040000000007,49.920366000000001,"",{"$f":"IF(ISERROR(VLOOKUP(City!B84,miasta,4,0)),\"\",IF(VLOOKUP(City!B84,miasta,4,0)=\"\",\"\",VLOOKUP(City!B84,miasta,4,0)))","v":""},null,null,null,"","","","","","","","","","","",""]
["Hessen","Bad Homburg vor der Höhe",8.6181619999999999,50.226830999999997,"",{"$f":"IF(ISERROR(VLOOKUP(City!B85,miasta,4,0)),\"\",IF(VLOOKUP(City!B85,miasta,4,0)=\"\",\"\",VLOOKUP(City!B85,miasta,4,0)))","v":""},null,null,null,"","","","","","","","","","","",""]
["Hessen","Gelnhausen",9.1863729999999997,50.204566,"",{"$f":"IF(ISERROR(VLOOKUP(City!B86,miasta,4,0)),\"\",IF(VLOOKUP(City!B86,miasta,4,0)=\"\",\"\",VLOOKUP(City!B86,miasta,4,0)))","v":""},null,null,null,"","","","","","","","","","","",""]
["Hessen","Hofheim am Taunus",8.4432299999999998,50.084183000000003,"",{"$f":"IF(ISERROR(VLOOKUP(City!B87,miasta,4,0)),\"\",IF(VLOOKUP(City!B87,miasta,4,0)=\"\",\"\",VLOOKUP(City!B87,miasta,4,0)))","v":""},null,null,null,"","","","","","","","","","","",""]
["Hessen","Erbach",8.9961819999999992,49.659025,"",{"$f":"IF(ISERROR(VLOOKUP(City!B88,miasta,4,0)),\"\",IF(VLOOKUP(City!B88,miasta,4,0)=\"\",\"\",VLOOKUP(City!B88,miasta,4,0)))","v":""},null,null,null,"","","","","","","","","","","",""]
["Hessen","Dietzenbach",8.7869609999999998,50.017291,"",{"$f":"IF(ISERROR(VLOOKUP(City!B89,miasta,4,0)),\"\",IF(VLOOKUP(City!B89,miasta,4,0)=\"\",\"\",VLOOKUP(City!B89,miasta,4,0)))","v":""},null,null,null,"","","","","","","","","","","",""]
["Hessen","Bad Schwalbach",8.0674609999999998,50.141627999999997,"",{"$f":"IF(ISERROR(VLOOKUP(City!B90,miasta,4,0)),\"\",IF(VLOOKUP(City!B90,miasta,4,0)=\"\",\"\",VLOOKUP(City!B90,miasta,4,0)))","v":""},null,null,null,"","","","","","","","","","","",""]
["Hessen","Friedberg (Hessen)",8.7561970000000002,50.334470000000003,"",{"$f":"IF(ISERROR(VLOOKUP(City!B91,miasta,4,0)),\"\",IF(VLOOKUP(City!B91,miasta,4,0)=\"\",\"\",VLOOKUP(City!B91,miasta,4,0)))","v":""},null,null,null,"",{"$f":"IF($J91=COLUMN(K91)-10,$E91,\"\")","v":""},"","","","","","","","","",""]
["Hessen","Gießen",8.6909259999999993,50.587142,"",{"$f":"IF(ISERROR(VLOOKUP(City!B92,miasta,4,0)),\"\",IF(VLOOKUP(City!B92,miasta,4,0)=\"\",\"\",VLOOKUP(City!B92,miasta,4,0)))","v":""},null,null,null,"","","","","","","","","","","",""]
["Hessen","Wetzlar",8.508165,50.558979999999998,"",{"$f":"IF(ISERROR(VLOOKUP(City!B93,miasta,4,0)),\"\",IF(VLOOKUP(City!B93,miasta,4,0)=\"\",\"\",VLOOKUP(City!B93,miasta,4,0)))","v":""},null,null,null,"","","","","","","","","","","",""]
["Hessen","Limburg an der Lahn",8.0795779999999997,50.398600999999999,"",{"$f":"IF(ISERROR(VLOOKUP(City!B94,miasta,4,0)),\"\",IF(VLOOKUP(City!B94,miasta,4,0)=\"\",\"\",VLOOKUP(City!B94,miasta,4,0)))","v":""},null,null,null,"","","","","","","","","","","",""]
["Hessen","Marburg",8.7667929999999998,50.802173000000003,"",{"$f":"IF(ISERROR(VLOOKUP(City!B95,miasta,4,0)),\"\",IF(VLOOKUP(City!B95,miasta,4,0)=\"\",\"\",VLOOKUP(City!B95,miasta,4,0)))","v":""},null,null,null,"","","","","","","","","","","",""]
["Hessen","Lauterbach (Hessen)",9.3978210000000004,50.634852000000002,"",{"$f":"IF(ISERROR(VLOOKUP(City!B96,miasta,4,0)),\"\",IF(VLOOKUP(City!B96,miasta,4,0)=\"\",\"\",VLOOKUP(City!B96,miasta,4,0)))","v":""},null,null,null,"","","","","","","","","",{"$f":"IF($J96=COLUMN(S96)-10,$E96,\"\")","v":""},"",""]
["Hessen","Fulda",9.6808449999999997,50.555810000000001,"",{"$f":"IF(ISERROR(VLOOKUP(City!B97,miasta,4,0)),\"\",IF(VLOOKUP(City!B97,miasta,4,0)=\"\",\"\",VLOOKUP(City!B97,miasta,4,0)))","v":""},null,null,null,"","","","","","","","","","","",""]
["Hessen","Bad Hersfeld",9.7019680000000008,50.870134999999998,"",{"$f":"IF(ISERROR(VLOOKUP(City!B98,miasta,4,0)),\"\",IF(VLOOKUP(City!B98,miasta,4,0)=\"\",\"\",VLOOKUP(City!B98,miasta,4,0)))","v":""},null,null,null,"","","","","","","","","","","",""]
["Hessen","Kassel",9.4797460000000004,51.312711,"",{"$f":"IF(ISERROR(VLOOKUP(City!B99,miasta,4,0)),\"\",IF(VLOOKUP(City!B99,miasta,4,0)=\"\",\"\",VLOOKUP(City!B99,miasta,4,0)))","v":""},null,null,null,"","","","","","","","","","","",""]
["Hessen","Homberg (Efze)",9.4055499999999999,51.033880000000003,"",{"$f":"IF(ISERROR(VLOOKUP(City!B100,miasta,4,0)),\"\",IF(VLOOKUP(City!B100,miasta,4,0)=\"\",\"\",VLOOKUP(City!B100,miasta,4,0)))","v":""},null,null,null,"","","","","","","","","","","",""]
["Hessen","Korbach",8.8709880000000005,51.277406999999997,"",{"$f":"IF(ISERROR(VLOOKUP(City!B101,miasta,4,0)),\"\",IF(VLOOKUP(City!B101,miasta,4,0)=\"\",\"\",VLOOKUP(City!B101,miasta,4,0)))","v":""},null,null,null,"","","","","","","","","","","",""]
["Hessen","Eschwege",10.039773,51.187666,"",{"$f":"IF(ISERROR(VLOOKUP(City!B102,miasta,4,0)),\"\",IF(VLOOKUP(City!B102,miasta,4,0)=\"\",\"\",VLOOKUP(City!B102,miasta,4,0)))","v":""},null,null,null,"","","","","","","","","","","",""]
["Rheinland-Pfalz","Bad Neuenahr-Ahrweiler",7.1197179999999998,50.541815,"",{"$f":"IF(ISERROR(VLOOKUP(City!B103,miasta,4,0)),\"\",IF(VLOOKUP(City!B103,miasta,4,0)=\"\",\"\",VLOOKUP(City!B103,miasta,4,0)))","v":""},null,null,null,"","","","","","","","","","","",""]
["Rheinland-Pfalz","Altenkirchen (Westerwald)",7.645556,50.687221999999998,"",{"$f":"IF(ISERROR(VLOOKUP(City!B104,miasta,4,0)),\"\",IF(VLOOKUP(City!B104,miasta,4,0)=\"\",\"\",VLOOKUP(City!B104,miasta,4,0)))","v":""},null,null,null,"","","","","","","","","","","",""]
["Rheinland-Pfalz","Bad Kreuznach",7.8731350000000004,49.844016000000003,"",{"$f":"IF(ISERROR(VLOOKUP(City!B105,miasta,4,0)),\"\",IF(VLOOKUP(City!B105,miasta,4,0)=\"\",\"\",VLOOKUP(City!B105,miasta,4,0)))","v":""},null,null,null,"","","","","","","","","","","",""]
["Rheinland-Pfalz","Birkenfeld",7.1631609999999997,49.651243999999998,"",{"$f":"IF(ISERROR(VLOOKUP(City!B106,miasta,4,0)),\"\",IF(VLOOKUP(City!B106,miasta,4,0)=\"\",\"\",VLOOKUP(City!B106,miasta,4,0)))","v":""},null,null,null,"","","","","","","","","","","",""]
["Rheinland-Pfalz","Cochem",7.1722070000000002,50.148256000000003,"",{"$f":"IF(ISERROR(VLOOKUP(City!B107,miasta,4,0)),\"\",IF(VLOOKUP(City!B107,miasta,4,0)=\"\",\"\",VLOOKUP(City!B107,miasta,4,0)))","v":""},null,null,null,"","","","","","","","","","","",""]
["Rheinland-Pfalz","Koblenz",7.5899070000000002,50.360025,"",{"$f":"IF(ISERROR(VLOOKUP(City!B108,miasta,4,0)),\"\",IF(VLOOKUP(City!B108,miasta,4,0)=\"\",\"\",VLOOKUP(City!B108,miasta,4,0)))","v":""},null,null,null,"","","","","","","","","","","",""]
["Rheinland-Pfalz","Neuwied",7.4616360000000004,50.442746,"",{"$f":"IF(ISERROR(VLOOKUP(City!B109,miasta,4,0)),\"\",IF(VLOOKUP(City!B109,miasta,4,0)=\"\",\"\",VLOOKUP(City!B109,miasta,4,0)))","v":""},null,null,null,"","","","","","","","","","","",""]
["Rheinland-Pfalz","Simmern/Hunsrück",7.516667,49.983333000000002,"",{"$f":"IF(ISERROR(VLOOKUP(City!B110,miasta,4,0)),\"\",IF(VLOOKUP(City!B110,miasta,4,0)=\"\",\"\",VLOOKUP(City!B110,miasta,4,0)))","v":""},null,null,null,"","","","","","","","","","","",""]
["Rheinland-Pfalz","Bad Ems",7.7105600000000001,50.338099999999997,"",{"$f":"IF(ISERROR(VLOOKUP(City!B111,miasta,4,0)),\"\",IF(VLOOKUP(City!B111,miasta,4,0)=\"\",\"\",VLOOKUP(City!B111,miasta,4,0)))","v":""},null,null,null,"","","","","","","","","","","",""]
["Rheinland-Pfalz","Montabaur",7.8257950000000003,50.435839000000001,"",{"$f":"IF(ISERROR(VLOOKUP(City!B112,miasta,4,0)),\"\",IF(VLOOKUP(City!B112,miasta,4,0)=\"\",\"\",VLOOKUP(City!B112,miasta,4,0)))","v":""},null,null,null,"","","","","","","","","","","",""]
["Rheinland-Pfalz","Wittlich",6.8953379999999997,49.985418000000003,"",{"$f":"IF(ISERROR(VLOOKUP(City!B113,miasta,4,0)),\"\",IF(VLOOKUP(City!B113,miasta,4,0)=\"\",\"\",VLOOKUP(City!B113,miasta,4,0)))","v":""},null,null,null,"","","","","","","","","","","",""]
["Rheinland-Pfalz","Bitburg",6.5298600000000002,49.966414999999998,"",{"$f":"IF(ISERROR(VLOOKUP(City!B114,miasta,4,0)),\"\",IF(VLOOKUP(City!B114,miasta,4,0)=\"\",\"\",VLOOKUP(City!B114,miasta,4,0)))","v":""},null,null,null,"","","","","","","","","","","",""]
["Rheinland-Pfalz","Daun",6.8232860000000004,50.195245,"",{"$f":"IF(ISERROR(VLOOKUP(City!B115,miasta,4,0)),\"\",IF(VLOOKUP(City!B115,miasta,4,0)=\"\",\"\",VLOOKUP(City!B115,miasta,4,0)))","v":""},null,null,null,"","","","","","","","","","","",""]
["Rheinland-Pfalz","Trier",6.6347509999999996,49.746882999999997,"",{"$f":"IF(ISERROR(VLOOKUP(City!B116,miasta,4,0)),\"\",IF(VLOOKUP(City!B116,miasta,4,0)=\"\",\"\",VLOOKUP(City!B116,miasta,4,0)))","v":""},null,null,null,"","","","","","","","","","","",""]
["Rheinland-Pfalz","Alzey",8.1171129999999998,49.746200999999999,"",{"$f":"IF(ISERROR(VLOOKUP(City!B117,miasta,4,0)),\"\",IF(VLOOKUP(City!B117,miasta,4,0)=\"\",\"\",VLOOKUP(City!B117,miasta,4,0)))","v":""},null,null,null,"","","","","","","","","","","",""]
["Rheinland-Pfalz","Bad Dürkheim",8.1654230000000005,49.459837,"",{"$f":"IF(ISERROR(VLOOKUP(City!B118,miasta,4,0)),\"\",IF(VLOOKUP(City!B118,miasta,4,0)=\"\",\"\",VLOOKUP(City!B118,miasta,4,0)))","v":""},null,null,null,"","","","","","","","","","","",""]
["Rheinland-Pfalz","Kirchheimbolanden",8.0116399999999999,49.662900999999998,"",{"$f":"IF(ISERROR(VLOOKUP(City!B119,miasta,4,0)),\"\",IF(VLOOKUP(City!B119,miasta,4,0)=\"\",\"\",VLOOKUP(City!B119,miasta,4,0)))","v":""},null,null,null,"","","","","","","","","","","",""]
["Rheinland-Pfalz","Germersheim",8.3668150000000008,49.214024000000002,"",{"$f":"IF(ISERROR(VLOOKUP(City!B120,miasta,4,0)),\"\",IF(VLOOKUP(City!B120,miasta,4,0)=\"\",\"\",VLOOKUP(City!B120,miasta,4,0)))","v":""},null,null,null,"","","","","","","","","","","",""]
["Rheinland-Pfalz","Kaiserslautern",7.7491260000000004,49.440066000000002,"",{"$f":"IF(ISERROR(VLOOKUP(City!B121,miasta,4,0)),\"\",IF(VLOOKUP(City!B121,miasta,4,0)=\"\",\"\",VLOOKUP(City!B121,miasta,4,0)))","v":""},null,null,null,"","","","","","","","","","","",""]
["Rheinland-Pfalz","Kusel",7.406453,49.538375000000002,"",{"$f":"IF(ISERROR(VLOOKUP(City!B122,miasta,4,0)),\"\",IF(VLOOKUP(City!B122,miasta,4,0)=\"\",\"\",VLOOKUP(City!B122,miasta,4,0)))","v":""},null,null,null,"","","","","","","","","","","",""]
["Rheinland-Pfalz","Landau in der Pfalz",8.1185620000000007,49.198886000000002,"",{"$f":"IF(ISERROR(VLOOKUP(City!B123,miasta,4,0)),\"\",IF(VLOOKUP(City!B123,miasta,4,0)=\"\",\"\",VLOOKUP(City!B123,miasta,4,0)))","v":""},null,null,null,"","","","","","","","","","","",""]
["Rheinland-Pfalz","Ludwigshafen am Rhein",8.4451800000000006,49.477409999999999,"",{"$f":"IF(ISERROR(VLOOKUP(City!B124,miasta,4,0)),\"\",IF(VLOOKUP(City!B124,miasta,4,0)=\"\",\"\",VLOOKUP(City!B124,miasta,4,0)))","v":""},null,null,null,"","","","","","","","","","","",""]
["Rheinland-Pfalz","Ingelheim am Rhein",8.0530349999999995,49.974269,"",{"$f":"IF(ISERROR(VLOOKUP(City!B125,miasta,4,0)),\"\",IF(VLOOKUP(City!B125,miasta,4,0)=\"\",\"\",VLOOKUP(City!B125,miasta,4,0)))","v":""},null,null,null,"","",{"$f":"IF($J125=COLUMN(L125)-10,$E125,\"\")","v":""},"","","","","","","","",""]
["Rheinland-Pfalz","Pirmasens",7.6002159999999996,49.201554999999999,"",{"$f":"IF(ISERROR(VLOOKUP(City!B126,miasta,4,0)),\"\",IF(VLOOKUP(City!B126,miasta,4,0)=\"\",\"\",VLOOKUP(City!B126,miasta,4,0)))","v":""},null,null,null,"",{"$f":"IF($J126=COLUMN(K126)-10,$E126,\"\")","v":""},"","","","","","","","","",""]
["Baden-Württemberg","Böblingen",9.0088299999999997,48.681331,0,{"$f":"IF(ISERROR(VLOOKUP(City!B127,miasta,4,0)),\"\",IF(VLOOKUP(City!B127,miasta,4,0)=\"\",\"\",VLOOKUP(City!B127,miasta,4,0)))","v":""},null,null,null,"","","","","","","","","","","",""]
["Baden-Württemberg","Esslingen am Neckar",9.320112,48.743343000000003,0,{"$f":"IF(ISERROR(VLOOKUP(City!B128,miasta,4,0)),\"\",IF(VLOOKUP(City!B128,miasta,4,0)=\"\",\"\",VLOOKUP(City!B128,miasta,4,0)))","v":""},null,null,null,"","","","","","","","","","","",""]
["Baden-Württemberg","Göppingen",9.651249,48.705438000000001,0,{"$f":"IF(ISERROR(VLOOKUP(City!B129,miasta,4,0)),\"\",IF(VLOOKUP(City!B129,miasta,4,0)=\"\",\"\",VLOOKUP(City!B129,miasta,4,0)))","v":""},null,null,null,"","","","","","","","","","","",""]
["Baden-Württemberg","Ludwigsburg",9.1954639999999994,48.894061999999998,{"$f":"IF(ISERROR(VLOOKUP(B130,miasta,3,0)),\"\",VLOOKUP(B130,miasta,3,0))","v":0},{"$f":"IF(ISERROR(VLOOKUP(City!B130,miasta,4,0)),\"\",IF(VLOOKUP(City!B130,miasta,4,0)=\"\",\"\",VLOOKUP(City!B130,miasta,4,0)))","v":""},null,null,null,"","","","","","","","","","","",""]
["Baden-Württemberg","Waiblingen",9.3082340000000006,48.826352999999997,0,{"$f":"IF(ISERROR(VLOOKUP(City!B131,miasta,4,0)),\"\",IF(VLOOKUP(City!B131,miasta,4,0)=\"\",\"\",VLOOKUP(City!B131,miasta,4,0)))","v":""},null,null,null,{"$f":"IF(ISERROR(VLOOKUP(F131,$G$2:$I$12,3,1)),\"\",VLOOKUP(F131,$G$2:$I$12,3,1))","v":""},"","","","","","","","","","",""]
["Baden-Württemberg","Heilbronn",9.2108790000000003,49.142693000000001,0,{"$f":"IF(ISERROR(VLOOKUP(City!B132,miasta,4,0)),\"\",IF(VLOOKUP(City!B132,miasta,4,0)=\"\",\"\",VLOOKUP(City!B132,miasta,4,0)))","v":""},null,null,null,"","","","","","","","","","","",""]
["Baden-Württemberg","Künzelsau",9.6909299999999998,49.284148999999999,0,{"$f":"IF(ISERROR(VLOOKUP(City!B133,miasta,4,0)),\"\",IF(VLOOKUP(City!B133,miasta,4,0)=\"\",\"\",VLOOKUP(City!B133,miasta,4,0)))","v":""},null,null,null,"","","","","","","","","","","",""]
["Baden-Württemberg","Schwäbisch Hall",9.7455859999999994,49.116703000000001,0,{"$f":"IF(ISERROR(VLOOKUP(City!B134,miasta,4,0)),\"\",IF(VLOOKUP(City!B134,miasta,4,0)=\"\",\"\",VLOOKUP(City!B134,miasta,4,0)))","v":""},null,null,null,"","","","","","","","","","","",""]
["Baden-Württemberg","Tauberbischofsheim",9.6559609999999996,49.62632,0,{"$f":"IF(ISERROR(VLOOKUP(City!B135,miasta,4,0)),\"\",IF(VLOOKUP(City!B135,miasta,4,0)=\"\",\"\",VLOOKUP(City!B135,miasta,4,0)))","v":""},null,null,null,"","","","","","","","","","","",""]
["Baden-Württemberg","Heidenheim an der Brenz",10.154444,48.683508000000003,0,{"$f":"IF(ISERROR(VLOOKUP(City!B136,miasta,4,0)),\"\",IF(VLOOKUP(City!B136,miasta,4,0)=\"\",\"\",VLOOKUP(City!B136,miasta,4,0)))","v":""},null,null,null,"","","","","","","","","","","",""]
["Baden-Württemberg","Aalen",10.098564,48.845860000000002,0,{"$f":"IF(ISERROR(VLOOKUP(City!B137,miasta,4,0)),\"\",IF(VLOOKUP(City!B137,miasta,4,0)=\"\",\"\",VLOOKUP(City!B137,miasta,4,0)))","v":""},null,null,null,"","","","","","","","","","","",""]
["Baden-Württemberg","Karlsruhe",8.3799440000000001,49.009148000000003,0,{"$f":"IF(ISERROR(VLOOKUP(City!B138,miasta,4,0)),\"\",IF(VLOOKUP(City!B138,miasta,4,0)=\"\",\"\",VLOOKUP(City!B138,miasta,4,0)))","v":""},null,null,null,"","","","","","","","","","","",""]
["Baden-Württemberg","Rastatt",8.2095760000000002,48.859088,0,{"$f":"IF(ISERROR(VLOOKUP(City!B139,miasta,4,0)),\"\",IF(VLOOKUP(City!B139,miasta,4,0)=\"\",\"\",VLOOKUP(City!B139,miasta,4,0)))","v":""},null,null,null,"","","","","","","","","","","",""]
["Baden-Württemberg","Mosbach",9.1293830000000007,49.348914999999998,0,{"$f":"IF(ISERROR(VLOOKUP(City!B140,miasta,4,0)),\"\",IF(VLOOKUP(City!B140,miasta,4,0)=\"\",\"\",VLOOKUP(City!B140,miasta,4,0)))","v":""},null,null,null,"","","","","","","","","","","",""]
["Baden-Württemberg","Heidelberg",8.6724340000000009,49.398752000000002,0,{"$f":"IF(ISERROR(VLOOKUP(City!B141,miasta,4,0)),\"\",IF(VLOOKUP(City!B141,miasta,4,0)=\"\",\"\",VLOOKUP(City!B141,miasta,4,0)))","v":""},null,null,null,"","","","","","","","","","","",""]
["Baden-Württemberg","Calw",8.7472440000000002,48.712211000000003,0,{"$f":"IF(ISERROR(VLOOKUP(City!B142,miasta,4,0)),\"\",IF(VLOOKUP(City!B142,miasta,4,0)=\"\",\"\",VLOOKUP(City!B142,miasta,4,0)))","v":""},null,null,null,"","","","","","","","","","","",""]
["Baden-Württemberg","Pforzheim",8.6932930000000006,48.892637999999998,0,{"$f":"IF(ISERROR(VLOOKUP(City!B143,miasta,4,0)),\"\",IF(VLOOKUP(City!B143,miasta,4,0)=\"\",\"\",VLOOKUP(City!B143,miasta,4,0)))","v":""},null,null,null,"","","","","","","","","","","",""]
["Baden-Württemberg","Freudenstadt",8.417999,48.464480000000002,0,{"$f":"IF(ISERROR(VLOOKUP(City!B144,miasta,4,0)),\"\",IF(VLOOKUP(City!B144,miasta,4,0)=\"\",\"\",VLOOKUP(City!B144,miasta,4,0)))","v":""},null,null,null,"","","","","","","","","","","",""]
["Baden-Württemberg","Freiburg im Breisgau",7.842104,47.999008000000003,0,{"$f":"IF(ISERROR(VLOOKUP(City!B145,miasta,4,0)),\"\",IF(VLOOKUP(City!B145,miasta,4,0)=\"\",\"\",VLOOKUP(City!B145,miasta,4,0)))","v":""},null,null,null,"","","","","","","","","","","",""]
["Baden-Württemberg","Emmendingen",7.8539050000000001,48.117092,0,{"$f":"IF(ISERROR(VLOOKUP(City!B146,miasta,4,0)),\"\",IF(VLOOKUP(City!B146,miasta,4,0)=\"\",\"\",VLOOKUP(City!B146,miasta,4,0)))","v":""},null,null,null,"","","","","","","","","","","",""]
["Baden-Württemberg","Offenburg",7.949287,48.476925000000001,0,{"$f":"IF(ISERROR(VLOOKUP(City!B147,miasta,4,0)),\"\",IF(VLOOKUP(City!B147,miasta,4,0)=\"\",\"\",VLOOKUP(City!B147,miasta,4,0)))","v":""},null,null,null,"","","","","","","","","","","",""]
["Baden-Württemberg","Rottweil",8.6316220000000001,48.161068999999998,0,{"$f":"IF(ISERROR(VLOOKUP(City!B148,miasta,4,0)),\"\",IF(VLOOKUP(City!B148,miasta,4,0)=\"\",\"\",VLOOKUP(City!B148,miasta,4,0)))","v":""},null,null,null,"","","","","","","","","","","",""]
["Baden-Württemberg","Villingen-Schwenningen",8.4972960000000004,48.063543000000003,0,{"$f":"IF(ISERROR(VLOOKUP(City!B149,miasta,4,0)),\"\",IF(VLOOKUP(City!B149,miasta,4,0)=\"\",\"\",VLOOKUP(City!B149,miasta,4,0)))","v":""},null,null,null,"","","","","","","","","","","",""]
["Baden-Württemberg","Tuttlingen",8.8192090000000007,47.982332,0,{"$f":"IF(ISERROR(VLOOKUP(City!B150,miasta,4,0)),\"\",IF(VLOOKUP(City!B150,miasta,4,0)=\"\",\"\",VLOOKUP(City!B150,miasta,4,0)))","v":""},null,null,null,"","","","","","","","","","","",""]
["Baden-Württemberg","Konstanz",9.1732379999999996,47.677950000000003,0,{"$f":"IF(ISERROR(VLOOKUP(City!B151,miasta,4,0)),\"\",IF(VLOOKUP(City!B151,miasta,4,0)=\"\",\"\",VLOOKUP(City!B151,miasta,4,0)))","v":""},null,null,null,"","","","","","","","","","","",""]
["Baden-Württemberg","Lörrach",7.6709250000000004,47.616919000000003,0,{"$f":"IF(ISERROR(VLOOKUP(City!B152,miasta,4,0)),\"\",IF(VLOOKUP(City!B152,miasta,4,0)=\"\",\"\",VLOOKUP(City!B152,miasta,4,0)))","v":""},null,null,null,"","","","","","","","","","","",""]
["Baden-Württemberg","Waldshut-Tiengen",8.2719149999999999,47.632725000000001,0,{"$f":"IF(ISERROR(VLOOKUP(City!B153,miasta,4,0)),\"\",IF(VLOOKUP(City!B153,miasta,4,0)=\"\",\"\",VLOOKUP(City!B153,miasta,4,0)))","v":""},null,null,null,"","","","","","","","","","","",""]
["Baden-Württemberg","Reutlingen",9.2038039999999999,48.506939000000003,0,{"$f":"IF(ISERROR(VLOOKUP(City!B154,miasta,4,0)),\"\",IF(VLOOKUP(City!B154,miasta,4,0)=\"\",\"\",VLOOKUP(City!B154,miasta,4,0)))","v":""},null,null,null,"","","","","","","","","","","",""]
["Baden-Württemberg","Tübingen",9.0576450000000008,48.521636000000001,0,{"$f":"IF(ISERROR(VLOOKUP(City!B155,miasta,4,0)),\"\",IF(VLOOKUP(City!B155,miasta,4,0)=\"\",\"\",VLOOKUP(City!B155,miasta,4,0)))","v":""},null,null,null,"","","","","","","","","","","",""]
["Baden-Württemberg","Balingen",8.8495299999999997,48.274821000000003,0,{"$f":"IF(ISERROR(VLOOKUP(City!B156,miasta,4,0)),\"\",IF(VLOOKUP(City!B156,miasta,4,0)=\"\",\"\",VLOOKUP(City!B156,miasta,4,0)))","v":""},null,null,null,"","","","","","","","","","","",""]
["Baden-Württemberg","Ulm",9.9793489999999991,48.404297999999997,0,{"$f":"IF(ISERROR(VLOOKUP(City!B157,miasta,4,0)),\"\",IF(VLOOKUP(City!B157,miasta,4,0)=\"\",\"\",VLOOKUP(City!B157,miasta,4,0)))","v":""},null,null,null,"","","","","","","","","","","",""]
["Baden-Württemberg","Biberach an der Riß",9.7901520000000009,48.095146999999997,0,{"$f":"IF(ISERROR(VLOOKUP(City!B158,miasta,4,0)),\"\",IF(VLOOKUP(City!B158,miasta,4,0)=\"\",\"\",VLOOKUP(City!B158,miasta,4,0)))","v":""},null,null,null,"","","","","","","","","","","",""]
["Baden-Württemberg","Friedrichshafen",9.4800109999999993,47.661765000000003,0,{"$f":"IF(ISERROR(VLOOKUP(City!B159,miasta,4,0)),\"\",IF(VLOOKUP(City!B159,miasta,4,0)=\"\",\"\",VLOOKUP(City!B159,miasta,4,0)))","v":""},null,null,null,"","","","","","","","","","","",""]
["Baden-Württemberg","Ravensburg",9.6121300000000005,47.778269999999999,0,{"$f":"IF(ISERROR(VLOOKUP(City!B160,miasta,4,0)),\"\",IF(VLOOKUP(City!B160,miasta,4,0)=\"\",\"\",VLOOKUP(City!B160,miasta,4,0)))","v":""},null,null,null,"","","","","","","","","","","",""]
["Baden-Württemberg","Sigmaringen",9.228612,48.091292000000003,0,{"$f":"IF(ISERROR(VLOOKUP(City!B161,miasta,4,0)),\"\",IF(VLOOKUP(City!B161,miasta,4,0)=\"\",\"\",VLOOKUP(City!B161,miasta,4,0)))","v":""},null,null,null,"","","","","","","","","","","",""]
["Bayern","Altötting",12.676784,48.224643,"",{"$f":"IF(ISERROR(VLOOKUP(City!B162,miasta,4,0)),\"\",IF(VLOOKUP(City!B162,miasta,4,0)=\"\",\"\",VLOOKUP(City!B162,miasta,4,0)))","v":""},null,null,null,"","","","","","","","","","","",""]
["Bayern","Bad Reichenhall",12.881588000000001,47.730336000000001,"",{"$f":"IF(ISERROR(VLOOKUP(City!B163,miasta,4,0)),\"\",IF(VLOOKUP(City!B163,miasta,4,0)=\"\",\"\",VLOOKUP(City!B163,miasta,4,0)))","v":""},null,null,null,"","","","","","","","","","","",""]
["Bayern","Bad Tölz",11.565151999999999,47.761474,"",{"$f":"IF(ISERROR(VLOOKUP(City!B164,miasta,4,0)),\"\",IF(VLOOKUP(City!B164,miasta,4,0)=\"\",\"\",VLOOKUP(City!B164,miasta,4,0)))","v":""},null,null,null,"","","","","","","","","","","",""]
["Bayern","Dachau",11.433902,48.262998000000003,"",{"$f":"IF(ISERROR(VLOOKUP(City!B165,miasta,4,0)),\"\",IF(VLOOKUP(City!B165,miasta,4,0)=\"\",\"\",VLOOKUP(City!B165,miasta,4,0)))","v":""},null,null,null,"","","","","","","","","","","",""]
["Bayern","Ebersberg",11.966967,48.078001,"",{"$f":"IF(ISERROR(VLOOKUP(City!B166,miasta,4,0)),\"\",IF(VLOOKUP(City!B166,miasta,4,0)=\"\",\"\",VLOOKUP(City!B166,miasta,4,0)))","v":""},null,null,null,"","","","","","","","","","","",""]
["Bayern","Eichstätt",11.189985999999999,48.891250999999997,"",{"$f":"IF(ISERROR(VLOOKUP(City!B167,miasta,4,0)),\"\",IF(VLOOKUP(City!B167,miasta,4,0)=\"\",\"\",VLOOKUP(City!B167,miasta,4,0)))","v":""},null,null,null,"","","","","","","","","","","",""]
["Bayern","Erding",11.918875999999999,48.311464999999998,"",{"$f":"IF(ISERROR(VLOOKUP(City!B168,miasta,4,0)),\"\",IF(VLOOKUP(City!B168,miasta,4,0)=\"\",\"\",VLOOKUP(City!B168,miasta,4,0)))","v":""},null,null,null,"","","","","","","","","","","",""]
["Bayern","Freising",11.741185,48.402880000000003,"",{"$f":"IF(ISERROR(VLOOKUP(City!B169,miasta,4,0)),\"\",IF(VLOOKUP(City!B169,miasta,4,0)=\"\",\"\",VLOOKUP(City!B169,miasta,4,0)))","v":""},null,null,null,"","","","","","","","","","","",""]
["Bayern","Fürstenfeldbruck",11.243008,48.173937000000002,"",{"$f":"IF(ISERROR(VLOOKUP(City!B170,miasta,4,0)),\"\",IF(VLOOKUP(City!B170,miasta,4,0)=\"\",\"\",VLOOKUP(City!B170,miasta,4,0)))","v":""},null,null,null,"","","","","","","","","","","",""]
["Bayern","Garmisch-Partenkirchen",11.095497999999999,47.491695,"",{"$f":"IF(ISERROR(VLOOKUP(City!B171,miasta,4,0)),\"\",IF(VLOOKUP(City!B171,miasta,4,0)=\"\",\"\",VLOOKUP(City!B171,miasta,4,0)))","v":""},null,null,null,"","","","","","","","","","","",""]
["Bayern","Landsberg am Lech",10.870350999999999,48.050783000000003,"",{"$f":"IF(ISERROR(VLOOKUP(City!B172,miasta,4,0)),\"\",IF(VLOOKUP(City!B172,miasta,4,0)=\"\",\"\",VLOOKUP(City!B172,miasta,4,0)))","v":""},null,null,null,"","","","","","","","","","","",""]
["Bayern","Miesbach",11.833268,47.789977999999998,"",{"$f":"IF(ISERROR(VLOOKUP(City!B173,miasta,4,0)),\"\",IF(VLOOKUP(City!B173,miasta,4,0)=\"\",\"\",VLOOKUP(City!B173,miasta,4,0)))","v":""},null,null,null,"","","","","","","","","","","",""]
["Bayern","Mühldorf am Inn",12.521990000000001,48.245772000000002,"",{"$f":"IF(ISERROR(VLOOKUP(City!B174,miasta,4,0)),\"\",IF(VLOOKUP(City!B174,miasta,4,0)=\"\",\"\",VLOOKUP(City!B174,miasta,4,0)))","v":""},null,null,null,"","","","","","","","","","","",""]
["Bayern","München",11.576753999999999,48.136719999999997,"",{"$f":"IF(ISERROR(VLOOKUP(City!B175,miasta,4,0)),\"\",IF(VLOOKUP(City!B175,miasta,4,0)=\"\",\"\",VLOOKUP(City!B175,miasta,4,0)))","v":""},null,null,null,"","","","","","","","","","","",""]
["Bayern","Neuburg an der Donau",11.188769000000001,48.730266999999998,"",{"$f":"IF(ISERROR(VLOOKUP(City!B176,miasta,4,0)),\"\",IF(VLOOKUP(City!B176,miasta,4,0)=\"\",\"\",VLOOKUP(City!B176,miasta,4,0)))","v":""},null,null,null,"","","","","","","","","","","",""]
["Bayern","Pfaffenhofen an der Ilm",11.497738999999999,48.532521000000003,"",{"$f":"IF(ISERROR(VLOOKUP(City!B177,miasta,4,0)),\"\",IF(VLOOKUP(City!B177,miasta,4,0)=\"\",\"\",VLOOKUP(City!B177,miasta,4,0)))","v":""},null,null,null,"","","","","","","","","","","",""]
["Bayern","Rosenheim",12.118105,47.857126999999998,"",{"$f":"IF(ISERROR(VLOOKUP(City!B178,miasta,4,0)),\"\",IF(VLOOKUP(City!B178,miasta,4,0)=\"\",\"\",VLOOKUP(City!B178,miasta,4,0)))","v":""},null,null,null,"","","","","","","","","","","",""]
["Bayern","Starnberg",11.339009000000001,47.999961999999996,"",{"$f":"IF(ISERROR(VLOOKUP(City!B179,miasta,4,0)),\"\",IF(VLOOKUP(City!B179,miasta,4,0)=\"\",\"\",VLOOKUP(City!B179,miasta,4,0)))","v":""},null,null,null,"","","","","","","","","","","",""]
["Bayern","Traunstein",12.634569000000001,47.870224,"",{"$f":"IF(ISERROR(VLOOKUP(City!B180,miasta,4,0)),\"\",IF(VLOOKUP(City!B180,miasta,4,0)=\"\",\"\",VLOOKUP(City!B180,miasta,4,0)))","v":""},null,null,null,"","","","","","","","","","","",""]
["Bayern","Weilheim in Oberbayern",11.142137999999999,47.840685999999998,"",{"$f":"IF(ISERROR(VLOOKUP(City!B181,miasta,4,0)),\"\",IF(VLOOKUP(City!B181,miasta,4,0)=\"\",\"\",VLOOKUP(City!B181,miasta,4,0)))","v":""},null,null,null,"",{"$f":"IF($J181=COLUMN(K181)-10,$E181,\"\")","v":""},"","","","","","","","","",""]
["Bayern","Deggendorf",12.957478999999999,48.840851999999998,"",{"$f":"IF(ISERROR(VLOOKUP(City!B182,miasta,4,0)),\"\",IF(VLOOKUP(City!B182,miasta,4,0)=\"\",\"\",VLOOKUP(City!B182,miasta,4,0)))","v":""},null,null,null,"","","","","","","","","","","",""]
["Bayern","Freyung",13.548425999999999,48.808137000000002,"",{"$f":"IF(ISERROR(VLOOKUP(City!B183,miasta,4,0)),\"\",IF(VLOOKUP(City!B183,miasta,4,0)=\"\",\"\",VLOOKUP(City!B183,miasta,4,0)))","v":""},null,null,null,"","","","","","","","","","","",""]
["Bayern","Kelheim",11.886563000000001,48.918411999999996,"",{"$f":"IF(ISERROR(VLOOKUP(City!B184,miasta,4,0)),\"\",IF(VLOOKUP(City!B184,miasta,4,0)=\"\",\"\",VLOOKUP(City!B184,miasta,4,0)))","v":""},null,null,null,"","","","","","","","","","","",""]
["Bayern","Landshut",12.145922000000001,48.539225000000002,"",{"$f":"IF(ISERROR(VLOOKUP(City!B185,miasta,4,0)),\"\",IF(VLOOKUP(City!B185,miasta,4,0)=\"\",\"\",VLOOKUP(City!B185,miasta,4,0)))","v":""},null,null,null,"","","","","","","","","","","",""]
["Bayern","Passau",13.431946999999999,48.566735999999999,"",{"$f":"IF(ISERROR(VLOOKUP(City!B186,miasta,4,0)),\"\",IF(VLOOKUP(City!B186,miasta,4,0)=\"\",\"\",VLOOKUP(City!B186,miasta,4,0)))","v":""},null,null,null,"","","","","","","","","","","",""]
["Bayern","Regen",13.128360000000001,48.977181999999999,"",{"$f":"IF(ISERROR(VLOOKUP(City!B187,miasta,4,0)),\"\",IF(VLOOKUP(City!B187,miasta,4,0)=\"\",\"\",VLOOKUP(City!B187,miasta,4,0)))","v":""},null,null,null,"","","","","","","","","","","",""]
["Bayern","Pfarrkirchen",12.939581,48.419032999999999,"",{"$f":"IF(ISERROR(VLOOKUP(City!B188,miasta,4,0)),\"\",IF(VLOOKUP(City!B188,miasta,4,0)=\"\",\"\",VLOOKUP(City!B188,miasta,4,0)))","v":""},null,null,null,"","","","","","","","","","","",""]
["Bayern","Straubing",12.580154,48.877732999999999,"",{"$f":"IF(ISERROR(VLOOKUP(City!B189,miasta,4,0)),\"\",IF(VLOOKUP(City!B189,miasta,4,0)=\"\",\"\",VLOOKUP(City!B189,miasta,4,0)))","v":""},null,null,null,"","","","","","","","","","","",""]
["Bayern","Dingolfing",12.485198,48.643481000000001,"",{"$f":"IF(ISERROR(VLOOKUP(City!B190,miasta,4,0)),\"\",IF(VLOOKUP(City!B190,miasta,4,0)=\"\",\"\",VLOOKUP(City!B190,miasta,4,0)))","v":""},null,null,null,"","","","","","","","","","","",""]
["Bayern","Amberg",11.863345000000001,49.44032,"",{"$f":"IF(ISERROR(VLOOKUP(City!B191,miasta,4,0)),\"\",IF(VLOOKUP(City!B191,miasta,4,0)=\"\",\"\",VLOOKUP(City!B191,miasta,4,0)))","v":""},null,null,null,"","","","","","","","","","","",""]
["Bayern","Cham",12.662084,49.223863999999999,"",{"$f":"IF(ISERROR(VLOOKUP(City!B192,miasta,4,0)),\"\",IF(VLOOKUP(City!B192,miasta,4,0)=\"\",\"\",VLOOKUP(City!B192,miasta,4,0)))","v":""},null,null,null,"","","","","","","","","","","",""]
["Bayern","Neumarkt in der Oberpfalz",11.4672,49.277261000000003,"",{"$f":"IF(ISERROR(VLOOKUP(City!B193,miasta,4,0)),\"\",IF(VLOOKUP(City!B193,miasta,4,0)=\"\",\"\",VLOOKUP(City!B193,miasta,4,0)))","v":""},null,null,null,"","","","","","","","","","","",""]
["Bayern","Neustadt an der Waldnaab",12.178127,49.732095999999999,{"$f":"IF(ISERROR(VLOOKUP(B194,miasta,3,0)),\"\",VLOOKUP(B194,miasta,3,0))","v":""},{"$f":"IF(ISERROR(VLOOKUP(City!B194,miasta,4,0)),\"\",IF(VLOOKUP(City!B194,miasta,4,0)=\"\",\"\",VLOOKUP(City!B194,miasta,4,0)))","v":""},null,null,null,"","","","","","","","","","","",""]
["Bayern","Regensburg",12.100856,49.014541999999999,"",{"$f":"IF(ISERROR(VLOOKUP(City!B195,miasta,4,0)),\"\",IF(VLOOKUP(City!B195,miasta,4,0)=\"\",\"\",VLOOKUP(City!B195,miasta,4,0)))","v":""},null,null,null,{"$f":"IF(ISERROR(VLOOKUP(F195,$G$2:$I$12,3,1)),\"\",VLOOKUP(F195,$G$2:$I$12,3,1))","v":""},"","","","","","","","","","",""]
["Bayern","Schwandorf",12.109135,49.319887999999999,"",{"$f":"IF(ISERROR(VLOOKUP(City!B196,miasta,4,0)),\"\",IF(VLOOKUP(City!B196,miasta,4,0)=\"\",\"\",VLOOKUP(City!B196,miasta,4,0)))","v":""},null,null,null,"","","","","","","","","","","",""]
["Bayern","Tirschenreuth",12.330344,49.881715999999997,"",{"$f":"IF(ISERROR(VLOOKUP(City!B197,miasta,4,0)),\"\",IF(VLOOKUP(City!B197,miasta,4,0)=\"\",\"\",VLOOKUP(City!B197,miasta,4,0)))","v":""},null,null,null,"","","","","","","","","","","",""]
["Bayern","Bamberg",10.902763999999999,49.898814000000002,"",{"$f":"IF(ISERROR(VLOOKUP(City!B198,miasta,4,0)),\"\",IF(VLOOKUP(City!B198,miasta,4,0)=\"\",\"\",VLOOKUP(City!B198,miasta,4,0)))","v":""},null,null,null,"","","","","","","","","","","",""]
["Bayern","Bayreuth",11.571334999999999,49.945639999999997,"",{"$f":"IF(ISERROR(VLOOKUP(City!B199,miasta,4,0)),\"\",IF(VLOOKUP(City!B199,miasta,4,0)=\"\",\"\",VLOOKUP(City!B199,miasta,4,0)))","v":""},null,null,null,"","","","","","","","","","","",""]
["Bayern","Coburg",10.963378000000001,50.264034000000002,"",{"$f":"IF(ISERROR(VLOOKUP(City!B200,miasta,4,0)),\"\",IF(VLOOKUP(City!B200,miasta,4,0)=\"\",\"\",VLOOKUP(City!B200,miasta,4,0)))","v":""},null,null,null,"","","","","","","","","","","",""]
["Bayern","Forchheim",11.069883000000001,49.721305999999998,"",{"$f":"IF(ISERROR(VLOOKUP(City!B201,miasta,4,0)),\"\",IF(VLOOKUP(City!B201,miasta,4,0)=\"\",\"\",VLOOKUP(City!B201,miasta,4,0)))","v":""},null,null,null,"","","","","","","","","","","",""]
["Bayern","Hof",11.912781000000001,50.313538999999999,"",{"$f":"IF(ISERROR(VLOOKUP(City!B202,miasta,4,0)),\"\",IF(VLOOKUP(City!B202,miasta,4,0)=\"\",\"\",VLOOKUP(City!B202,miasta,4,0)))","v":""},null,null,null,"","","","","","","","","","","",""]
["Bayern","Kronach",11.330261999999999,50.237242000000002,"",{"$f":"IF(ISERROR(VLOOKUP(City!B203,miasta,4,0)),\"\",IF(VLOOKUP(City!B203,miasta,4,0)=\"\",\"\",VLOOKUP(City!B203,miasta,4,0)))","v":""},null,null,null,"","","","","","","","","","","",""]
["Bayern","Kulmbach",11.444818,50.103928000000003,"",{"$f":"IF(ISERROR(VLOOKUP(City!B204,miasta,4,0)),\"\",IF(VLOOKUP(City!B204,miasta,4,0)=\"\",\"\",VLOOKUP(City!B204,miasta,4,0)))","v":""},null,null,null,"","","",{"$f":"IF($J204=COLUMN(M204)-10,$E204,\"\")","v":""},"","","","","","","",""]
["Bayern","Lichtenfels",11.063039,50.143293999999997,"",{"$f":"IF(ISERROR(VLOOKUP(City!B205,miasta,4,0)),\"\",IF(VLOOKUP(City!B205,miasta,4,0)=\"\",\"\",VLOOKUP(City!B205,miasta,4,0)))","v":""},null,null,null,"",{"$f":"IF($J205=COLUMN(K205)-10,$E205,\"\")","v":""},"","","","","","","","","",""]
["Bayern","Wunsiedel",12.005038000000001,50.040300999999999,"",{"$f":"IF(ISERROR(VLOOKUP(City!B206,miasta,4,0)),\"\",IF(VLOOKUP(City!B206,miasta,4,0)=\"\",\"\",VLOOKUP(City!B206,miasta,4,0)))","v":""},null,null,null,"","","","","","","","","","","",""]
["Bayern","Ansbach",10.571936000000001,49.300424999999997,"",{"$f":"IF(ISERROR(VLOOKUP(City!B207,miasta,4,0)),\"\",IF(VLOOKUP(City!B207,miasta,4,0)=\"\",\"\",VLOOKUP(City!B207,miasta,4,0)))","v":""},null,null,null,"","","","","","","","","","","",""]
["Bayern","Erlangen",11.014267,49.590716999999998,"",{"$f":"IF(ISERROR(VLOOKUP(City!B208,miasta,4,0)),\"\",IF(VLOOKUP(City!B208,miasta,4,0)=\"\",\"\",VLOOKUP(City!B208,miasta,4,0)))","v":""},null,null,null,"","","","","","","","","","","",""]
["Bayern","Zirndorf",10.955018000000001,49.444555000000001,"",{"$f":"IF(ISERROR(VLOOKUP(City!B209,miasta,4,0)),\"\",IF(VLOOKUP(City!B209,miasta,4,0)=\"\",\"\",VLOOKUP(City!B209,miasta,4,0)))","v":""},null,null,null,"","","","","","","","","","","",""]
["Bayern","Lauf an der Pegnitz",11.278025,49.511048000000002,"",{"$f":"IF(ISERROR(VLOOKUP(City!B210,miasta,4,0)),\"\",IF(VLOOKUP(City!B210,miasta,4,0)=\"\",\"\",VLOOKUP(City!B210,miasta,4,0)))","v":""},null,null,null,"","","","","","","","","","","",""]
["Bayern","Neustadt an der Aisch",10.613944,49.579545000000003,"",{"$f":"IF(ISERROR(VLOOKUP(City!B211,miasta,4,0)),\"\",IF(VLOOKUP(City!B211,miasta,4,0)=\"\",\"\",VLOOKUP(City!B211,miasta,4,0)))","v":""},null,null,null,"","","","","","","","","","","",""]
["Bayern","Roth",11.091161,49.245634000000003,"",{"$f":"IF(ISERROR(VLOOKUP(City!B212,miasta,4,0)),\"\",IF(VLOOKUP(City!B212,miasta,4,0)=\"\",\"\",VLOOKUP(City!B212,miasta,4,0)))","v":""},null,null,null,"","","","","","","","","","","",""]
["Bayern","Weißenburg in Bayern",10.971024,49.027208999999999,"",{"$f":"IF(ISERROR(VLOOKUP(City!B213,miasta,4,0)),\"\",IF(VLOOKUP(City!B213,miasta,4,0)=\"\",\"\",VLOOKUP(City!B213,miasta,4,0)))","v":""},null,null,null,"","","","","","","","","","","",""]
["Bayern","Aschaffenburg",9.1355550000000001,49.980663,"",{"$f":"IF(ISERROR(VLOOKUP(City!B214,miasta,4,0)),\"\",IF(VLOOKUP(City!B214,miasta,4,0)=\"\",\"\",VLOOKUP(City!B214,miasta,4,0)))","v":""},null,null,null,"","","","","","","","","","","",""]
["Bayern","Bad Kissingen",10.080392,50.200733999999997,"",{"$f":"IF(ISERROR(VLOOKUP(City!B215,miasta,4,0)),\"\",IF(VLOOKUP(City!B215,miasta,4,0)=\"\",\"\",VLOOKUP(City!B215,miasta,4,0)))","v":""},null,null,null,"","","","","","","","","","","",""]
["Bayern","Bad Neustadt an der Saale",10.202811000000001,50.323034,"",{"$f":"IF(ISERROR(VLOOKUP(City!B216,miasta,4,0)),\"\",IF(VLOOKUP(City!B216,miasta,4,0)=\"\",\"\",VLOOKUP(City!B216,miasta,4,0)))","v":""},null,null,null,"","","","","","","","","","","",""]
["Bayern","Haßfurt",10.516975,50.034381000000003,"",{"$f":"IF(ISERROR(VLOOKUP(City!B217,miasta,4,0)),\"\",IF(VLOOKUP(City!B217,miasta,4,0)=\"\",\"\",VLOOKUP(City!B217,miasta,4,0)))","v":""},null,null,null,"","","","","","","","","","","",""]
["Bayern","Kitzingen",10.147378,49.734081000000003,"",{"$f":"IF(ISERROR(VLOOKUP(City!B218,miasta,4,0)),\"\",IF(VLOOKUP(City!B218,miasta,4,0)=\"\",\"\",VLOOKUP(City!B218,miasta,4,0)))","v":""},null,null,null,"","","","","","","","","","","",""]
["Bayern","Miltenberg",9.2559210000000007,49.701929,"",{"$f":"IF(ISERROR(VLOOKUP(City!B219,miasta,4,0)),\"\",IF(VLOOKUP(City!B219,miasta,4,0)=\"\",\"\",VLOOKUP(City!B219,miasta,4,0)))","v":""},null,null,null,"","","","","","","","","","","",""]
["Bayern","Karlstadt",9.77346,49.960478999999999,"",{"$f":"IF(ISERROR(VLOOKUP(City!B220,miasta,4,0)),\"\",IF(VLOOKUP(City!B220,miasta,4,0)=\"\",\"\",VLOOKUP(City!B220,miasta,4,0)))","v":""},null,null,null,"","","","","","","","","","","",""]
["Bayern","Schweinfurt",10.219423000000001,50.049205000000001,"",{"$f":"IF(ISERROR(VLOOKUP(City!B221,miasta,4,0)),\"\",IF(VLOOKUP(City!B221,miasta,4,0)=\"\",\"\",VLOOKUP(City!B221,miasta,4,0)))","v":""},null,null,null,"","","","","","","","","","","",""]
["Bayern","Würzburg",9.9535710000000002,49.791595000000001,"",{"$f":"IF(ISERROR(VLOOKUP(City!B222,miasta,4,0)),\"\",IF(VLOOKUP(City!B222,miasta,4,0)=\"\",\"\",VLOOKUP(City!B222,miasta,4,0)))","v":""},null,null,null,"","","","","","","","","","","",""]
["Bayern","Aichach",11.135986000000001,48.457704,"",{"$f":"IF(ISERROR(VLOOKUP(City!B223,miasta,4,0)),\"\",IF(VLOOKUP(City!B223,miasta,4,0)=\"\",\"\",VLOOKUP(City!B223,miasta,4,0)))","v":""},null,null,null,"","","","","","","","","","","",""]
["Bayern","Augsburg",10.898255000000001,48.371440999999997,"",{"$f":"IF(ISERROR(VLOOKUP(City!B224,miasta,4,0)),\"\",IF(VLOOKUP(City!B224,miasta,4,0)=\"\",\"\",VLOOKUP(City!B224,miasta,4,0)))","v":""},null,null,null,"","","","","","","","","","","",""]
["Bayern","Dillingen an der Donau",10.494024,48.579092000000003,"",{"$f":"IF(ISERROR(VLOOKUP(City!B225,miasta,4,0)),\"\",IF(VLOOKUP(City!B225,miasta,4,0)=\"\",\"\",VLOOKUP(City!B225,miasta,4,0)))","v":""},null,null,null,"","","","","","","","","","","",""]
["Bayern","Günzburg",10.277513000000001,48.452840999999999,"",{"$f":"IF(ISERROR(VLOOKUP(City!B226,miasta,4,0)),\"\",IF(VLOOKUP(City!B226,miasta,4,0)=\"\",\"\",VLOOKUP(City!B226,miasta,4,0)))","v":""},null,null,null,"","","","","","","","","","","",""]
["Bayern","Neu-Ulm",10.00604,48.390604000000003,"",{"$f":"IF(ISERROR(VLOOKUP(City!B227,miasta,4,0)),\"\",IF(VLOOKUP(City!B227,miasta,4,0)=\"\",\"\",VLOOKUP(City!B227,miasta,4,0)))","v":""},null,null,null,"","","","","","","","","","","",""]
["Bayern","Lindau (Bodensee)",9.7072090000000006,47.557400999999999,"",{"$f":"IF(ISERROR(VLOOKUP(City!B228,miasta,4,0)),\"\",IF(VLOOKUP(City!B228,miasta,4,0)=\"\",\"\",VLOOKUP(City!B228,miasta,4,0)))","v":""},null,null,null,"","","","","","","","","","","",""]
["Bayern","Marktoberdorf",10.615826999999999,47.778483000000001,"",{"$f":"IF(ISERROR(VLOOKUP(City!B229,miasta,4,0)),\"\",IF(VLOOKUP(City!B229,miasta,4,0)=\"\",\"\",VLOOKUP(City!B229,miasta,4,0)))","v":""},null,null,null,"","","","","","","","","","","",""]
["Bayern","Mindelheim",10.494884000000001,48.046174000000001,"",{"$f":"IF(ISERROR(VLOOKUP(City!B230,miasta,4,0)),\"\",IF(VLOOKUP(City!B230,miasta,4,0)=\"\",\"\",VLOOKUP(City!B230,miasta,4,0)))","v":""},null,null,null,"","","","","","","","","","","",""]
["Bayern","Donauwörth",10.777804,48.718583000000002,"",{"$f":"IF(ISERROR(VLOOKUP(City!B231,miasta,4,0)),\"\",IF(VLOOKUP(City!B231,miasta,4,0)=\"\",\"\",VLOOKUP(City!B231,miasta,4,0)))","v":""},null,null,null,"","","","","","","","","","","",""]
["Bayern","Sonthofen",10.280862000000001,47.516115999999997,"",{"$f":"IF(ISERROR(VLOOKUP(City!B232,miasta,4,0)),\"\",IF(VLOOKUP(City!B232,miasta,4,0)=\"\",\"\",VLOOKUP(City!B232,miasta,4,0)))","v":""},null,null,null,"","","","","","",{"$f":"IF($J232=COLUMN(P232)-10,$E232,\"\")","v":""},"","","","",""]
["Saarland","Saarbrücken",6.9969330000000003,49.240157000000004,"",{"$f":"IF(ISERROR(VLOOKUP(City!B233,miasta,4,0)),\"\",IF(VLOOKUP(City!B233,miasta,4,0)=\"\",\"\",VLOOKUP(City!B233,miasta,4,0)))","v":""},null,null,null,"","","","","","","","","","","",""]
["Saarland","Merzig",6.6437840000000001,49.448959000000002,"",{"$f":"IF(ISERROR(VLOOKUP(City!B234,miasta,4,0)),\"\",IF(VLOOKUP(City!B234,miasta,4,0)=\"\",\"\",VLOOKUP(City!B234,miasta,4,0)))","v":""},null,null,null,"","","","","","","","","","","",""]
["Saarland","Ottweiler",7.1630190000000002,49.404322999999998,"",{"$f":"IF(ISERROR(VLOOKUP(City!B235,miasta,4,0)),\"\",IF(VLOOKUP(City!B235,miasta,4,0)=\"\",\"\",VLOOKUP(City!B235,miasta,4,0)))","v":""},null,null,null,"","","","","","","","","","","",""]
["Saarland","Saarlouis",6.7522859999999998,49.313460999999997,"",{"$f":"IF(ISERROR(VLOOKUP(City!B236,miasta,4,0)),\"\",IF(VLOOKUP(City!B236,miasta,4,0)=\"\",\"\",VLOOKUP(City!B236,miasta,4,0)))","v":""},null,null,null,"","","","","","","","","","","",""]
["Saarland","Homburg",7.3398430000000001,49.329583,"",{"$f":"IF(ISERROR(VLOOKUP(City!B237,miasta,4,0)),\"\",IF(VLOOKUP(City!B237,miasta,4,0)=\"\",\"\",VLOOKUP(City!B237,miasta,4,0)))","v":""},null,null,null,"","","","","","","","","","","",""]
["Saarland","St. Wendel",7.1690620000000003,49.467770999999999,"",{"$f":"IF(ISERROR(VLOOKUP(City!B238,miasta,4,0)),\"\",IF(VLOOKUP(City!B238,miasta,4,0)=\"\",\"\",VLOOKUP(City!B238,miasta,4,0)))","v":""},null,null,null,"","","","","","","","","","","",""]
["Brandenburg","Eberswalde",13.787587,52.837133000000001,"",{"$f":"IF(ISERROR(VLOOKUP(City!B239,miasta,4,0)),\"\",IF(VLOOKUP(City!B239,miasta,4,0)=\"\",\"\",VLOOKUP(City!B239,miasta,4,0)))","v":""},null,null,null,"","","","","","","","","","","",""]
["Brandenburg"," Lübben (Spreewald)",13.891171,51.941077,"",{"$f":"IF(ISERROR(VLOOKUP(City!B240,miasta,4,0)),\"\",IF(VLOOKUP(City!B240,miasta,4,0)=\"\",\"\",VLOOKUP(City!B240,miasta,4,0)))","v":""},null,null,null,"","","","","","","","","","","",""]
["Brandenburg","Herzberg (Elster)",13.234133999999999,51.690810999999997,"",{"$f":"IF(ISERROR(VLOOKUP(City!B241,miasta,4,0)),\"\",IF(VLOOKUP(City!B241,miasta,4,0)=\"\",\"\",VLOOKUP(City!B241,miasta,4,0)))","v":""},null,null,null,"","","","","","","","","","","",""]
["Brandenburg","Rathenow",12.337944999999999,52.604812000000003,"",{"$f":"IF(ISERROR(VLOOKUP(City!B242,miasta,4,0)),\"\",IF(VLOOKUP(City!B242,miasta,4,0)=\"\",\"\",VLOOKUP(City!B242,miasta,4,0)))","v":""},null,null,null,"","","","","","","","","","","",""]
["Brandenburg","Seelow",14.379830999999999,52.531570000000002,"",{"$f":"IF(ISERROR(VLOOKUP(City!B243,miasta,4,0)),\"\",IF(VLOOKUP(City!B243,miasta,4,0)=\"\",\"\",VLOOKUP(City!B243,miasta,4,0)))","v":""},null,null,null,"","","","","","","","","","","",""]
["Brandenburg","Oranienburg",13.239452,52.752673999999999,"",{"$f":"IF(ISERROR(VLOOKUP(City!B244,miasta,4,0)),\"\",IF(VLOOKUP(City!B244,miasta,4,0)=\"\",\"\",VLOOKUP(City!B244,miasta,4,0)))","v":""},null,null,null,"","","","","","","","","","","",""]
["Brandenburg","Senftenberg",13.996907999999999,51.518979999999999,"",{"$f":"IF(ISERROR(VLOOKUP(City!B245,miasta,4,0)),\"\",IF(VLOOKUP(City!B245,miasta,4,0)=\"\",\"\",VLOOKUP(City!B245,miasta,4,0)))","v":""},null,null,null,"","","","","","","","","","","",""]
["Brandenburg","Beeskow",14.246528,52.173734000000003,"",{"$f":"IF(ISERROR(VLOOKUP(City!B246,miasta,4,0)),\"\",IF(VLOOKUP(City!B246,miasta,4,0)=\"\",\"\",VLOOKUP(City!B246,miasta,4,0)))","v":""},null,null,null,"","","","","","","","","","","",""]
["Brandenburg","Neuruppin",12.799078,52.915455000000001,"",{"$f":"IF(ISERROR(VLOOKUP(City!B247,miasta,4,0)),\"\",IF(VLOOKUP(City!B247,miasta,4,0)=\"\",\"\",VLOOKUP(City!B247,miasta,4,0)))","v":""},null,null,null,"","","","","","","","","","","",""]
["Brandenburg","Bad Belzig",12.595179999999999,52.142726000000003,"",{"$f":"IF(ISERROR(VLOOKUP(City!B248,miasta,4,0)),\"\",IF(VLOOKUP(City!B248,miasta,4,0)=\"\",\"\",VLOOKUP(City!B248,miasta,4,0)))","v":""},null,null,null,"","","","","","","","","","","",""]
["Brandenburg","Perleberg",11.856348000000001,53.074064,"",{"$f":"IF(ISERROR(VLOOKUP(City!B249,miasta,4,0)),\"\",IF(VLOOKUP(City!B249,miasta,4,0)=\"\",\"\",VLOOKUP(City!B249,miasta,4,0)))","v":""},null,null,null,"","","","","","","","","","","",""]
["Brandenburg","Forst (Lausitz)",14.633330000000001,51.733330000000002,"",{"$f":"IF(ISERROR(VLOOKUP(City!B250,miasta,4,0)),\"\",IF(VLOOKUP(City!B250,miasta,4,0)=\"\",\"\",VLOOKUP(City!B250,miasta,4,0)))","v":""},null,null,null,"","","","","","","","","","","",""]
["Brandenburg","Luckenwalde",13.163691,52.090389999999999,"",{"$f":"IF(ISERROR(VLOOKUP(City!B251,miasta,4,0)),\"\",IF(VLOOKUP(City!B251,miasta,4,0)=\"\",\"\",VLOOKUP(City!B251,miasta,4,0)))","v":""},null,null,null,"","","","","","","","","","","",""]
["Brandenburg","Prenzlau",13.863341,53.317343000000001,"",{"$f":"IF(ISERROR(VLOOKUP(City!B252,miasta,4,0)),\"\",IF(VLOOKUP(City!B252,miasta,4,0)=\"\",\"\",VLOOKUP(City!B252,miasta,4,0)))","v":""},null,null,null,"","","","","","","","","","","",""]
["Mecklenburg-Vorpommern","Neubrandenburg",13.277927,53.567829000000003,"",{"$f":"IF(ISERROR(VLOOKUP(City!B253,miasta,4,0)),\"\",IF(VLOOKUP(City!B253,miasta,4,0)=\"\",\"\",VLOOKUP(City!B253,miasta,4,0)))","v":""},null,null,null,"","","","","","","","","","","",""]
["Mecklenburg-Vorpommern","Güstrow",12.189538000000001,53.803154999999997,"",{"$f":"IF(ISERROR(VLOOKUP(City!B254,miasta,4,0)),\"\",IF(VLOOKUP(City!B254,miasta,4,0)=\"\",\"\",VLOOKUP(City!B254,miasta,4,0)))","v":""},null,null,null,"","","","","","","","","","","",""]
["Mecklenburg-Vorpommern","Stralsund",13.087714,54.299405,"",{"$f":"IF(ISERROR(VLOOKUP(City!B255,miasta,4,0)),\"\",IF(VLOOKUP(City!B255,miasta,4,0)=\"\",\"\",VLOOKUP(City!B255,miasta,4,0)))","v":""},null,null,null,"","","","","","","","","","","",""]
["Mecklenburg-Vorpommern","Wismar",11.451601999999999,53.897942,"",{"$f":"IF(ISERROR(VLOOKUP(City!B256,miasta,4,0)),\"\",IF(VLOOKUP(City!B256,miasta,4,0)=\"\",\"\",VLOOKUP(City!B256,miasta,4,0)))","v":""},null,null,null,"","","","","","","","","","","",""]
["Mecklenburg-Vorpommern","Greifswald",13.392341,54.086545999999998,"",{"$f":"IF(ISERROR(VLOOKUP(City!B257,miasta,4,0)),\"\",IF(VLOOKUP(City!B257,miasta,4,0)=\"\",\"\",VLOOKUP(City!B257,miasta,4,0)))","v":""},null,null,null,"","","","","","","","","","","",""]
["Mecklenburg-Vorpommern","Parchim",11.846344999999999,53.426966,{"$f":"IF(ISERROR(VLOOKUP(B258,miasta,3,0)),\"\",VLOOKUP(B258,miasta,3,0))","v":""},{"$f":"IF(ISERROR(VLOOKUP(City!B258,miasta,4,0)),\"\",IF(VLOOKUP(City!B258,miasta,4,0)=\"\",\"\",VLOOKUP(City!B258,miasta,4,0)))","v":""},null,null,null,"","","","","","","","","","","",""]
["Sachsen","Annaberg-Buchholz",13.007584,50.578586999999999,"",{"$f":"IF(ISERROR(VLOOKUP(City!B259,miasta,4,0)),\"\",IF(VLOOKUP(City!B259,miasta,4,0)=\"\",\"\",VLOOKUP(City!B259,miasta,4,0)))","v":""},null,null,null,{"$f":"IF(ISERROR(VLOOKUP(F259,$G$2:$I$12,3,1)),\"\",VLOOKUP(F259,$G$2:$I$12,3,1))","v":""},"","","","","","","","","","",""]
["Sachsen","Freiberg",13.341727000000001,50.912827999999998,"",{"$f":"IF(ISERROR(VLOOKUP(City!B260,miasta,4,0)),\"\",IF(VLOOKUP(City!B260,miasta,4,0)=\"\",\"\",VLOOKUP(City!B260,miasta,4,0)))","v":""},null,null,null,"","","","","","","","","","","",""]
["Sachsen","Plauen",12.136868,50.497613000000001,"",{"$f":"IF(ISERROR(VLOOKUP(City!B261,miasta,4,0)),\"\",IF(VLOOKUP(City!B261,miasta,4,0)=\"\",\"\",VLOOKUP(City!B261,miasta,4,0)))","v":""},null,null,null,"","","","","","","","","","","",""]
["Sachsen","Zwickau",12.473371999999999,50.710217,"",{"$f":"IF(ISERROR(VLOOKUP(City!B262,miasta,4,0)),\"\",IF(VLOOKUP(City!B262,miasta,4,0)=\"\",\"\",VLOOKUP(City!B262,miasta,4,0)))","v":""},null,null,null,"","","","","","","","","","","",""]
["Sachsen","Bautzen",14.423774999999999,51.182293000000001,"",{"$f":"IF(ISERROR(VLOOKUP(City!B263,miasta,4,0)),\"\",IF(VLOOKUP(City!B263,miasta,4,0)=\"\",\"\",VLOOKUP(City!B263,miasta,4,0)))","v":""},null,null,null,"","","","","","","","","","","",""]
["Sachsen","Görlitz",14.968707,51.150627,"",{"$f":"IF(ISERROR(VLOOKUP(City!B264,miasta,4,0)),\"\",IF(VLOOKUP(City!B264,miasta,4,0)=\"\",\"\",VLOOKUP(City!B264,miasta,4,0)))","v":""},null,null,null,"","","","","","","","","","","",""]
["Sachsen","Meißen",13.497659000000001,51.161783999999997,"",{"$f":"IF(ISERROR(VLOOKUP(City!B265,miasta,4,0)),\"\",IF(VLOOKUP(City!B265,miasta,4,0)=\"\",\"\",VLOOKUP(City!B265,miasta,4,0)))","v":""},null,null,null,"","","","","","","","","","","",""]
["Sachsen","Pirna",13.941917,50.962518000000003,"",{"$f":"IF(ISERROR(VLOOKUP(City!B266,miasta,4,0)),\"\",IF(VLOOKUP(City!B266,miasta,4,0)=\"\",\"\",VLOOKUP(City!B266,miasta,4,0)))","v":""},null,null,null,"","","","","","","","","","","",""]
["Sachsen","Borna",12.492322,51.124597999999999,"",{"$f":"IF(ISERROR(VLOOKUP(City!B267,miasta,4,0)),\"\",IF(VLOOKUP(City!B267,miasta,4,0)=\"\",\"\",VLOOKUP(City!B267,miasta,4,0)))","v":""},null,null,null,"","","","","","","","","","","",""]
["Sachsen","Torgau",12.991583,51.557934000000003,"",{"$f":"IF(ISERROR(VLOOKUP(City!B268,miasta,4,0)),\"\",IF(VLOOKUP(City!B268,miasta,4,0)=\"\",\"\",VLOOKUP(City!B268,miasta,4,0)))","v":""},null,null,null,"","","","","","","","","","","",""]
["Sachsen-Anhalt","Salzwedel",11.157355000000001,52.853126000000003,"",{"$f":"IF(ISERROR(VLOOKUP(City!B269,miasta,4,0)),\"\",IF(VLOOKUP(City!B269,miasta,4,0)=\"\",\"\",VLOOKUP(City!B269,miasta,4,0)))","v":""},null,null,null,"",{"$f":"IF($J269=COLUMN(K269)-10,$E269,\"\")","v":""},"","","","","","","","","",""]
["Sachsen-Anhalt","Köthen",11.966666999999999,51.75,"",{"$f":"IF(ISERROR(VLOOKUP(City!B270,miasta,4,0)),\"\",IF(VLOOKUP(City!B270,miasta,4,0)=\"\",\"\",VLOOKUP(City!B270,miasta,4,0)))","v":""},null,null,null,"","","","","","","","","","","",""]
["Sachsen-Anhalt","Haldensleben",11.418149,52.284424000000001,"",{"$f":"IF(ISERROR(VLOOKUP(City!B271,miasta,4,0)),\"\",IF(VLOOKUP(City!B271,miasta,4,0)=\"\",\"\",VLOOKUP(City!B271,miasta,4,0)))","v":""},null,null,null,"","","","","","","","","","","",""]
["Sachsen-Anhalt","Naumburg (Saale)",11.804919999999999,51.151530999999999,"",{"$f":"IF(ISERROR(VLOOKUP(City!B272,miasta,4,0)),\"\",IF(VLOOKUP(City!B272,miasta,4,0)=\"\",\"\",VLOOKUP(City!B272,miasta,4,0)))","v":""},null,null,null,"","","","","","","","","","","",""]
["Sachsen-Anhalt","Halberstadt",11.053734,51.894390000000001,"",{"$f":"IF(ISERROR(VLOOKUP(City!B273,miasta,4,0)),\"\",IF(VLOOKUP(City!B273,miasta,4,0)=\"\",\"\",VLOOKUP(City!B273,miasta,4,0)))","v":""},null,null,null,"","","","","","","","","","","",""]
["Sachsen-Anhalt","Burg",11.85535,52.270901000000002,"",{"$f":"IF(ISERROR(VLOOKUP(City!B274,miasta,4,0)),\"\",IF(VLOOKUP(City!B274,miasta,4,0)=\"\",\"\",VLOOKUP(City!B274,miasta,4,0)))","v":""},null,null,null,"","","","","","","","","",{"$f":"IF($J274=COLUMN(S274)-10,$E274,\"\")","v":""},"",""]
["Sachsen-Anhalt","Sangerhausen",11.299505,51.472541999999997,"",{"$f":"IF(ISERROR(VLOOKUP(City!B275,miasta,4,0)),\"\",IF(VLOOKUP(City!B275,miasta,4,0)=\"\",\"\",VLOOKUP(City!B275,miasta,4,0)))","v":""},null,null,null,"","","","","","","","","","","",""]
["Sachsen-Anhalt","Merseburg",11.991745999999999,51.356327999999998,"",{"$f":"IF(ISERROR(VLOOKUP(City!B276,miasta,4,0)),\"\",IF(VLOOKUP(City!B276,miasta,4,0)=\"\",\"\",VLOOKUP(City!B276,miasta,4,0)))","v":""},null,null,null,"","","","","","","","","","","",""]
["Sachsen-Anhalt","Bernburg (Saale)",11.734209999999999,51.797013999999997,"",{"$f":"IF(ISERROR(VLOOKUP(City!B277,miasta,4,0)),\"\",IF(VLOOKUP(City!B277,miasta,4,0)=\"\",\"\",VLOOKUP(City!B277,miasta,4,0)))","v":""},null,null,null,"","","","","","","","","","","",""]
["Sachsen-Anhalt","Stendal",11.853835999999999,52.604058999999999,"",{"$f":"IF(ISERROR(VLOOKUP(City!B278,miasta,4,0)),\"\",IF(VLOOKUP(City!B278,miasta,4,0)=\"\",\"\",VLOOKUP(City!B278,miasta,4,0)))","v":""},null,null,null,"","","","","","","","","","","",""]
["Sachsen-Anhalt","Lutherstadt Wittenberg",12.627966000000001,51.873983000000003,"",{"$f":"IF(ISERROR(VLOOKUP(City!B279,miasta,4,0)),\"\",IF(VLOOKUP(City!B279,miasta,4,0)=\"\",\"\",VLOOKUP(City!B279,miasta,4,0)))","v":""},null,null,null,"","","","","","","","","","","",""]
["Thüringen","Heilbad Heiligenstadt",10.137767,51.376652999999997,"",{"$f":"IF(ISERROR(VLOOKUP(City!B280,miasta,4,0)),\"\",IF(VLOOKUP(City!B280,miasta,4,0)=\"\",\"\",VLOOKUP(City!B280,miasta,4,0)))","v":""},null,null,null,"","","","","","","","","","","",""]
["Thüringen","Nordhausen",10.791581000000001,51.499079000000002,"",{"$f":"IF(ISERROR(VLOOKUP(City!B281,miasta,4,0)),\"\",IF(VLOOKUP(City!B281,miasta,4,0)=\"\",\"\",VLOOKUP(City!B281,miasta,4,0)))","v":""},null,null,null,"","","","","","","","","","","",""]
["Thüringen","Bad Salzungen",10.234825000000001,50.808357999999998,"",{"$f":"IF(ISERROR(VLOOKUP(City!B282,miasta,4,0)),\"\",IF(VLOOKUP(City!B282,miasta,4,0)=\"\",\"\",VLOOKUP(City!B282,miasta,4,0)))","v":""},null,null,null,"","","","","","","","","","","",""]
["Thüringen","Mühlhausen/Thüringen",10.457100000000001,51.209865000000001,"",{"$f":"IF(ISERROR(VLOOKUP(City!B283,miasta,4,0)),\"\",IF(VLOOKUP(City!B283,miasta,4,0)=\"\",\"\",VLOOKUP(City!B283,miasta,4,0)))","v":""},null,null,null,"","","","","","","","","","","",""]
["Thüringen","Sondershausen",10.87105,51.369190000000003,"",{"$f":"IF(ISERROR(VLOOKUP(City!B284,miasta,4,0)),\"\",IF(VLOOKUP(City!B284,miasta,4,0)=\"\",\"\",VLOOKUP(City!B284,miasta,4,0)))","v":""},null,null,null,"","","","","","","","","","","",""]
["Thüringen","Meiningen",10.419013,50.573912,"",{"$f":"IF(ISERROR(VLOOKUP(City!B285,miasta,4,0)),\"\",IF(VLOOKUP(City!B285,miasta,4,0)=\"\",\"\",VLOOKUP(City!B285,miasta,4,0)))","v":""},null,null,null,"","","","","","","","","","","",""]
["Thüringen","Gotha",10.709288000000001,50.946919000000001,"",{"$f":"IF(ISERROR(VLOOKUP(City!B286,miasta,4,0)),\"\",IF(VLOOKUP(City!B286,miasta,4,0)=\"\",\"\",VLOOKUP(City!B286,miasta,4,0)))","v":""},null,null,null,"","","","","","","","","","","",""]
["Thüringen","Sömmerda",11.126343,51.161368000000003,"",{"$f":"IF(ISERROR(VLOOKUP(City!B287,miasta,4,0)),\"\",IF(VLOOKUP(City!B287,miasta,4,0)=\"\",\"\",VLOOKUP(City!B287,miasta,4,0)))","v":""},null,null,null,"","","","","","","","","","","",""]
["Thüringen","Hildburghausen",10.731210000000001,50.426329000000003,"",{"$f":"IF(ISERROR(VLOOKUP(City!B288,miasta,4,0)),\"\",IF(VLOOKUP(City!B288,miasta,4,0)=\"\",\"\",VLOOKUP(City!B288,miasta,4,0)))","v":""},null,null,null,"","","","","","","","","","","",""]
["Thüringen","Arnstadt",10.950532000000001,50.840913999999998,"",{"$f":"IF(ISERROR(VLOOKUP(City!B289,miasta,4,0)),\"\",IF(VLOOKUP(City!B289,miasta,4,0)=\"\",\"\",VLOOKUP(City!B289,miasta,4,0)))","v":""},null,null,null,"","","","","","","","","","","",""]
["Thüringen","Apolda",11.515549999999999,51.026009999999999,"",{"$f":"IF(ISERROR(VLOOKUP(City!B290,miasta,4,0)),\"\",IF(VLOOKUP(City!B290,miasta,4,0)=\"\",\"\",VLOOKUP(City!B290,miasta,4,0)))","v":""},null,null,null,"","","","","","","","","","","",""]
["Thüringen","Sonneberg",11.17099,50.360182000000002,"",{"$f":"IF(ISERROR(VLOOKUP(City!B291,miasta,4,0)),\"\",IF(VLOOKUP(City!B291,miasta,4,0)=\"\",\"\",VLOOKUP(City!B291,miasta,4,0)))","v":""},null,null,null,"","","","","","","","","","","",""]
["Thüringen","Saalfeld/Saale",11.366149999999999,50.649273999999998,"",{"$f":"IF(ISERROR(VLOOKUP(City!B292,miasta,4,0)),\"\",IF(VLOOKUP(City!B292,miasta,4,0)=\"\",\"\",VLOOKUP(City!B292,miasta,4,0)))","v":""},null,null,null,"","","","","","","","","","","",""]
["Thüringen","Eisenberg",11.892647,50.968606000000001,"",{"$f":"IF(ISERROR(VLOOKUP(City!B293,miasta,4,0)),\"\",IF(VLOOKUP(City!B293,miasta,4,0)=\"\",\"\",VLOOKUP(City!B293,miasta,4,0)))","v":""},null,null,null,"","","","","","","","","","","",""]
["Thüringen","Schleiz",11.809001,50.576166999999998,"",{"$f":"IF(ISERROR(VLOOKUP(City!B294,miasta,4,0)),\"\",IF(VLOOKUP(City!B294,miasta,4,0)=\"\",\"\",VLOOKUP(City!B294,miasta,4,0)))","v":""},null,null,null,"","","","","","","","","","","",""]
["Thüringen","Greiz",12.207713,50.658555999999997,"",{"$f":"IF(ISERROR(VLOOKUP(City!B295,miasta,4,0)),\"\",IF(VLOOKUP(City!B295,miasta,4,0)=\"\",\"\",VLOOKUP(City!B295,miasta,4,0)))","v":""},null,null,null,"","","","","","","","","","","",""]
["Thüringen","Altenburg",12.436657,50.993119999999998,"",{"$f":"IF(ISERROR(VLOOKUP(City!B296,miasta,4,0)),\"\",IF(VLOOKUP(City!B296,miasta,4,0)=\"\",\"\",VLOOKUP(City!B296,miasta,4,0)))","v":""},null,null,null,"","","","","","","","","","","",""]
["Baden-Württemberg","Baden-Baden",8.2285240000000002,48.765639999999998,0,{"$f":"IF(ISERROR(VLOOKUP(City!B297,miasta,4,0)),\"\",IF(VLOOKUP(City!B297,miasta,4,0)=\"\",\"\",VLOOKUP(City!B297,miasta,4,0)))","v":""},null,null,null,"","","","","","","","","","","",""]
["Berlin","Berlin",13.406091,52.519171,"",{"$f":"IF(ISERROR(VLOOKUP(City!B298,miasta,4,0)),\"\",IF(VLOOKUP(City!B298,miasta,4,0)=\"\",\"\",VLOOKUP(City!B298,miasta,4,0)))","v":""},null,null,null,"","","","","","","","","","","",""]
["Nordrhein-Westfalen","Bielefeld",8.5302969999999991,52.021296999999997,"",{"$f":"IF(ISERROR(VLOOKUP(City!B299,miasta,4,0)),\"\",IF(VLOOKUP(City!B299,miasta,4,0)=\"\",\"\",VLOOKUP(City!B299,miasta,4,0)))","v":""},null,null,null,"","","","","","","","","","","",""]
["Nordrhein-Westfalen","Bochum",7.2162360000000003,51.481845,"",{"$f":"IF(ISERROR(VLOOKUP(City!B300,miasta,4,0)),\"\",IF(VLOOKUP(City!B300,miasta,4,0)=\"\",\"\",VLOOKUP(City!B300,miasta,4,0)))","v":""},null,null,null,"","","","","","","","","","","",""]
["Nordrhein-Westfalen","Bonn",7.0982070000000004,50.737430000000003,"",{"$f":"IF(ISERROR(VLOOKUP(City!B301,miasta,4,0)),\"\",IF(VLOOKUP(City!B301,miasta,4,0)=\"\",\"\",VLOOKUP(City!B301,miasta,4,0)))","v":""},null,null,null,"","","","","","","","","","","",""]
["Nordrhein-Westfalen","Bottrop",6.9446890000000003,51.529086,"",{"$f":"IF(ISERROR(VLOOKUP(City!B302,miasta,4,0)),\"\",IF(VLOOKUP(City!B302,miasta,4,0)=\"\",\"\",VLOOKUP(City!B302,miasta,4,0)))","v":""},null,null,null,"","","","","","","","","","","",""]
["Brandenburg","Brandenburg an der Havel",12.531644,52.412528999999999,"",{"$f":"IF(ISERROR(VLOOKUP(City!B303,miasta,4,0)),\"\",IF(VLOOKUP(City!B303,miasta,4,0)=\"\",\"\",VLOOKUP(City!B303,miasta,4,0)))","v":""},null,null,null,"","",{"$f":"IF($J303=COLUMN(L303)-10,$E303,\"\")","v":""},"","","","","","","","",""]
["Niedersachsen","Braunschweig",10.526770000000001,52.268873999999997,"",{"$f":"IF(ISERROR(VLOOKUP(City!B304,miasta,4,0)),\"\",IF(VLOOKUP(City!B304,miasta,4,0)=\"\",\"\",VLOOKUP(City!B304,miasta,4,0)))","v":""},null,null,null,"",{"$f":"IF($J304=COLUMN(K304)-10,$E304,\"\")","v":""},"","","","","","","","","",""]
["Bremen","Bremen",8.8016939999999995,53.079295999999999,"",{"$f":"IF(ISERROR(VLOOKUP(City!B305,miasta,4,0)),\"\",IF(VLOOKUP(City!B305,miasta,4,0)=\"\",\"\",VLOOKUP(City!B305,miasta,4,0)))","v":""},null,null,null,"","","","","","","","","","","",""]
["Bremen","Bremerhaven",8.5826569999999993,53.548242999999999,"",{"$f":"IF(ISERROR(VLOOKUP(City!B306,miasta,4,0)),\"\",IF(VLOOKUP(City!B306,miasta,4,0)=\"\",\"\",VLOOKUP(City!B306,miasta,4,0)))","v":""},null,null,null,"","","","","","","","","","","",""]
["Sachsen","Chemnitz",12.92137,50.827845000000003,"",{"$f":"IF(ISERROR(VLOOKUP(City!B307,miasta,4,0)),\"\",IF(VLOOKUP(City!B307,miasta,4,0)=\"\",\"\",VLOOKUP(City!B307,miasta,4,0)))","v":""},null,null,null,"","","","","","","","","","","",""]
["Brandenburg","Cottbus",14.332867999999999,51.756310999999997,"",{"$f":"IF(ISERROR(VLOOKUP(City!B308,miasta,4,0)),\"\",IF(VLOOKUP(City!B308,miasta,4,0)=\"\",\"\",VLOOKUP(City!B308,miasta,4,0)))","v":""},null,null,null,"","","","","","","","","","","",""]
["Niedersachsen","Delmenhorst",8.6355930000000001,53.052188999999998,"",{"$f":"IF(ISERROR(VLOOKUP(City!B309,miasta,4,0)),\"\",IF(VLOOKUP(City!B309,miasta,4,0)=\"\",\"\",VLOOKUP(City!B309,miasta,4,0)))","v":""},null,null,null,"","","","","","","","","","","",""]
["Sachsen-Anhalt","Dessau-Roßlau",12.230392999999999,51.842827999999997,"",{"$f":"IF(ISERROR(VLOOKUP(City!B310,miasta,4,0)),\"\",IF(VLOOKUP(City!B310,miasta,4,0)=\"\",\"\",VLOOKUP(City!B310,miasta,4,0)))","v":""},null,null,null,"","","","","","","","","","","",""]
["Nordrhein-Westfalen","Dortmund",7.4652979999999998,51.513587000000001,"",{"$f":"IF(ISERROR(VLOOKUP(City!B311,miasta,4,0)),\"\",IF(VLOOKUP(City!B311,miasta,4,0)=\"\",\"\",VLOOKUP(City!B311,miasta,4,0)))","v":""},null,null,null,"","","","","","","","","","","",""]
["Sachsen","Dresden",13.737261999999999,51.050409000000002,"",{"$f":"IF(ISERROR(VLOOKUP(City!B312,miasta,4,0)),\"\",IF(VLOOKUP(City!B312,miasta,4,0)=\"\",\"\",VLOOKUP(City!B312,miasta,4,0)))","v":""},null,null,null,"","","","","","","","","","","",""]
["Nordrhein-Westfalen","Duisburg",6.7623290000000003,51.434407999999998,"",{"$f":"IF(ISERROR(VLOOKUP(City!B313,miasta,4,0)),\"\",IF(VLOOKUP(City!B313,miasta,4,0)=\"\",\"\",VLOOKUP(City!B313,miasta,4,0)))","v":""},null,null,null,"","","","","","","","","","","",""]
["Nordrhein-Westfalen","Düsseldorf",6.7734560000000004,51.227741000000002,"",{"$f":"IF(ISERROR(VLOOKUP(City!B314,miasta,4,0)),\"\",IF(VLOOKUP(City!B314,miasta,4,0)=\"\",\"\",VLOOKUP(City!B314,miasta,4,0)))","v":""},null,null,null,"","","","","","","","","","","",""]
["Thüringen","Eisenach",10.315619,50.980254000000002,"",{"$f":"IF(ISERROR(VLOOKUP(City!B315,miasta,4,0)),\"\",IF(VLOOKUP(City!B315,miasta,4,0)=\"\",\"\",VLOOKUP(City!B315,miasta,4,0)))","v":""},null,null,null,"","","","","","","","","","","",""]
["Niedersachsen","Emden",7.2060089999999999,53.359403,"",{"$f":"IF(ISERROR(VLOOKUP(City!B316,miasta,4,0)),\"\",IF(VLOOKUP(City!B316,miasta,4,0)=\"\",\"\",VLOOKUP(City!B316,miasta,4,0)))","v":""},null,null,null,"","","","","","","","","","","",""]
["Thüringen","Erfurt",11.02988,50.984768000000003,"",{"$f":"IF(ISERROR(VLOOKUP(City!B317,miasta,4,0)),\"\",IF(VLOOKUP(City!B317,miasta,4,0)=\"\",\"\",VLOOKUP(City!B317,miasta,4,0)))","v":""},null,null,null,"","","","","","","","","","","",""]
["Nordrhein-Westfalen","Essen",7.0115550000000004,51.455643000000002,"",{"$f":"IF(ISERROR(VLOOKUP(City!B318,miasta,4,0)),\"\",IF(VLOOKUP(City!B318,miasta,4,0)=\"\",\"\",VLOOKUP(City!B318,miasta,4,0)))","v":""},null,null,null,"","","","","","","","","","","",""]
["Schleswig-Holstein","Flensburg",9.4469960000000004,54.793742999999999,"",{"$f":"IF(ISERROR(VLOOKUP(City!B319,miasta,4,0)),\"\",IF(VLOOKUP(City!B319,miasta,4,0)=\"\",\"\",VLOOKUP(City!B319,miasta,4,0)))","v":""},null,null,null,"","","","","","","","","","","",""]
["Rheinland-Pfalz","Frankenthal (Pfalz)",8.3565869999999993,49.542242000000002,"",{"$f":"IF(ISERROR(VLOOKUP(City!B320,miasta,4,0)),\"\",IF(VLOOKUP(City!B320,miasta,4,0)=\"\",\"\",VLOOKUP(City!B320,miasta,4,0)))","v":""},null,null,null,"","","","","","","","","","","",""]
["Brandenburg","Frankfurt (Oder)",14.538130000000001,52.342491000000003,"",{"$f":"IF(ISERROR(VLOOKUP(City!B321,miasta,4,0)),\"\",IF(VLOOKUP(City!B321,miasta,4,0)=\"\",\"\",VLOOKUP(City!B321,miasta,4,0)))","v":""},null,null,null,"","","","","","","","","","","",""]
["Hessen","Frankfurt am Main",8.6821269999999995,50.110922000000002,{"$f":"IF(ISERROR(VLOOKUP(B322,miasta,3,0)),\"\",VLOOKUP(B322,miasta,3,0))","v":""},{"$f":"IF(ISERROR(VLOOKUP(City!B322,miasta,4,0)),\"\",IF(VLOOKUP(City!B322,miasta,4,0)=\"\",\"\",VLOOKUP(City!B322,miasta,4,0)))","v":""},null,null,null,"","","","","","","","","","","",""]
["Bayern","Fürth",10.988667,49.477117,"",{"$f":"IF(ISERROR(VLOOKUP(City!B323,miasta,4,0)),\"\",IF(VLOOKUP(City!B323,miasta,4,0)=\"\",\"\",VLOOKUP(City!B323,miasta,4,0)))","v":""},null,null,null,{"$f":"IF(ISERROR(VLOOKUP(F323,$G$2:$I$12,3,1)),\"\",VLOOKUP(F323,$G$2:$I$12,3,1))","v":""},"","","","","","","","","","",""]
["Nordrhein-Westfalen","Gelsenkirchen",7.0857169999999998,51.517744,"",{"$f":"IF(ISERROR(VLOOKUP(City!B324,miasta,4,0)),\"\",IF(VLOOKUP(City!B324,miasta,4,0)=\"\",\"\",VLOOKUP(City!B324,miasta,4,0)))","v":""},null,null,null,"","","","","","","","","","","",""]
["Thüringen","Gera",12.080719999999999,50.885071000000003,"",{"$f":"IF(ISERROR(VLOOKUP(City!B325,miasta,4,0)),\"\",IF(VLOOKUP(City!B325,miasta,4,0)=\"\",\"\",VLOOKUP(City!B325,miasta,4,0)))","v":""},null,null,null,"","","","","","","","","","","",""]
["Nordrhein-Westfalen","Hagen",7.4632839999999998,51.367077999999999,"",{"$f":"IF(ISERROR(VLOOKUP(City!B326,miasta,4,0)),\"\",IF(VLOOKUP(City!B326,miasta,4,0)=\"\",\"\",VLOOKUP(City!B326,miasta,4,0)))","v":""},null,null,null,"","","","","","","","","","","",""]
["Sachsen-Anhalt","Halle (Saale)",11.968802999999999,51.496980000000001,"",{"$f":"IF(ISERROR(VLOOKUP(City!B327,miasta,4,0)),\"\",IF(VLOOKUP(City!B327,miasta,4,0)=\"\",\"\",VLOOKUP(City!B327,miasta,4,0)))","v":""},null,null,null,"","","","","","","","","","","",""]
["Hamburg","Hamburg",9.9936819999999997,53.551085,"",{"$f":"IF(ISERROR(VLOOKUP(City!B328,miasta,4,0)),\"\",IF(VLOOKUP(City!B328,miasta,4,0)=\"\",\"\",VLOOKUP(City!B328,miasta,4,0)))","v":""},null,null,null,"","","","","","","","","","","",""]
["Nordrhein-Westfalen","Hamm",7.815982,51.673858000000003,"",{"$f":"IF(ISERROR(VLOOKUP(City!B329,miasta,4,0)),\"\",IF(VLOOKUP(City!B329,miasta,4,0)=\"\",\"\",VLOOKUP(City!B329,miasta,4,0)))","v":""},null,null,null,"","","","","","","","","","","",""]
["Nordrhein-Westfalen","Herne",7.2009150000000002,51.536895000000001,"",{"$f":"IF(ISERROR(VLOOKUP(City!B330,miasta,4,0)),\"\",IF(VLOOKUP(City!B330,miasta,4,0)=\"\",\"\",VLOOKUP(City!B330,miasta,4,0)))","v":""},null,null,null,"","","","","","","","","","","",""]
["Bayern","Ingolstadt",11.425754,48.766534999999998,"",{"$f":"IF(ISERROR(VLOOKUP(City!B331,miasta,4,0)),\"\",IF(VLOOKUP(City!B331,miasta,4,0)=\"\",\"\",VLOOKUP(City!B331,miasta,4,0)))","v":""},null,null,null,"","","","","","","","","","","",""]
["Thüringen","Jena",11.589237000000001,50.927053999999998,"",{"$f":"IF(ISERROR(VLOOKUP(City!B332,miasta,4,0)),\"\",IF(VLOOKUP(City!B332,miasta,4,0)=\"\",\"\",VLOOKUP(City!B332,miasta,4,0)))","v":""},null,null,null,"","","","","","","","","","","",""]
["Bayern","Kaufbeuren",10.625966,47.883018,"",{"$f":"IF(ISERROR(VLOOKUP(City!B333,miasta,4,0)),\"\",IF(VLOOKUP(City!B333,miasta,4,0)=\"\",\"\",VLOOKUP(City!B333,miasta,4,0)))","v":""},null,null,null,"","","","","","","","","","","",""]
["Bayern","Kempten (Allgäu)",10.316667000000001,47.733333000000002,"",{"$f":"IF(ISERROR(VLOOKUP(City!B334,miasta,4,0)),\"\",IF(VLOOKUP(City!B334,miasta,4,0)=\"\",\"\",VLOOKUP(City!B334,miasta,4,0)))","v":""},null,null,null,"","","","","","","","","","","",""]
["Schleswig-Holstein","Kiel",10.122764999999999,54.323293,"",{"$f":"IF(ISERROR(VLOOKUP(City!B335,miasta,4,0)),\"\",IF(VLOOKUP(City!B335,miasta,4,0)=\"\",\"\",VLOOKUP(City!B335,miasta,4,0)))","v":""},null,null,null,"","","","","","","","","","","",""]
["Nordrhein-Westfalen","Köln",6.9602789999999999,50.937531,"",{"$f":"IF(ISERROR(VLOOKUP(City!B336,miasta,4,0)),\"\",IF(VLOOKUP(City!B336,miasta,4,0)=\"\",\"\",VLOOKUP(City!B336,miasta,4,0)))","v":""},null,null,null,"","","","","","","","","","","",""]
["Nordrhein-Westfalen","Krefeld",6.5853419999999998,51.338760999999998,"",{"$f":"IF(ISERROR(VLOOKUP(City!B337,miasta,4,0)),\"\",IF(VLOOKUP(City!B337,miasta,4,0)=\"\",\"\",VLOOKUP(City!B337,miasta,4,0)))","v":""},null,null,null,"","","","","","","","","","","",""]
["Sachsen","Leipzig",12.373075,51.339696000000004,"",{"$f":"IF(ISERROR(VLOOKUP(City!B338,miasta,4,0)),\"\",IF(VLOOKUP(City!B338,miasta,4,0)=\"\",\"\",VLOOKUP(City!B338,miasta,4,0)))","v":""},null,null,null,"","","","","","","","","","","",""]
["Nordrhein-Westfalen","Leverkusen",7.0192199999999998,51.045924999999997,"",{"$f":"IF(ISERROR(VLOOKUP(City!B339,miasta,4,0)),\"\",IF(VLOOKUP(City!B339,miasta,4,0)=\"\",\"\",VLOOKUP(City!B339,miasta,4,0)))","v":""},null,null,null,"","","","","","","","","","","",""]
["Schleswig-Holstein","Lübeck",10.687096,53.865886000000003,"",{"$f":"IF(ISERROR(VLOOKUP(City!B340,miasta,4,0)),\"\",IF(VLOOKUP(City!B340,miasta,4,0)=\"\",\"\",VLOOKUP(City!B340,miasta,4,0)))","v":""},null,null,null,"","","","","","","","","","","",""]
["Sachsen-Anhalt","Magdeburg",11.628878,52.130806999999997,"",{"$f":"IF(ISERROR(VLOOKUP(City!B341,miasta,4,0)),\"\",IF(VLOOKUP(City!B341,miasta,4,0)=\"\",\"\",VLOOKUP(City!B341,miasta,4,0)))","v":""},null,null,null,"","","","","","","","","","","",""]
["Rheinland-Pfalz","Mainz",8.2472530000000006,49.992862000000002,"",{"$f":"IF(ISERROR(VLOOKUP(City!B342,miasta,4,0)),\"\",IF(VLOOKUP(City!B342,miasta,4,0)=\"\",\"\",VLOOKUP(City!B342,miasta,4,0)))","v":""},null,null,null,"","","","","","","","","","","",""]
["Baden-Württemberg","Mannheim",8.4660390000000003,49.487459000000001,0,{"$f":"IF(ISERROR(VLOOKUP(City!B343,miasta,4,0)),\"\",IF(VLOOKUP(City!B343,miasta,4,0)=\"\",\"\",VLOOKUP(City!B343,miasta,4,0)))","v":""},null,null,null,"","","","","","","","","","","",""]
["Bayern","Memmingen",10.180187999999999,47.983800000000002,"",{"$f":"IF(ISERROR(VLOOKUP(City!B344,miasta,4,0)),\"\",IF(VLOOKUP(City!B344,miasta,4,0)=\"\",\"\",VLOOKUP(City!B344,miasta,4,0)))","v":""},null,null,null,"","","","","","","","","","","",""]
["Nordrhein-Westfalen","Mönchengladbach",6.4428039999999998,51.180456999999997,"",{"$f":"IF(ISERROR(VLOOKUP(City!B345,miasta,4,0)),\"\",IF(VLOOKUP(City!B345,miasta,4,0)=\"\",\"\",VLOOKUP(City!B345,miasta,4,0)))","v":""},null,null,null,"","","","","","","","","","","",""]
["Nordrhein-Westfalen","Mülheim an der Ruhr",6.8845229999999997,51.418568,"",{"$f":"IF(ISERROR(VLOOKUP(City!B346,miasta,4,0)),\"\",IF(VLOOKUP(City!B346,miasta,4,0)=\"\",\"\",VLOOKUP(City!B346,miasta,4,0)))","v":""},null,null,null,"","","","","","","","","","","",""]
["Nordrhein-Westfalen","Münster",7.6261349999999997,51.960664999999999,"",{"$f":"IF(ISERROR(VLOOKUP(City!B347,miasta,4,0)),\"\",IF(VLOOKUP(City!B347,miasta,4,0)=\"\",\"\",VLOOKUP(City!B347,miasta,4,0)))","v":""},null,null,null,"","","","","","","","","","","",""]
["Schleswig-Holstein","Neumünster",9.9840160000000004,54.072943000000002,"",{"$f":"IF(ISERROR(VLOOKUP(City!B348,miasta,4,0)),\"\",IF(VLOOKUP(City!B348,miasta,4,0)=\"\",\"\",VLOOKUP(City!B348,miasta,4,0)))","v":""},null,null,null,"","","","","","","","","","","",""]
["Rheinland-Pfalz","Neustadt an der Weinstraße",8.1486889999999992,49.350186000000001,"",{"$f":"IF(ISERROR(VLOOKUP(City!B349,miasta,4,0)),\"\",IF(VLOOKUP(City!B349,miasta,4,0)=\"\",\"\",VLOOKUP(City!B349,miasta,4,0)))","v":""},null,null,null,"","","","","","","","","","","",""]
["Bayern","Nürnberg",11.076750000000001,49.452030000000001,"",{"$f":"IF(ISERROR(VLOOKUP(City!B350,miasta,4,0)),\"\",IF(VLOOKUP(City!B350,miasta,4,0)=\"\",\"\",VLOOKUP(City!B350,miasta,4,0)))","v":""},null,null,null,"","","","","","","","","","","",""]
["Nordrhein-Westfalen","Oberhausen",6.8515160000000002,51.496488999999997,"",{"$f":"IF(ISERROR(VLOOKUP(City!B351,miasta,4,0)),\"\",IF(VLOOKUP(City!B351,miasta,4,0)=\"\",\"\",VLOOKUP(City!B351,miasta,4,0)))","v":""},null,null,null,"","","","","","","","","","","",""]
["Hessen","Offenbach am Main",8.7760840000000009,50.095635999999999,"",{"$f":"IF(ISERROR(VLOOKUP(City!B352,miasta,4,0)),\"\",IF(VLOOKUP(City!B352,miasta,4,0)=\"\",\"\",VLOOKUP(City!B352,miasta,4,0)))","v":""},null,null,null,"","","","","","","","","","","",""]
["Niedersachsen","Oldenburg",8.2106030000000008,53.147739000000001,"",{"$f":"IF(ISERROR(VLOOKUP(City!B353,miasta,4,0)),\"\",IF(VLOOKUP(City!B353,miasta,4,0)=\"\",\"\",VLOOKUP(City!B353,miasta,4,0)))","v":""},null,null,null,"","","","","","","","","","","",""]
["Brandenburg","Potsdam",13.072691000000001,52.394188999999997,"",{"$f":"IF(ISERROR(VLOOKUP(City!B354,miasta,4,0)),\"\",IF(VLOOKUP(City!B354,miasta,4,0)=\"\",\"\",VLOOKUP(City!B354,miasta,4,0)))","v":""},null,null,null,"","","","","","","","","","","",""]
["Nordrhein-Westfalen","Remscheid",7.1890340000000004,51.178919,"",{"$f":"IF(ISERROR(VLOOKUP(City!B355,miasta,4,0)),\"\",IF(VLOOKUP(City!B355,miasta,4,0)=\"\",\"\",VLOOKUP(City!B355,miasta,4,0)))","v":""},null,null,null,"","","","","","","","","","","",""]
["Mecklenburg-Vorpommern","Rostock",12.100429,54.083418999999999,"",{"$f":"IF(ISERROR(VLOOKUP(City!B356,miasta,4,0)),\"\",IF(VLOOKUP(City!B356,miasta,4,0)=\"\",\"\",VLOOKUP(City!B356,miasta,4,0)))","v":""},null,null,null,"","","","","","","","","","","",""]
["Niedersachsen","Salzgitter",10.333299999999999,52.15,"",{"$f":"IF(ISERROR(VLOOKUP(City!B357,miasta,4,0)),\"\",IF(VLOOKUP(City!B357,miasta,4,0)=\"\",\"\",VLOOKUP(City!B357,miasta,4,0)))","v":""},null,null,null,"","","","","","","","","","","",""]
["Bayern","Schwabach",11.024710000000001,49.328456000000003,"",{"$f":"IF(ISERROR(VLOOKUP(City!B358,miasta,4,0)),\"\",IF(VLOOKUP(City!B358,miasta,4,0)=\"\",\"\",VLOOKUP(City!B358,miasta,4,0)))","v":""},null,null,null,"","","","","","","","","","","",""]
["Mecklenburg-Vorpommern","Schwerin",11.412890000000001,53.632435000000001,"",{"$f":"IF(ISERROR(VLOOKUP(City!B359,miasta,4,0)),\"\",IF(VLOOKUP(City!B359,miasta,4,0)=\"\",\"\",VLOOKUP(City!B359,miasta,4,0)))","v":""},null,null,null,"",{"$f":"IF($J359=COLUMN(K359)-10,$E359,\"\")","v":""},"","","","","","","","","",""]
["Nordrhein-Westfalen","Solingen",7.0542569999999998,51.170414999999998,"",{"$f":"IF(ISERROR(VLOOKUP(City!B360,miasta,4,0)),\"\",IF(VLOOKUP(City!B360,miasta,4,0)=\"\",\"\",VLOOKUP(City!B360,miasta,4,0)))","v":""},null,null,null,"","","","","","","","","","","",""]
["Rheinland-Pfalz","Speyer",8.4362169999999992,49.320478999999999,"",{"$f":"IF(ISERROR(VLOOKUP(City!B361,miasta,4,0)),\"\",IF(VLOOKUP(City!B361,miasta,4,0)=\"\",\"\",VLOOKUP(City!B361,miasta,4,0)))","v":""},null,null,null,"","","","","","","","","","","",""]
["Baden-Württemberg","Stuttgart",9.1817589999999996,48.775418000000002,0,{"$f":"IF(ISERROR(VLOOKUP(City!B362,miasta,4,0)),\"\",IF(VLOOKUP(City!B362,miasta,4,0)=\"\",\"\",VLOOKUP(City!B362,miasta,4,0)))","v":""},null,null,null,"","","","","","","","","","","",""]
["Thüringen","Suhl",10.688126,50.607684999999996,"",{"$f":"IF(ISERROR(VLOOKUP(City!B363,miasta,4,0)),\"\",IF(VLOOKUP(City!B363,miasta,4,0)=\"\",\"\",VLOOKUP(City!B363,miasta,4,0)))","v":""},null,null,null,"","","","","","","","","","","",""]
["Bayern","Weiden in der Oberpfalz",12.148934000000001,49.674363999999997,"",{"$f":"IF(ISERROR(VLOOKUP(City!B364,miasta,4,0)),\"\",IF(VLOOKUP(City!B364,miasta,4,0)=\"\",\"\",VLOOKUP(City!B364,miasta,4,0)))","v":""},null,null,null,"","","","","","","","","","","",""]
["Thüringen","Weimar",11.32254,50.984712000000002,"",{"$f":"IF(ISERROR(VLOOKUP(City!B365,miasta,4,0)),\"\",IF(VLOOKUP(City!B365,miasta,4,0)=\"\",\"\",VLOOKUP(City!B365,miasta,4,0)))","v":""},null,null,null,"","","","","","","","","","","",""]
["Hessen","Wiesbaden",8.2433440000000004,50.063079999999999,"",{"$f":"IF(ISERROR(VLOOKUP(City!B366,miasta,4,0)),\"\",IF(VLOOKUP(City!B366,miasta,4,0)=\"\",\"\",VLOOKUP(City!B366,miasta,4,0)))","v":""},null,null,null,"","","","","","","","","","","",""]
["Niedersachsen","Wilhelmshaven",8.1068719999999992,53.532339999999998,"",{"$f":"IF(ISERROR(VLOOKUP(City!B367,miasta,4,0)),\"\",IF(VLOOKUP(City!B367,miasta,4,0)=\"\",\"\",VLOOKUP(City!B367,miasta,4,0)))","v":""},null,null,null,"","","","","","","","","","","",""]
["Niedersachsen","Wolfsburg",10.786546,52.422649999999997,"",{"$f":"IF(ISERROR(VLOOKUP(City!B368,miasta,4,0)),\"\",IF(VLOOKUP(City!B368,miasta,4,0)=\"\",\"\",VLOOKUP(City!B368,miasta,4,0)))","v":""},null,null,null,"","","","","","","","","","","",""]
["Rheinland-Pfalz","Worms",8.3507180000000005,49.634137000000003,"",{"$f":"IF(ISERROR(VLOOKUP(City!B369,miasta,4,0)),\"\",IF(VLOOKUP(City!B369,miasta,4,0)=\"\",\"\",VLOOKUP(City!B369,miasta,4,0)))","v":""},null,null,null,"","","","","","","","","","","",""]
["Nordrhein-Westfalen","Wuppertal",7.1507639999999997,51.256213000000002,"",{"$f":"IF(ISERROR(VLOOKUP(City!B370,miasta,4,0)),\"\",IF(VLOOKUP(City!B370,miasta,4,0)=\"\",\"\",VLOOKUP(City!B370,miasta,4,0)))","v":""},null,null,null,"","","","","","","","","","","",""]
["Rheinland-Pfalz","Zweibrücken",7.3655379999999999,49.249138000000002,"",{"$f":"IF(ISERROR(VLOOKUP(City!B371,miasta,4,0)),\"\",IF(VLOOKUP(City!B371,miasta,4,0)=\"\",\"\",VLOOKUP(City!B371,miasta,4,0)))","v":""},null,null,null,"","","","","","","","","","","",""]
["Schleswig-Holstein","Kiel",10.122764999999999,54.323293,{"$f":"IF(ISERROR(VLOOKUP(A372,Data!A:E,4,0)),\"\",VLOOKUP(A372,Data!A:E,4,0))","v":""},{"$f":"IF(ISERROR(VLOOKUP(City!A372,Data!A:E,5,0)),\"\",IF(VLOOKUP(City!A372,Data!A:E,5,0)=\"\",\"\",VLOOKUP(City!A372,Data!A:E,5,0)))","v":""},null,null,null,"","","","","","","","","","","",""]
["Niedersachsen","Hannover",9.7320100000000007,52.375892,{"$f":"IF(ISERROR(VLOOKUP(A373,Data!A:E,4,0)),\"\",VLOOKUP(A373,Data!A:E,4,0))","v":""},{"$f":"IF(ISERROR(VLOOKUP(City!A373,Data!A:E,5,0)),\"\",IF(VLOOKUP(City!A373,Data!A:E,5,0)=\"\",\"\",VLOOKUP(City!A373,Data!A:E,5,0)))","v":""},null,null,null,"","","","","","","","","","","",""]
["Nordrhein-Westfalen","Düsseldorf",6.7734560000000004,51.227741000000002,{"$f":"IF(ISERROR(VLOOKUP(A374,Data!A:E,4,0)),\"\",VLOOKUP(A374,Data!A:E,4,0))","v":""},{"$f":"IF(ISERROR(VLOOKUP(City!A374,Data!A:E,5,0)),\"\",IF(VLOOKUP(City!A374,Data!A:E,5,0)=\"\",\"\",VLOOKUP(City!A374,Data!A:E,5,0)))","v":""},null,null,null,"","","","","","","","","","","",""]
["Hessen","Wiesbaden",8.2433440000000004,50.163080000000001,{"$f":"IF(ISERROR(VLOOKUP(A375,Data!A:E,4,0)),\"\",VLOOKUP(A375,Data!A:E,4,0))","v":""},{"$f":"IF(ISERROR(VLOOKUP(City!A375,Data!A:E,5,0)),\"\",IF(VLOOKUP(City!A375,Data!A:E,5,0)=\"\",\"\",VLOOKUP(City!A375,Data!A:E,5,0)))","v":""},null,null,null,"","","","","","","","","","","",""]
["Rheinland-Pfalz","Mainz",8.2472530000000006,49.9,{"$f":"IF(ISERROR(VLOOKUP(A376,Data!A:E,4,0)),\"\",VLOOKUP(A376,Data!A:E,4,0))","v":""},{"$f":"IF(ISERROR(VLOOKUP(City!A376,Data!A:E,5,0)),\"\",IF(VLOOKUP(City!A376,Data!A:E,5,0)=\"\",\"\",VLOOKUP(City!A376,Data!A:E,5,0)))","v":""},null,null,null,"","","","","","","","","","","",""]
["Baden-Württemberg","Stuttgart",9.1817589999999996,48.775418000000002,{"$f":"IF(ISERROR(VLOOKUP(A377,Data!A:E,4,0)),\"\",VLOOKUP(A377,Data!A:E,4,0))","v":0},{"$f":"IF(ISERROR(VLOOKUP(City!A377,Data!A:E,5,0)),\"\",IF(VLOOKUP(City!A377,Data!A:E,5,0)=\"\",\"\",VLOOKUP(City!A377,Data!A:E,5,0)))","v":""},null,null,null,"","","","","","","","","","","",""]
["Bayern","München",11.576753999999999,48.136719999999997,{"$f":"IF(ISERROR(VLOOKUP(A378,Data!A:E,4,0)),\"\",VLOOKUP(A378,Data!A:E,4,0))","v":""},{"$f":"IF(ISERROR(VLOOKUP(City!A378,Data!A:E,5,0)),\"\",IF(VLOOKUP(City!A378,Data!A:E,5,0)=\"\",\"\",VLOOKUP(City!A378,Data!A:E,5,0)))","v":""},null,null,null,"","","","","","","","","","","",""]
["Saarland","Saarbrücken",6.9969330000000003,49.240157000000004,{"$f":"IF(ISERROR(VLOOKUP(A379,Data!A:E,4,0)),\"\",VLOOKUP(A379,Data!A:E,4,0))","v":""},{"$f":"IF(ISERROR(VLOOKUP(City!A379,Data!A:E,5,0)),\"\",IF(VLOOKUP(City!A379,Data!A:E,5,0)=\"\",\"\",VLOOKUP(City!A379,Data!A:E,5,0)))","v":""},null,null,null,"","","","","","","","","","","",""]
["Brandenburg","Potsdam",13.072691000000001,52.394188999999997,{"$f":"IF(ISERROR(VLOOKUP(A380,Data!A:E,4,0)),\"\",VLOOKUP(A380,Data!A:E,4,0))","v":""},{"$f":"IF(ISERROR(VLOOKUP(City!A380,Data!A:E,5,0)),\"\",IF(VLOOKUP(City!A380,Data!A:E,5,0)=\"\",\"\",VLOOKUP(City!A380,Data!A:E,5,0)))","v":""},null,null,null,"","","","","","","","","","","",""]
["Mecklenburg-Vorpommern","Schwerin",11.412890000000001,53.632435000000001,{"$f":"IF(ISERROR(VLOOKUP(A381,Data!A:E,4,0)),\"\",VLOOKUP(A381,Data!A:E,4,0))","v":""},{"$f":"IF(ISERROR(VLOOKUP(City!A381,Data!A:E,5,0)),\"\",IF(VLOOKUP(City!A381,Data!A:E,5,0)=\"\",\"\",VLOOKUP(City!A381,Data!A:E,5,0)))","v":""},null,null,null,"","","","","","","","","","","",""]
["Sachsen","Dresden",13.737261999999999,51.050409000000002,{"$f":"IF(ISERROR(VLOOKUP(A382,Data!A:E,4,0)),\"\",VLOOKUP(A382,Data!A:E,4,0))","v":""},{"$f":"IF(ISERROR(VLOOKUP(City!A382,Data!A:E,5,0)),\"\",IF(VLOOKUP(City!A382,Data!A:E,5,0)=\"\",\"\",VLOOKUP(City!A382,Data!A:E,5,0)))","v":""},null,null,null,"","","",{"$f":"IF($J382=COLUMN(M382)-10,$E382,\"\")","v":""},"","","","","","","",""]
["Sachsen-Anhalt","Magdeburg",11.628878,52.130806999999997,{"$f":"IF(ISERROR(VLOOKUP(A383,Data!A:E,4,0)),\"\",VLOOKUP(A383,Data!A:E,4,0))","v":""},{"$f":"IF(ISERROR(VLOOKUP(City!A383,Data!A:E,5,0)),\"\",IF(VLOOKUP(City!A383,Data!A:E,5,0)=\"\",\"\",VLOOKUP(City!A383,Data!A:E,5,0)))","v":""},null,null,null,"",{"$f":"IF($J383=COLUMN(K383)-10,$E383,\"\")","v":""},"","","","","","","","","",""]
["Thüringen","Erfurt",11.02988,50.984768000000003,{"$f":"IF(ISERROR(VLOOKUP(A384,Data!A:E,4,0)),\"\",VLOOKUP(A384,Data!A:E,4,0))","v":""},{"$f":"IF(ISERROR(VLOOKUP(City!A384,Data!A:E,5,0)),\"\",IF(VLOOKUP(City!A384,Data!A:E,5,0)=\"\",\"\",VLOOKUP(City!A384,Data!A:E,5,0)))","v":""},null,null,null,"","","","","","","","","","","",""]
["Berlin","Berlin",13.406091,52.519171,{"$f":"IF(ISERROR(VLOOKUP(A385,Data!A:E,4,0)),\"\",VLOOKUP(A385,Data!A:E,4,0))","v":""},{"$f":"IF(ISERROR(VLOOKUP(City!A385,Data!A:E,5,0)),\"\",IF(VLOOKUP(City!A385,Data!A:E,5,0)=\"\",\"\",VLOOKUP(City!A385,Data!A:E,5,0)))","v":""},null,null,null,"","","","","","","","","","","",""]
["Bremen","Bremen",8.8016939999999995,53.079295999999999,{"$f":"IF(ISERROR(VLOOKUP(A386,Data!A:E,4,0)),\"\",VLOOKUP(A386,Data!A:E,4,0))","v":""},{"$f":"IF(ISERROR(VLOOKUP(City!A386,Data!A:E,5,0)),\"\",IF(VLOOKUP(City!A386,Data!A:E,5,0)=\"\",\"\",VLOOKUP(City!A386,Data!A:E,5,0)))","v":""},null,null,null,"","","","","","","","","","","",""]
["Hamburg","Hamburg",9.9936819999999997,53.551085,{"$f":"IF(ISERROR(VLOOKUP(A387,Data!A:E,4,0)),\"\",VLOOKUP(A387,Data!A:E,4,0))","v":""},{"$f":"IF(ISERROR(VLOOKUP(City!A387,Data!A:E,5,0)),\"\",IF(VLOOKUP(City!A387,Data!A:E,5,0)=\"\",\"\",VLOOKUP(City!A387,Data!A:E,5,0)))","v":""},null,null,null,{"$f":"IF(ISERROR(VLOOKUP(F387,$G$2:$I$12,3,1)),\"\",VLOOKUP(F387,$G$2:$I$12,3,1))","v":""},"","","","","","","","","","",""]
[null,null,null,null,{"$f":"IF(ISERROR(VLOOKUP(B388,miasta,3,0)),\"\",VLOOKUP(B388,miasta,3,0))","v":""},{"$f":"IF(ISERROR(VLOOKUP(City!B388,miasta,4,0)),\"\",IF(VLOOKUP(City!B388,miasta,4,0)=\"\",\"\",VLOOKUP(City!B388,miasta,4,0)))","v":""},null,null,null,"","","","","","","","","","","",""]
[null,null,null,null,"",{"$f":"IF(ISERROR(VLOOKUP(City!B389,miasta,4,0)),\"\",IF(VLOOKUP(City!B389,miasta,4,0)=\"\",\"\",VLOOKUP(City!B389,miasta,4,0)))","v":""},null,null,null,"","","","","","","","","","","",""]
[null,null,null,null,"",{"$f":"IF(ISERROR(VLOOKUP(City!B390,miasta,4,0)),\"\",IF(VLOOKUP(City!B390,miasta,4,0)=\"\",\"\",VLOOKUP(City!B390,miasta,4,0)))","v":""},null,null,null,"","","","","","","","","","","",""]
[null,null,null,null,"",{"$f":"IF(ISERROR(VLOOKUP(City!B391,miasta,4,0)),\"\",IF(VLOOKUP(City!B391,miasta,4,0)=\"\",\"\",VLOOKUP(City!B391,miasta,4,0)))","v":""},null,null,null,"","","","","","","","","","","",""]
[null,null,null,null,"",{"$f":"IF(ISERROR(VLOOKUP(City!B392,miasta,4,0)),\"\",IF(VLOOKUP(City!B392,miasta,4,0)=\"\",\"\",VLOOKUP(City!B392,miasta,4,0)))","v":""},null,null,null,"","","","","","","","","","","",""]
[null,null,null,null,"",{"$f":"IF(ISERROR(VLOOKUP(City!B393,miasta,4,0)),\"\",IF(VLOOKUP(City!B393,miasta,4,0)=\"\",\"\",VLOOKUP(City!B393,miasta,4,0)))","v":""},null,null,null,"","","","","","","","","","","",""]
[null,null,null,null,"",{"$f":"IF(ISERROR(VLOOKUP(City!B394,miasta,4,0)),\"\",IF(VLOOKUP(City!B394,miasta,4,0)=\"\",\"\",VLOOKUP(City!B394,miasta,4,0)))","v":""},null,null,null,"","","","","","","","","","","",""]
[null,null,null,null,"",{"$f":"IF(ISERROR(VLOOKUP(City!B395,miasta,4,0)),\"\",IF(VLOOKUP(City!B395,miasta,4,0)=\"\",\"\",VLOOKUP(City!B395,miasta,4,0)))","v":""},null,null,null,"","","","","","","","","","","",""]
[null,null,null,null,"",{"$f":"IF(ISERROR(VLOOKUP(City!B396,miasta,4,0)),\"\",IF(VLOOKUP(City!B396,miasta,4,0)=\"\",\"\",VLOOKUP(City!B396,miasta,4,0)))","v":""},null,null,null,"","","","","","","","","","","",""]
[null,null,null,null,"",{"$f":"IF(ISERROR(VLOOKUP(City!B397,miasta,4,0)),\"\",IF(VLOOKUP(City!B397,miasta,4,0)=\"\",\"\",VLOOKUP(City!B397,miasta,4,0)))","v":""},null,null,null,"","","","","","","","","","","",""]
[null,null,null,null,"",{"$f":"IF(ISERROR(VLOOKUP(City!B398,miasta,4,0)),\"\",IF(VLOOKUP(City!B398,miasta,4,0)=\"\",\"\",VLOOKUP(City!B398,miasta,4,0)))","v":""},null,null,null,"","","","","","","","","","","",""]
[null,null,null,null,"",{"$f":"IF(ISERROR(VLOOKUP(City!B399,miasta,4,0)),\"\",IF(VLOOKUP(City!B399,miasta,4,0)=\"\",\"\",VLOOKUP(City!B399,miasta,4,0)))","v":""},null,null,null,"","","","","","","","","","","",""]
[null,null,null,null,"",{"$f":"IF(ISERROR(VLOOKUP(City!B400,miasta,4,0)),\"\",IF(VLOOKUP(City!B400,miasta,4,0)=\"\",\"\",VLOOKUP(City!B400,miasta,4,0)))","v":""},null,null,null,"","","","","","","","","","","",""]
[null,null,null,null,"",{"$f":"IF(ISERROR(VLOOKUP(City!B401,miasta,4,0)),\"\",IF(VLOOKUP(City!B401,miasta,4,0)=\"\",\"\",VLOOKUP(City!B401,miasta,4,0)))","v":""},null,null,null,"","","","","","","","","","","",""]
[null,null,null,null,"",{"$f":"IF(ISERROR(VLOOKUP(City!B402,miasta,4,0)),\"\",IF(VLOOKUP(City!B402,miasta,4,0)=\"\",\"\",VLOOKUP(City!B402,miasta,4,0)))","v":""},null,null,null,"","","","","","","","","","","",""]
[null,null,null,null,"",{"$f":"IF(ISERROR(VLOOKUP(City!B403,miasta,4,0)),\"\",IF(VLOOKUP(City!B403,miasta,4,0)=\"\",\"\",VLOOKUP(City!B403,miasta,4,0)))","v":""},null,null,null,"","","","","","","","","","","",""]
[null,null,null,null,"",{"$f":"IF(ISERROR(VLOOKUP(City!B404,miasta,4,0)),\"\",IF(VLOOKUP(City!B404,miasta,4,0)=\"\",\"\",VLOOKUP(City!B404,miasta,4,0)))","v":""},null,null,null,"","","","","","","","","","","",""]
[null,null,null,null,"",{"$f":"IF(ISERROR(VLOOKUP(City!B405,miasta,4,0)),\"\",IF(VLOOKUP(City!B405,miasta,4,0)=\"\",\"\",VLOOKUP(City!B405,miasta,4,0)))","v":""},null,null,null,"","","","","","","","","","","",""]
[null,null,null,null,"",{"$f":"IF(ISERROR(VLOOKUP(City!B406,miasta,4,0)),\"\",IF(VLOOKUP(City!B406,miasta,4,0)=\"\",\"\",VLOOKUP(City!B406,miasta,4,0)))","v":""},null,null,null,"","","","","","","","","","","",""]
[null,null,null,null,"",{"$f":"IF(ISERROR(VLOOKUP(City!B407,miasta,4,0)),\"\",IF(VLOOKUP(City!B407,miasta,4,0)=\"\",\"\",VLOOKUP(City!B407,miasta,4,0)))","v":""},null,null,null,"","","","","","","","","","","",""]
[null,null,null,null,"",{"$f":"IF(ISERROR(VLOOKUP(City!B408,miasta,4,0)),\"\",IF(VLOOKUP(City!B408,miasta,4,0)=\"\",\"\",VLOOKUP(City!B408,miasta,4,0)))","v":""},null,null,null,"","","","","","","","","","","",""]
[null,null,null,null,"",{"$f":"IF(ISERROR(VLOOKUP(City!B409,miasta,4,0)),\"\",IF(VLOOKUP(City!B409,miasta,4,0)=\"\",\"\",VLOOKUP(City!B409,miasta,4,0)))","v":""},null,null,null,"","","","","","","","","","","",""]
[null,null,null,null,"",{"$f":"IF(ISERROR(VLOOKUP(City!B410,miasta,4,0)),\"\",IF(VLOOKUP(City!B410,miasta,4,0)=\"\",\"\",VLOOKUP(City!B410,miasta,4,0)))","v":""},null,null,null,"","","","","","",{"$f":"IF($J410=COLUMN(P410)-10,$E410,\"\")","v":""},"","","","",""]
[null,null,null,null,"",{"$f":"IF(ISERROR(VLOOKUP(City!B411,miasta,4,0)),\"\",IF(VLOOKUP(City!B411,miasta,4,0)=\"\",\"\",VLOOKUP(City!B411,miasta,4,0)))","v":""},null,null,null,"","","","","","","","","","","",""]
[null,null,null,null,"",{"$f":"IF(ISERROR(VLOOKUP(City!B412,miasta,4,0)),\"\",IF(VLOOKUP(City!B412,miasta,4,0)=\"\",\"\",VLOOKUP(City!B412,miasta,4,0)))","v":""},null,null,null,"","","","","","","","","","","",""]
[null,null,null,null,"",{"$f":"IF(ISERROR(VLOOKUP(City!B413,miasta,4,0)),\"\",IF(VLOOKUP(City!B413,miasta,4,0)=\"\",\"\",VLOOKUP(City!B413,miasta,4,0)))","v":""},null,null,null,"","","","","","","","","","","",""]
[null,null,null,null,"",{"$f":"IF(ISERROR(VLOOKUP(City!B414,miasta,4,0)),\"\",IF(VLOOKUP(City!B414,miasta,4,0)=\"\",\"\",VLOOKUP(City!B414,miasta,4,0)))","v":""},null,null,null,"","","","","","","","","","","",""]
[null,null,null,null,"",{"$f":"IF(ISERROR(VLOOKUP(City!B415,miasta,4,0)),\"\",IF(VLOOKUP(City!B415,miasta,4,0)=\"\",\"\",VLOOKUP(City!B415,miasta,4,0)))","v":""},null,null,null,"","","","","","","","","","","",""]
[null,null,null,null,"",{"$f":"IF(ISERROR(VLOOKUP(City!B416,miasta,4,0)),\"\",IF(VLOOKUP(City!B416,miasta,4,0)=\"\",\"\",VLOOKUP(City!B416,miasta,4,0)))","v":""},null,null,null,"","","","","","","","","","","",""]
[null,null,null,null,"",{"$f":"IF(ISERROR(VLOOKUP(City!B417,miasta,4,0)),\"\",IF(VLOOKUP(City!B417,miasta,4,0)=\"\",\"\",VLOOKUP(City!B417,miasta,4,0)))","v":""},null,null,null,"","","","","","","","","","","",""]
[null,null,null,null,"",{"$f":"IF(ISERROR(VLOOKUP(City!B418,miasta,4,0)),\"\",IF(VLOOKUP(City!B418,miasta,4,0)=\"\",\"\",VLOOKUP(City!B418,miasta,4,0)))","v":""},null,null,null,"","","","","","","","","","","",""]
[null,null,null,null,"",{"$f":"IF(ISERROR(VLOOKUP(City!B419,miasta,4,0)),\"\",IF(VLOOKUP(City!B419,miasta,4,0)=\"\",\"\",VLOOKUP(City!B419,miasta,4,0)))","v":""},null,null,null,"","","","","","","","","","","",""]
[null,null,null,null,"",{"$f":"IF(ISERROR(VLOOKUP(City!B420,miasta,4,0)),\"\",IF(VLOOKUP(City!B420,miasta,4,0)=\"\",\"\",VLOOKUP(City!B420,miasta,4,0)))","v":""},null,null,null,"","","","","","","","","","","",""]
[null,null,null,null,"",{"$f":"IF(ISERROR(VLOOKUP(City!B421,miasta,4,0)),\"\",IF(VLOOKUP(City!B421,miasta,4,0)=\"\",\"\",VLOOKUP(City!B421,miasta,4,0)))","v":""},null,null,null,"","","","","","","","","","","",""]
[null,null,null,null,"",{"$f":"IF(ISERROR(VLOOKUP(City!B422,miasta,4,0)),\"\",IF(VLOOKUP(City!B422,miasta,4,0)=\"\",\"\",VLOOKUP(City!B422,miasta,4,0)))","v":""},null,null,null,"","","","","","","","","","","",""]
[null,null,null,null,"",{"$f":"IF(ISERROR(VLOOKUP(City!B423,miasta,4,0)),\"\",IF(VLOOKUP(City!B423,miasta,4,0)=\"\",\"\",VLOOKUP(City!B423,miasta,4,0)))","v":""},null,null,null,"","","","","","","","","","","",""]
[null,null,null,null,"",{"$f":"IF(ISERROR(VLOOKUP(City!B424,miasta,4,0)),\"\",IF(VLOOKUP(City!B424,miasta,4,0)=\"\",\"\",VLOOKUP(City!B424,miasta,4,0)))","v":""},null,null,null,"","","","","","","","","","","",""]
[null,null,null,null,"",{"$f":"IF(ISERROR(VLOOKUP(City!B425,miasta,4,0)),\"\",IF(VLOOKUP(City!B425,miasta,4,0)=\"\",\"\",VLOOKUP(City!B425,miasta,4,0)))","v":""},null,null,null,"","","","","","","","","","","",""]
[null,null,null,null,"",{"$f":"IF(ISERROR(VLOOKUP(City!B426,miasta,4,0)),\"\",IF(VLOOKUP(City!B426,miasta,4,0)=\"\",\"\",VLOOKUP(City!B426,miasta,4,0)))","v":""},null,null,null,"","","","","","","","","","","",""]
[null,null,null,null,"",{"$f":"IF(ISERROR(VLOOKUP(City!B427,miasta,4,0)),\"\",IF(VLOOKUP(City!B427,miasta,4,0)=\"\",\"\",VLOOKUP(City!B427,miasta,4,0)))","v":""},null,null,null,"","","","","","","","","","","",""]
[null,null,null,null,"",{"$f":"IF(ISERROR(VLOOKUP(City!B428,miasta,4,0)),\"\",IF(VLOOKUP(City!B428,miasta,4,0)=\"\",\"\",VLOOKUP(City!B428,miasta,4,0)))","v":""},null,null,null,"","","","","","","","","","","",""]
[null,null,null,null,"",{"$f":"IF(ISERROR(VLOOKUP(City!B429,miasta,4,0)),\"\",IF(VLOOKUP(City!B429,miasta,4,0)=\"\",\"\",VLOOKUP(City!B429,miasta,4,0)))","v":""},null,null,null,"","","","","","","","","","","",""]
[null,null,null,null,"",{"$f":"IF(ISERROR(VLOOKUP(City!B430,miasta,4,0)),\"\",IF(VLOOKUP(City!B430,miasta,4,0)=\"\",\"\",VLOOKUP(City!B430,miasta,4,0)))","v":""},null,null,null,"","","","","","","","","","","",""]
[null,null,null,null,"",{"$f":"IF(ISERROR(VLOOKUP(City!B431,miasta,4,0)),\"\",IF(VLOOKUP(City!B431,miasta,4,0)=\"\",\"\",VLOOKUP(City!B431,miasta,4,0)))","v":""},null,null,null,"","","","","","","","","","","",""]
[null,null,null,null,"",{"$f":"IF(ISERROR(VLOOKUP(City!B432,miasta,4,0)),\"\",IF(VLOOKUP(City!B432,miasta,4,0)=\"\",\"\",VLOOKUP(City!B432,miasta,4,0)))","v":""},null,null,null,"","","","","","","","","","","",""]
[null,null,null,null,"",{"$f":"IF(ISERROR(VLOOKUP(City!B433,miasta,4,0)),\"\",IF(VLOOKUP(City!B433,miasta,4,0)=\"\",\"\",VLOOKUP(City!B433,miasta,4,0)))","v":""},null,null,null,"","","","","","","","","","","",""]
[null,null,null,null,"",{"$f":"IF(ISERROR(VLOOKUP(City!B434,miasta,4,0)),\"\",IF(VLOOKUP(City!B434,miasta,4,0)=\"\",\"\",VLOOKUP(City!B434,miasta,4,0)))","v":""},null,null,null,"","","","","","","","","","","",""]
[null,null,null,null,"",{"$f":"IF(ISERROR(VLOOKUP(City!B435,miasta,4,0)),\"\",IF(VLOOKUP(City!B435,miasta,4,0)=\"\",\"\",VLOOKUP(City!B435,miasta,4,0)))","v":""},null,null,null,"","","","","","","","","","","",""]
[null,null,null,null,"",{"$f":"IF(ISERROR(VLOOKUP(City!B436,miasta,4,0)),\"\",IF(VLOOKUP(City!B436,miasta,4,0)=\"\",\"\",VLOOKUP(City!B436,miasta,4,0)))","v":""},null,null,null,"","","","","","","","","","","",""]
[null,null,null,null,"",{"$f":"IF(ISERROR(VLOOKUP(City!B437,miasta,4,0)),\"\",IF(VLOOKUP(City!B437,miasta,4,0)=\"\",\"\",VLOOKUP(City!B437,miasta,4,0)))","v":""},null,null,null,"","","","","","","","","","","",""]
[null,null,null,null,"",{"$f":"IF(ISERROR(VLOOKUP(City!B438,miasta,4,0)),\"\",IF(VLOOKUP(City!B438,miasta,4,0)=\"\",\"\",VLOOKUP(City!B438,miasta,4,0)))","v":""},null,null,null,"","","","","","","","","","","",""]
[null,null,null,null,"",{"$f":"IF(ISERROR(VLOOKUP(City!B439,miasta,4,0)),\"\",IF(VLOOKUP(City!B439,miasta,4,0)=\"\",\"\",VLOOKUP(City!B439,miasta,4,0)))","v":""},null,null,null,"","","","","","","","","","","",""]
[null,null,null,null,"",{"$f":"IF(ISERROR(VLOOKUP(City!B440,miasta,4,0)),\"\",IF(VLOOKUP(City!B440,miasta,4,0)=\"\",\"\",VLOOKUP(City!B440,miasta,4,0)))","v":""},null,null,null,"","","","","","","","","","","",""]
[null,null,null,null,"",{"$f":"IF(ISERROR(VLOOKUP(City!B441,miasta,4,0)),\"\",IF(VLOOKUP(City!B441,miasta,4,0)=\"\",\"\",VLOOKUP(City!B441,miasta,4,0)))","v":""},null,null,null,"","","","","","","","","","","",""]
[null,null,null,null,"",{"$f":"IF(ISERROR(VLOOKUP(City!B442,miasta,4,0)),\"\",IF(VLOOKUP(City!B442,miasta,4,0)=\"\",\"\",VLOOKUP(City!B442,miasta,4,0)))","v":""},null,null,null,"","","","","","","","","","","",""]
[null,null,null,null,"",{"$f":"IF(ISERROR(VLOOKUP(City!B443,miasta,4,0)),\"\",IF(VLOOKUP(City!B443,miasta,4,0)=\"\",\"\",VLOOKUP(City!B443,miasta,4,0)))","v":""},null,null,null,"","","","","","","","","","","",""]
[null,null,null,null,"",{"$f":"IF(ISERROR(VLOOKUP(City!B444,miasta,4,0)),\"\",IF(VLOOKUP(City!B444,miasta,4,0)=\"\",\"\",VLOOKUP(City!B444,miasta,4,0)))","v":""},null,null,null,"","","","","","","","","","","",""]
[null,null,null,null,"",{"$f":"IF(ISERROR(VLOOKUP(City!B445,miasta,4,0)),\"\",IF(VLOOKUP(City!B445,miasta,4,0)=\"\",\"\",VLOOKUP(City!B445,miasta,4,0)))","v":""},null,null,null,"","","","","","","","","","","",""]
[null,null,null,null,"",{"$f":"IF(ISERROR(VLOOKUP(City!B446,miasta,4,0)),\"\",IF(VLOOKUP(City!B446,miasta,4,0)=\"\",\"\",VLOOKUP(City!B446,miasta,4,0)))","v":""},null,null,null,"","","","","","","","","","","",""]
[null,null,null,null,"",{"$f":"IF(ISERROR(VLOOKUP(City!B447,miasta,4,0)),\"\",IF(VLOOKUP(City!B447,miasta,4,0)=\"\",\"\",VLOOKUP(City!B447,miasta,4,0)))","v":""},null,null,null,"",{"$f":"IF($J447=COLUMN(K447)-10,$E447,\"\")","v":""},"","","","","","","","","",""]
[null,null,null,null,"",{"$f":"IF(ISERROR(VLOOKUP(City!B448,miasta,4,0)),\"\",IF(VLOOKUP(City!B448,miasta,4,0)=\"\",\"\",VLOOKUP(City!B448,miasta,4,0)))","v":""},null,null,null,"","","","","","","","","","","",""]
[null,null,null,null,"",{"$f":"IF(ISERROR(VLOOKUP(City!B449,miasta,4,0)),\"\",IF(VLOOKUP(City!B449,miasta,4,0)=\"\",\"\",VLOOKUP(City!B449,miasta,4,0)))","v":""},null,null,null,"","","","","","","","","","","",""]
[null,null,null,null,{"$f":"IF(ISERROR(VLOOKUP(B450,miasta,3,0)),\"\",VLOOKUP(B450,miasta,3,0))","v":""},{"$f":"IF(ISERROR(VLOOKUP(City!B450,miasta,4,0)),\"\",IF(VLOOKUP(City!B450,miasta,4,0)=\"\",\"\",VLOOKUP(City!B450,miasta,4,0)))","v":""},null,null,null,"","","","","","","","","","","",""]
[null,null,null,null,"",{"$f":"IF(ISERROR(VLOOKUP(City!B451,miasta,4,0)),\"\",IF(VLOOKUP(City!B451,miasta,4,0)=\"\",\"\",VLOOKUP(City!B451,miasta,4,0)))","v":""},null,null,null,{"$f":"IF(ISERROR(VLOOKUP(F451,$G$2:$I$12,3,1)),\"\",VLOOKUP(F451,$G$2:$I$12,3,1))","v":""},"","","","","","","","","","",""]
[null,null,null,null,"",{"$f":"IF(ISERROR(VLOOKUP(City!B452,miasta,4,0)),\"\",IF(VLOOKUP(City!B452,miasta,4,0)=\"\",\"\",VLOOKUP(City!B452,miasta,4,0)))","v":""},null,null,null,"","","","","","","","","",{"$f":"IF($J452=COLUMN(S452)-10,$E452,\"\")","v":""},"",""]
[null,null,null,null,"",{"$f":"IF(ISERROR(VLOOKUP(City!B453,miasta,4,0)),\"\",IF(VLOOKUP(City!B453,miasta,4,0)=\"\",\"\",VLOOKUP(City!B453,miasta,4,0)))","v":""},null,null,null,"","","","","","","","","","","",""]
[null,null,null,null,"",{"$f":"IF(ISERROR(VLOOKUP(City!B454,miasta,4,0)),\"\",IF(VLOOKUP(City!B454,miasta,4,0)=\"\",\"\",VLOOKUP(City!B454,miasta,4,0)))","v":""},null,null,null,"","","","","","","","","","","",""]
[null,null,null,null,"",{"$f":"IF(ISERROR(VLOOKUP(City!B455,miasta,4,0)),\"\",IF(VLOOKUP(City!B455,miasta,4,0)=\"\",\"\",VLOOKUP(City!B455,miasta,4,0)))","v":""},null,null,null,"","","","","","","","","","","",""]
[null,null,null,null,"",{"$f":"IF(ISERROR(VLOOKUP(City!B456,miasta,4,0)),\"\",IF(VLOOKUP(City!B456,miasta,4,0)=\"\",\"\",VLOOKUP(City!B456,miasta,4,0)))","v":""},null,null,null,"","","","","","","","","","","",""]
[null,null,null,null,"",{"$f":"IF(ISERROR(VLOOKUP(City!B457,miasta,4,0)),\"\",IF(VLOOKUP(City!B457,miasta,4,0)=\"\",\"\",VLOOKUP(City!B457,miasta,4,0)))","v":""},null,null,null,"","","","","","","","","","","",""]
[null,null,null,null,"",{"$f":"IF(ISERROR(VLOOKUP(City!B458,miasta,4,0)),\"\",IF(VLOOKUP(City!B458,miasta,4,0)=\"\",\"\",VLOOKUP(City!B458,miasta,4,0)))","v":""},null,null,null,"","","","","","","","","","","",""]
[null,null,null,null,"",{"$f":"IF(ISERROR(VLOOKUP(City!B459,miasta,4,0)),\"\",IF(VLOOKUP(City!B459,miasta,4,0)=\"\",\"\",VLOOKUP(City!B459,miasta,4,0)))","v":""},null,null,null,"","","","","","","","","","","",""]
[null,null,null,null,"",{"$f":"IF(ISERROR(VLOOKUP(City!B460,miasta,4,0)),\"\",IF(VLOOKUP(City!B460,miasta,4,0)=\"\",\"\",VLOOKUP(City!B460,miasta,4,0)))","v":""},null,null,null,"","","","","","","","","","","",""]
[null,null,null,null,"",{"$f":"IF(ISERROR(VLOOKUP(City!B461,miasta,4,0)),\"\",IF(VLOOKUP(City!B461,miasta,4,0)=\"\",\"\",VLOOKUP(City!B461,miasta,4,0)))","v":""},null,null,null,"","","","","","","","","","","",""]
[null,null,null,null,"",{"$f":"IF(ISERROR(VLOOKUP(City!B462,miasta,4,0)),\"\",IF(VLOOKUP(City!B462,miasta,4,0)=\"\",\"\",VLOOKUP(City!B462,miasta,4,0)))","v":""},null,null,null,"","","","","","","","","","","",""]
[null,null,null,null,"",{"$f":"IF(ISERROR(VLOOKUP(City!B463,miasta,4,0)),\"\",IF(VLOOKUP(City!B463,miasta,4,0)=\"\",\"\",VLOOKUP(City!B463,miasta,4,0)))","v":""},null,null,null,"","","","","","","","","","","",""]
[null,null,null,null,"",{"$f":"IF(ISERROR(VLOOKUP(City!B464,miasta,4,0)),\"\",IF(VLOOKUP(City!B464,miasta,4,0)=\"\",\"\",VLOOKUP(City!B464,miasta,4,0)))","v":""},null,null,null,"","","","","","","","","","","",""]
[null,null,null,null,"",{"$f":"IF(ISERROR(VLOOKUP(City!B465,miasta,4,0)),\"\",IF(VLOOKUP(City!B465,miasta,4,0)=\"\",\"\",VLOOKUP(City!B465,miasta,4,0)))","v":""},null,null,null,"","","","","","","","","","","",""]
[null,null,null,null,"",{"$f":"IF(ISERROR(VLOOKUP(City!B466,miasta,4,0)),\"\",IF(VLOOKUP(City!B466,miasta,4,0)=\"\",\"\",VLOOKUP(City!B466,miasta,4,0)))","v":""},null,null,null,"","","","","","","","","","","",""]
[null,null,null,null,"",{"$f":"IF(ISERROR(VLOOKUP(City!B467,miasta,4,0)),\"\",IF(VLOOKUP(City!B467,miasta,4,0)=\"\",\"\",VLOOKUP(City!B467,miasta,4,0)))","v":""},null,null,null,"","","","","","","","","","","",""]
[null,null,null,null,"",{"$f":"IF(ISERROR(VLOOKUP(City!B468,miasta,4,0)),\"\",IF(VLOOKUP(City!B468,miasta,4,0)=\"\",\"\",VLOOKUP(City!B468,miasta,4,0)))","v":""},null,null,null,"","","","","","","","","","","",""]
[null,null,null,null,"",{"$f":"IF(ISERROR(VLOOKUP(City!B469,miasta,4,0)),\"\",IF(VLOOKUP(City!B469,miasta,4,0)=\"\",\"\",VLOOKUP(City!B469,miasta,4,0)))","v":""},null,null,null,"","","","","","","","","","","",""]
[null,null,null,null,"",{"$f":"IF(ISERROR(VLOOKUP(City!B470,miasta,4,0)),\"\",IF(VLOOKUP(City!B470,miasta,4,0)=\"\",\"\",VLOOKUP(City!B470,miasta,4,0)))","v":""},null,null,null,"","","","","","","","","","","",""]
[null,null,null,null,"",{"$f":"IF(ISERROR(VLOOKUP(City!B471,miasta,4,0)),\"\",IF(VLOOKUP(City!B471,miasta,4,0)=\"\",\"\",VLOOKUP(City!B471,miasta,4,0)))","v":""},null,null,null,"","","","","","","","","","","",""]
[null,null,null,null,"",{"$f":"IF(ISERROR(VLOOKUP(City!B472,miasta,4,0)),\"\",IF(VLOOKUP(City!B472,miasta,4,0)=\"\",\"\",VLOOKUP(City!B472,miasta,4,0)))","v":""},null,null,null,"","","","","","","","","","","",""]
[null,null,null,null,"",{"$f":"IF(ISERROR(VLOOKUP(City!B473,miasta,4,0)),\"\",IF(VLOOKUP(City!B473,miasta,4,0)=\"\",\"\",VLOOKUP(City!B473,miasta,4,0)))","v":""},null,null,null,"","","","","","","","","","","",""]
[null,null,null,null,"",{"$f":"IF(ISERROR(VLOOKUP(City!B474,miasta,4,0)),\"\",IF(VLOOKUP(City!B474,miasta,4,0)=\"\",\"\",VLOOKUP(City!B474,miasta,4,0)))","v":""},null,null,null,"","","","","","","","","","","",""]
[null,null,null,null,"",{"$f":"IF(ISERROR(VLOOKUP(City!B475,miasta,4,0)),\"\",IF(VLOOKUP(City!B475,miasta,4,0)=\"\",\"\",VLOOKUP(City!B475,miasta,4,0)))","v":""},null,null,null,"","","","","","","","","","","",""]
[null,null,null,null,"",{"$f":"IF(ISERROR(VLOOKUP(City!B476,miasta,4,0)),\"\",IF(VLOOKUP(City!B476,miasta,4,0)=\"\",\"\",VLOOKUP(City!B476,miasta,4,0)))","v":""},null,null,null,"","","","","","","","","","","",""]
[null,null,null,null,"",{"$f":"IF(ISERROR(VLOOKUP(City!B477,miasta,4,0)),\"\",IF(VLOOKUP(City!B477,miasta,4,0)=\"\",\"\",VLOOKUP(City!B477,miasta,4,0)))","v":""},null,null,null,"","","","","","","","","","","",""]
[null,null,null,null,"",{"$f":"IF(ISERROR(VLOOKUP(City!B478,miasta,4,0)),\"\",IF(VLOOKUP(City!B478,miasta,4,0)=\"\",\"\",VLOOKUP(City!B478,miasta,4,0)))","v":""},null,null,null,"","","","","","","","","","","",""]
[null,null,null,null,"",{"$f":"IF(ISERROR(VLOOKUP(City!B479,miasta,4,0)),\"\",IF(VLOOKUP(City!B479,miasta,4,0)=\"\",\"\",VLOOKUP(City!B479,miasta,4,0)))","v":""},null,null,null,"","","","","","","","","","","",""]
[null,null,null,null,"",{"$f":"IF(ISERROR(VLOOKUP(City!B480,miasta,4,0)),\"\",IF(VLOOKUP(City!B480,miasta,4,0)=\"\",\"\",VLOOKUP(City!B480,miasta,4,0)))","v":""},null,null,null,"","","","","","","","","","","",""]
[null,null,null,null,"",{"$f":"IF(ISERROR(VLOOKUP(City!B481,miasta,4,0)),\"\",IF(VLOOKUP(City!B481,miasta,4,0)=\"\",\"\",VLOOKUP(City!B481,miasta,4,0)))","v":""},null,null,null,"","",{"$f":"IF($J481=COLUMN(L481)-10,$E481,\"\")","v":""},"","","","","","","","",""]
[null,null,null,null,"",{"$f":"IF(ISERROR(VLOOKUP(City!B482,miasta,4,0)),\"\",IF(VLOOKUP(City!B482,miasta,4,0)=\"\",\"\",VLOOKUP(City!B482,miasta,4,0)))","v":""},null,null,null,"",{"$f":"IF($J482=COLUMN(K482)-10,$E482,\"\")","v":""},"","","","","","","","","",""]
[null,null,null,null,"",{"$f":"IF(ISERROR(VLOOKUP(City!B483,miasta,4,0)),\"\",IF(VLOOKUP(City!B483,miasta,4,0)=\"\",\"\",VLOOKUP(City!B483,miasta,4,0)))","v":""},null,null,null,"","","","","","","","","","","",""]
[null,null,null,null,"",{"$f":"IF(ISERROR(VLOOKUP(City!B484,miasta,4,0)),\"\",IF(VLOOKUP(City!B484,miasta,4,0)=\"\",\"\",VLOOKUP(City!B484,miasta,4,0)))","v":""},null,null,null,"","","","","","","","","","","",""]
[null,null,null,null,"",{"$f":"IF(ISERROR(VLOOKUP(City!B485,miasta,4,0)),\"\",IF(VLOOKUP(City!B485,miasta,4,0)=\"\",\"\",VLOOKUP(City!B485,miasta,4,0)))","v":""},null,null,null,"","","","","","","","","","","",""]
[null,null,null,null,"",{"$f":"IF(ISERROR(VLOOKUP(City!B486,miasta,4,0)),\"\",IF(VLOOKUP(City!B486,miasta,4,0)=\"\",\"\",VLOOKUP(City!B486,miasta,4,0)))","v":""},null,null,null,"","","","","","","","","","","",""]
[null,null,null,null,"",{"$f":"IF(ISERROR(VLOOKUP(City!B487,miasta,4,0)),\"\",IF(VLOOKUP(City!B487,miasta,4,0)=\"\",\"\",VLOOKUP(City!B487,miasta,4,0)))","v":""},null,null,null,"","","","","","","","","","","",""]
[null,null,null,null,"",{"$f":"IF(ISERROR(VLOOKUP(City!B488,miasta,4,0)),\"\",IF(VLOOKUP(City!B488,miasta,4,0)=\"\",\"\",VLOOKUP(City!B488,miasta,4,0)))","v":""},null,null,null,"","","","","","","","","","","",""]
[null,null,null,null,"",{"$f":"IF(ISERROR(VLOOKUP(City!B489,miasta,4,0)),\"\",IF(VLOOKUP(City!B489,miasta,4,0)=\"\",\"\",VLOOKUP(City!B489,miasta,4,0)))","v":""},null,null,null,"","","","","","","","","","","",""]
[null,null,null,null,"",{"$f":"IF(ISERROR(VLOOKUP(City!B490,miasta,4,0)),\"\",IF(VLOOKUP(City!B490,miasta,4,0)=\"\",\"\",VLOOKUP(City!B490,miasta,4,0)))","v":""},null,null,null,"","","","","","","","","","","",""]
[null,null,null,null,"",{"$f":"IF(ISERROR(VLOOKUP(City!B491,miasta,4,0)),\"\",IF(VLOOKUP(City!B491,miasta,4,0)=\"\",\"\",VLOOKUP(City!B491,miasta,4,0)))","v":""},null,null,null,"","","","","","","","","","","",""]
[null,null,null,null,"",{"$f":"IF(ISERROR(VLOOKUP(City!B492,miasta,4,0)),\"\",IF(VLOOKUP(City!B492,miasta,4,0)=\"\",\"\",VLOOKUP(City!B492,miasta,4,0)))","v":""},null,null,null,"","","","","","","","","","","",""]
[null,null,null,null,"",{"$f":"IF(ISERROR(VLOOKUP(City!B493,miasta,4,0)),\"\",IF(VLOOKUP(City!B493,miasta,4,0)=\"\",\"\",VLOOKUP(City!B493,miasta,4,0)))","v":""},null,null,null,"","","","","","","","","","","",""]
[null,null,null,null,"",{"$f":"IF(ISERROR(VLOOKUP(City!B494,miasta,4,0)),\"\",IF(VLOOKUP(City!B494,miasta,4,0)=\"\",\"\",VLOOKUP(City!B494,miasta,4,0)))","v":""},null,null,null,"","","","","","","","","","","",""]
[null,null,null,null,"",{"$f":"IF(ISERROR(VLOOKUP(City!B495,miasta,4,0)),\"\",IF(VLOOKUP(City!B495,miasta,4,0)=\"\",\"\",VLOOKUP(City!B495,miasta,4,0)))","v":""},null,null,null,"","","","","","","","","","","",""]
[null,null,null,null,"",{"$f":"IF(ISERROR(VLOOKUP(City!B496,miasta,4,0)),\"\",IF(VLOOKUP(City!B496,miasta,4,0)=\"\",\"\",VLOOKUP(City!B496,miasta,4,0)))","v":""},null,null,null,"","","","","","","","","","","",""]
[null,null,null,null,"",{"$f":"IF(ISERROR(VLOOKUP(City!B497,miasta,4,0)),\"\",IF(VLOOKUP(City!B497,miasta,4,0)=\"\",\"\",VLOOKUP(City!B497,miasta,4,0)))","v":""},null,null,null,"","","","","","","","","","","",""]
[null,null,null,null,"",{"$f":"IF(ISERROR(VLOOKUP(City!B498,miasta,4,0)),\"\",IF(VLOOKUP(City!B498,miasta,4,0)=\"\",\"\",VLOOKUP(City!B498,miasta,4,0)))","v":""},null,null,null,"","","","","","","","","","","",""]
[null,null,null,null,"",{"$f":"IF(ISERROR(VLOOKUP(City!B499,miasta,4,0)),\"\",IF(VLOOKUP(City!B499,miasta,4,0)=\"\",\"\",VLOOKUP(City!B499,miasta,4,0)))","v":""},null,null,null,"","","","","","","","","","","",""]
[null,null,null,null,"",{"$f":"IF(ISERROR(VLOOKUP(City!B500,miasta,4,0)),\"\",IF(VLOOKUP(City!B500,miasta,4,0)=\"\",\"\",VLOOKUP(City!B500,miasta,4,0)))","v":""},null,null,null,"","","","","","","","","","","",""]
[null,null,null,null,"",{"$f":"IF(ISERROR(VLOOKUP(City!B501,miasta,4,0)),\"\",IF(VLOOKUP(City!B501,miasta,4,0)=\"\",\"\",VLOOKUP(City!B501,miasta,4,0)))","v":""},null,null,null,"","","","","","","","","","","",""]
[null,null,null,null,"",{"$f":"IF(ISERROR(VLOOKUP(City!B502,miasta,4,0)),\"\",IF(VLOOKUP(City!B502,miasta,4,0)=\"\",\"\",VLOOKUP(City!B502,miasta,4,0)))","v":""},null,null,null,"","","","","","","","","","","",""]
[null,null,null,null,"",{"$f":"IF(ISERROR(VLOOKUP(City!B503,miasta,4,0)),\"\",IF(VLOOKUP(City!B503,miasta,4,0)=\"\",\"\",VLOOKUP(City!B503,miasta,4,0)))","v":""},null,null,null,"","","","","","","","","","","",""]
[null,null,null,null,"",{"$f":"IF(ISERROR(VLOOKUP(City!B504,miasta,4,0)),\"\",IF(VLOOKUP(City!B504,miasta,4,0)=\"\",\"\",VLOOKUP(City!B504,miasta,4,0)))","v":""},null,null,null,"","","","","","","","","","","",""]
[null,null,null,null,"",{"$f":"IF(ISERROR(VLOOKUP(City!B505,miasta,4,0)),\"\",IF(VLOOKUP(City!B505,miasta,4,0)=\"\",\"\",VLOOKUP(City!B505,miasta,4,0)))","v":""},null,null,null,"","","","","","","","","","","",""]
[null,null,null,null,"",{"$f":"IF(ISERROR(VLOOKUP(City!B506,miasta,4,0)),\"\",IF(VLOOKUP(City!B506,miasta,4,0)=\"\",\"\",VLOOKUP(City!B506,miasta,4,0)))","v":""},null,null,null,"","","","","","","","","","","",""]
[null,null,null,null,"",{"$f":"IF(ISERROR(VLOOKUP(City!B507,miasta,4,0)),\"\",IF(VLOOKUP(City!B507,miasta,4,0)=\"\",\"\",VLOOKUP(City!B507,miasta,4,0)))","v":""},null,null,null,"","","","","","","","","","","",""]
[null,null,null,null,"",{"$f":"IF(ISERROR(VLOOKUP(City!B508,miasta,4,0)),\"\",IF(VLOOKUP(City!B508,miasta,4,0)=\"\",\"\",VLOOKUP(City!B508,miasta,4,0)))","v":""},null,null,null,"","","","","","","","","","","",""]
[null,null,null,null,"",{"$f":"IF(ISERROR(VLOOKUP(City!B509,miasta,4,0)),\"\",IF(VLOOKUP(City!B509,miasta,4,0)=\"\",\"\",VLOOKUP(City!B509,miasta,4,0)))","v":""},null,null,null,"","","","","","","","","","","",""]
[null,null,null,null,"",{"$f":"IF(ISERROR(VLOOKUP(City!B510,miasta,4,0)),\"\",IF(VLOOKUP(City!B510,miasta,4,0)=\"\",\"\",VLOOKUP(City!B510,miasta,4,0)))","v":""},null,null,null,"","","","","","","","","","","",""]
[null,null,null,null,"",{"$f":"IF(ISERROR(VLOOKUP(City!B511,miasta,4,0)),\"\",IF(VLOOKUP(City!B511,miasta,4,0)=\"\",\"\",VLOOKUP(City!B511,miasta,4,0)))","v":""},null,null,null,"","","","","","","","","","","",""]
[null,null,null,null,"",{"$f":"IF(ISERROR(VLOOKUP(City!B512,miasta,4,0)),\"\",IF(VLOOKUP(City!B512,miasta,4,0)=\"\",\"\",VLOOKUP(City!B512,miasta,4,0)))","v":""},null,null,null,"","","","","","","","","","","",""]
[null,null,null,null,"",{"$f":"IF(ISERROR(VLOOKUP(City!B513,miasta,4,0)),\"\",IF(VLOOKUP(City!B513,miasta,4,0)=\"\",\"\",VLOOKUP(City!B513,miasta,4,0)))","v":""},null,null,null,"","","","","","","","","","","",""]
[null,null,null,null,{"$f":"IF(ISERROR(VLOOKUP(B514,miasta,3,0)),\"\",VLOOKUP(B514,miasta,3,0))","v":""},{"$f":"IF(ISERROR(VLOOKUP(City!B514,miasta,4,0)),\"\",IF(VLOOKUP(City!B514,miasta,4,0)=\"\",\"\",VLOOKUP(City!B514,miasta,4,0)))","v":""},null,null,null,"","","","","","","","","","","",""]
[null,null,null,null,"",{"$f":"IF(ISERROR(VLOOKUP(City!B515,miasta,4,0)),\"\",IF(VLOOKUP(City!B515,miasta,4,0)=\"\",\"\",VLOOKUP(City!B515,miasta,4,0)))","v":""},null,null,null,{"$f":"IF(ISERROR(VLOOKUP(F515,$G$2:$I$12,3,1)),\"\",VLOOKUP(F515,$G$2:$I$12,3,1))","v":""},"","","","","","","","","","",""]
[null,null,null,null,"",{"$f":"IF(ISERROR(VLOOKUP(City!B516,miasta,4,0)),\"\",IF(VLOOKUP(City!B516,miasta,4,0)=\"\",\"\",VLOOKUP(City!B516,miasta,4,0)))","v":""},null,null,null,"","","","","","","","","","","",""]
[null,null,null,null,"",{"$f":"IF(ISERROR(VLOOKUP(City!B517,miasta,4,0)),\"\",IF(VLOOKUP(City!B517,miasta,4,0)=\"\",\"\",VLOOKUP(City!B517,miasta,4,0)))","v":""},null,null,null,"","","","","","","","","","","",""]
[null,null,null,null,"",{"$f":"IF(ISERROR(VLOOKUP(City!B518,miasta,4,0)),\"\",IF(VLOOKUP(City!B518,miasta,4,0)=\"\",\"\",VLOOKUP(City!B518,miasta,4,0)))","v":""},null,null,null,"","","","","","","","","","","",""]
[null,null,null,null,"",{"$f":"IF(ISERROR(VLOOKUP(City!B519,miasta,4,0)),\"\",IF(VLOOKUP(City!B519,miasta,4,0)=\"\",\"\",VLOOKUP(City!B519,miasta,4,0)))","v":""},null,null,null,"","","","","","","","","","","",""]
[null,null,null,null,"",{"$f":"IF(ISERROR(VLOOKUP(City!B520,miasta,4,0)),\"\",IF(VLOOKUP(City!B520,miasta,4,0)=\"\",\"\",VLOOKUP(City!B520,miasta,4,0)))","v":""},null,null,null,"","","","","","","","","","","",""]
[null,null,null,null,"",{"$f":"IF(ISERROR(VLOOKUP(City!B521,miasta,4,0)),\"\",IF(VLOOKUP(City!B521,miasta,4,0)=\"\",\"\",VLOOKUP(City!B521,miasta,4,0)))","v":""},null,null,null,"","","","","","","","","","","",""]
[null,null,null,null,"",{"$f":"IF(ISERROR(VLOOKUP(City!B522,miasta,4,0)),\"\",IF(VLOOKUP(City!B522,miasta,4,0)=\"\",\"\",VLOOKUP(City!B522,miasta,4,0)))","v":""},null,null,null,"","","","","","","","","","","",""]
[null,null,null,null,"",{"$f":"IF(ISERROR(VLOOKUP(City!B523,miasta,4,0)),\"\",IF(VLOOKUP(City!B523,miasta,4,0)=\"\",\"\",VLOOKUP(City!B523,miasta,4,0)))","v":""},null,null,null,"","","","","","","","","","","",""]
[null,null,null,null,"",{"$f":"IF(ISERROR(VLOOKUP(City!B524,miasta,4,0)),\"\",IF(VLOOKUP(City!B524,miasta,4,0)=\"\",\"\",VLOOKUP(City!B524,miasta,4,0)))","v":""},null,null,null,"","","","","","","","","","","",""]
[null,null,null,null,"",{"$f":"IF(ISERROR(VLOOKUP(City!B525,miasta,4,0)),\"\",IF(VLOOKUP(City!B525,miasta,4,0)=\"\",\"\",VLOOKUP(City!B525,miasta,4,0)))","v":""},null,null,null,"","","","","","","","","","","",""]
[null,null,null,null,"",{"$f":"IF(ISERROR(VLOOKUP(City!B526,miasta,4,0)),\"\",IF(VLOOKUP(City!B526,miasta,4,0)=\"\",\"\",VLOOKUP(City!B526,miasta,4,0)))","v":""},null,null,null,"","","","","","","","","","","",""]
[null,null,null,null,"",{"$f":"IF(ISERROR(VLOOKUP(City!B527,miasta,4,0)),\"\",IF(VLOOKUP(City!B527,miasta,4,0)=\"\",\"\",VLOOKUP(City!B527,miasta,4,0)))","v":""},null,null,null,"","","","","","","","","","","",""]
[null,null,null,null,"",{"$f":"IF(ISERROR(VLOOKUP(City!B528,miasta,4,0)),\"\",IF(VLOOKUP(City!B528,miasta,4,0)=\"\",\"\",VLOOKUP(City!B528,miasta,4,0)))","v":""},null,null,null,"","","","","","","","","","","",""]
[null,null,null,null,"",{"$f":"IF(ISERROR(VLOOKUP(City!B529,miasta,4,0)),\"\",IF(VLOOKUP(City!B529,miasta,4,0)=\"\",\"\",VLOOKUP(City!B529,miasta,4,0)))","v":""},null,null,null,"","","","","","","","","","","",""]
[null,null,null,null,"",{"$f":"IF(ISERROR(VLOOKUP(City!B530,miasta,4,0)),\"\",IF(VLOOKUP(City!B530,miasta,4,0)=\"\",\"\",VLOOKUP(City!B530,miasta,4,0)))","v":""},null,null,null,"","","","","","","","","","","",""]
[null,null,null,null,"",{"$f":"IF(ISERROR(VLOOKUP(City!B531,miasta,4,0)),\"\",IF(VLOOKUP(City!B531,miasta,4,0)=\"\",\"\",VLOOKUP(City!B531,miasta,4,0)))","v":""},null,null,null,"","","","","","","","","","","",""]
[null,null,null,null,"",{"$f":"IF(ISERROR(VLOOKUP(City!B532,miasta,4,0)),\"\",IF(VLOOKUP(City!B532,miasta,4,0)=\"\",\"\",VLOOKUP(City!B532,miasta,4,0)))","v":""},null,null,null,"","","","","","","","","","","",""]
[null,null,null,null,"",{"$f":"IF(ISERROR(VLOOKUP(City!B533,miasta,4,0)),\"\",IF(VLOOKUP(City!B533,miasta,4,0)=\"\",\"\",VLOOKUP(City!B533,miasta,4,0)))","v":""},null,null,null,"","","","","","","","","","","",""]
[null,null,null,null,"",{"$f":"IF(ISERROR(VLOOKUP(City!B534,miasta,4,0)),\"\",IF(VLOOKUP(City!B534,miasta,4,0)=\"\",\"\",VLOOKUP(City!B534,miasta,4,0)))","v":""},null,null,null,"","","","","","","","","","","",""]
[null,null,null,null,"",{"$f":"IF(ISERROR(VLOOKUP(City!B535,miasta,4,0)),\"\",IF(VLOOKUP(City!B535,miasta,4,0)=\"\",\"\",VLOOKUP(City!B535,miasta,4,0)))","v":""},null,null,null,"","","","","","","","","","","",""]
[null,null,null,null,"",{"$f":"IF(ISERROR(VLOOKUP(City!B536,miasta,4,0)),\"\",IF(VLOOKUP(City!B536,miasta,4,0)=\"\",\"\",VLOOKUP(City!B536,miasta,4,0)))","v":""},null,null,null,"","","","","","","","","","","",""]
[null,null,null,null,"",{"$f":"IF(ISERROR(VLOOKUP(City!B537,miasta,4,0)),\"\",IF(VLOOKUP(City!B537,miasta,4,0)=\"\",\"\",VLOOKUP(City!B537,miasta,4,0)))","v":""},null,null,null,"",{"$f":"IF($J537=COLUMN(K537)-10,$E537,\"\")","v":""},"","","","","","","","","",""]
[null,null,null,null,"",{"$f":"IF(ISERROR(VLOOKUP(City!B538,miasta,4,0)),\"\",IF(VLOOKUP(City!B538,miasta,4,0)=\"\",\"\",VLOOKUP(City!B538,miasta,4,0)))","v":""},null,null,null,"","","","","","","","","","","",""]
[null,null,null,null,"",{"$f":"IF(ISERROR(VLOOKUP(City!B539,miasta,4,0)),\"\",IF(VLOOKUP(City!B539,miasta,4,0)=\"\",\"\",VLOOKUP(City!B539,miasta,4,0)))","v":""},null,null,null,"","","","","","","","","","","",""]
[null,null,null,null,"",{"$f":"IF(ISERROR(VLOOKUP(City!B540,miasta,4,0)),\"\",IF(VLOOKUP(City!B540,miasta,4,0)=\"\",\"\",VLOOKUP(City!B540,miasta,4,0)))","v":""},null,null,null,"","","","","","","","","","","",""]
[null,null,null,null,"",{"$f":"IF(ISERROR(VLOOKUP(City!B541,miasta,4,0)),\"\",IF(VLOOKUP(City!B541,miasta,4,0)=\"\",\"\",VLOOKUP(City!B541,miasta,4,0)))","v":""},null,null,null,"","","","","","","","","","","",""]
[null,null,null,null,"",{"$f":"IF(ISERROR(VLOOKUP(City!B542,miasta,4,0)),\"\",IF(VLOOKUP(City!B542,miasta,4,0)=\"\",\"\",VLOOKUP(City!B542,miasta,4,0)))","v":""},null,null,null,"","","","","","","","","","","",""]
[null,null,null,null,"",{"$f":"IF(ISERROR(VLOOKUP(City!B543,miasta,4,0)),\"\",IF(VLOOKUP(City!B543,miasta,4,0)=\"\",\"\",VLOOKUP(City!B543,miasta,4,0)))","v":""},null,null,null,"","","","","","","","","","","",""]
[null,null,null,null,"",{"$f":"IF(ISERROR(VLOOKUP(City!B544,miasta,4,0)),\"\",IF(VLOOKUP(City!B544,miasta,4,0)=\"\",\"\",VLOOKUP(City!B544,miasta,4,0)))","v":""},null,null,null,"","","","","","","","","","","",""]
[null,null,null,null,"",{"$f":"IF(ISERROR(VLOOKUP(City!B545,miasta,4,0)),\"\",IF(VLOOKUP(City!B545,miasta,4,0)=\"\",\"\",VLOOKUP(City!B545,miasta,4,0)))","v":""},null,null,null,"","","","","","","","","","","",""]
[null,null,null,null,"",{"$f":"IF(ISERROR(VLOOKUP(City!B546,miasta,4,0)),\"\",IF(VLOOKUP(City!B546,miasta,4,0)=\"\",\"\",VLOOKUP(City!B546,miasta,4,0)))","v":""},null,null,null,"","","","","","","","","","","",""]
[null,null,null,null,"",{"$f":"IF(ISERROR(VLOOKUP(City!B547,miasta,4,0)),\"\",IF(VLOOKUP(City!B547,miasta,4,0)=\"\",\"\",VLOOKUP(City!B547,miasta,4,0)))","v":""},null,null,null,"","","","","","","","","","","",""]
[null,null,null,null,"",{"$f":"IF(ISERROR(VLOOKUP(City!B548,miasta,4,0)),\"\",IF(VLOOKUP(City!B548,miasta,4,0)=\"\",\"\",VLOOKUP(City!B548,miasta,4,0)))","v":""},null,null,null,"","","","","","","","","","","",""]
[null,null,null,null,"",{"$f":"IF(ISERROR(VLOOKUP(City!B549,miasta,4,0)),\"\",IF(VLOOKUP(City!B549,miasta,4,0)=\"\",\"\",VLOOKUP(City!B549,miasta,4,0)))","v":""},null,null,null,"","","","","","","","","","","",""]
[null,null,null,null,"",{"$f":"IF(ISERROR(VLOOKUP(City!B550,miasta,4,0)),\"\",IF(VLOOKUP(City!B550,miasta,4,0)=\"\",\"\",VLOOKUP(City!B550,miasta,4,0)))","v":""},null,null,null,"","","","","","","","","","","",""]
[null,null,null,null,"",{"$f":"IF(ISERROR(VLOOKUP(City!B551,miasta,4,0)),\"\",IF(VLOOKUP(City!B551,miasta,4,0)=\"\",\"\",VLOOKUP(City!B551,miasta,4,0)))","v":""},null,null,null,"","","","","","","","","","","",""]
[null,null,null,null,"",{"$f":"IF(ISERROR(VLOOKUP(City!B552,miasta,4,0)),\"\",IF(VLOOKUP(City!B552,miasta,4,0)=\"\",\"\",VLOOKUP(City!B552,miasta,4,0)))","v":""},null,null,null,"","","","","","","","","","","",""]
[null,null,null,null,"",{"$f":"IF(ISERROR(VLOOKUP(City!B553,miasta,4,0)),\"\",IF(VLOOKUP(City!B553,miasta,4,0)=\"\",\"\",VLOOKUP(City!B553,miasta,4,0)))","v":""},null,null,null,"","","","","","","","","","","",""]
[null,null,null,null,"",{"$f":"IF(ISERROR(VLOOKUP(City!B554,miasta,4,0)),\"\",IF(VLOOKUP(City!B554,miasta,4,0)=\"\",\"\",VLOOKUP(City!B554,miasta,4,0)))","v":""},null,null,null,"","","","","","","","","","","",""]
[null,null,null,null,"",{"$f":"IF(ISERROR(VLOOKUP(City!B555,miasta,4,0)),\"\",IF(VLOOKUP(City!B555,miasta,4,0)=\"\",\"\",VLOOKUP(City!B555,miasta,4,0)))","v":""},null,null,null,"","","","","","","","","","","",""]
[null,null,null,null,"",{"$f":"IF(ISERROR(VLOOKUP(City!B556,miasta,4,0)),\"\",IF(VLOOKUP(City!B556,miasta,4,0)=\"\",\"\",VLOOKUP(City!B556,miasta,4,0)))","v":""},null,null,null,"","","","","","","","","","","",""]
[null,null,null,null,"",{"$f":"IF(ISERROR(VLOOKUP(City!B557,miasta,4,0)),\"\",IF(VLOOKUP(City!B557,miasta,4,0)=\"\",\"\",VLOOKUP(City!B557,miasta,4,0)))","v":""},null,null,null,"","","","","","","","","","","",""]
[null,null,null,null,"",{"$f":"IF(ISERROR(VLOOKUP(City!B558,miasta,4,0)),\"\",IF(VLOOKUP(City!B558,miasta,4,0)=\"\",\"\",VLOOKUP(City!B558,miasta,4,0)))","v":""},null,null,null,"","","","","","","","","","","",""]
[null,null,null,null,"",{"$f":"IF(ISERROR(VLOOKUP(City!B559,miasta,4,0)),\"\",IF(VLOOKUP(City!B559,miasta,4,0)=\"\",\"\",VLOOKUP(City!B559,miasta,4,0)))","v":""},null,null,null,"","","","","","","","","","","",""]
[null,null,null,null,"",{"$f":"IF(ISERROR(VLOOKUP(City!B560,miasta,4,0)),\"\",IF(VLOOKUP(City!B560,miasta,4,0)=\"\",\"\",VLOOKUP(City!B560,miasta,4,0)))","v":""},null,null,null,"","","",{"$f":"IF($J560=COLUMN(M560)-10,$E560,\"\")","v":""},"","","","","","","",""]
[null,null,null,null,"",{"$f":"IF(ISERROR(VLOOKUP(City!B561,miasta,4,0)),\"\",IF(VLOOKUP(City!B561,miasta,4,0)=\"\",\"\",VLOOKUP(City!B561,miasta,4,0)))","v":""},null,null,null,"",{"$f":"IF($J561=COLUMN(K561)-10,$E561,\"\")","v":""},"","","","","","","","","",""]
[null,null,null,null,"",{"$f":"IF(ISERROR(VLOOKUP(City!B562,miasta,4,0)),\"\",IF(VLOOKUP(City!B562,miasta,4,0)=\"\",\"\",VLOOKUP(City!B562,miasta,4,0)))","v":""},null,null,null,"","","","","","","","","","","",""]
[null,null,null,null,"",{"$f":"IF(ISERROR(VLOOKUP(City!B563,miasta,4,0)),\"\",IF(VLOOKUP(City!B563,miasta,4,0)=\"\",\"\",VLOOKUP(City!B563,miasta,4,0)))","v":""},null,null,null,"","","","","","","","","","","",""]
[null,null,null,null,"",{"$f":"IF(ISERROR(VLOOKUP(City!B564,miasta,4,0)),\"\",IF(VLOOKUP(City!B564,miasta,4,0)=\"\",\"\",VLOOKUP(City!B564,miasta,4,0)))","v":""},null,null,null,"","","","","","","","","","","",""]
[null,null,null,null,"",{"$f":"IF(ISERROR(VLOOKUP(City!B565,miasta,4,0)),\"\",IF(VLOOKUP(City!B565,miasta,4,0)=\"\",\"\",VLOOKUP(City!B565,miasta,4,0)))","v":""},null,null,null,"","","","","","","","","","","",""]
[null,null,null,null,"",{"$f":"IF(ISERROR(VLOOKUP(City!B566,miasta,4,0)),\"\",IF(VLOOKUP(City!B566,miasta,4,0)=\"\",\"\",VLOOKUP(City!B566,miasta,4,0)))","v":""},null,null,null,"","","","","","","","","","","",""]
[null,null,null,null,"",{"$f":"IF(ISERROR(VLOOKUP(City!B567,miasta,4,0)),\"\",IF(VLOOKUP(City!B567,miasta,4,0)=\"\",\"\",VLOOKUP(City!B567,miasta,4,0)))","v":""},null,null,null,"","","","","","","","","","","",""]
[null,null,null,null,"",{"$f":"IF(ISERROR(VLOOKUP(City!B568,miasta,4,0)),\"\",IF(VLOOKUP(City!B568,miasta,4,0)=\"\",\"\",VLOOKUP(City!B568,miasta,4,0)))","v":""},null,null,null,"","","","","","","","","","","",""]
[null,null,null,null,"",{"$f":"IF(ISERROR(VLOOKUP(City!B569,miasta,4,0)),\"\",IF(VLOOKUP(City!B569,miasta,4,0)=\"\",\"\",VLOOKUP(City!B569,miasta,4,0)))","v":""},null,null,null,"","","","","","","","","","","",""]
[null,null,null,null,"",{"$f":"IF(ISERROR(VLOOKUP(City!B570,miasta,4,0)),\"\",IF(VLOOKUP(City!B570,miasta,4,0)=\"\",\"\",VLOOKUP(City!B570,miasta,4,0)))","v":""},null,null,null,"","","","","","","","","","","",""]
[null,null,null,null,"",{"$f":"IF(ISERROR(VLOOKUP(City!B571,miasta,4,0)),\"\",IF(VLOOKUP(City!B571,miasta,4,0)=\"\",\"\",VLOOKUP(City!B571,miasta,4,0)))","v":""},null,null,null,"","","","","","","","","","","",""]
[null,null,null,null,"",{"$f":"IF(ISERROR(VLOOKUP(City!B572,miasta,4,0)),\"\",IF(VLOOKUP(City!B572,miasta,4,0)=\"\",\"\",VLOOKUP(City!B572,miasta,4,0)))","v":""},null,null,null,"","","","","","","","","","","",""]
[null,null,null,null,"",{"$f":"IF(ISERROR(VLOOKUP(City!B573,miasta,4,0)),\"\",IF(VLOOKUP(City!B573,miasta,4,0)=\"\",\"\",VLOOKUP(City!B573,miasta,4,0)))","v":""},null,null,null,"","","","","","","","","","","",""]
[null,null,null,null,"",{"$f":"IF(ISERROR(VLOOKUP(City!B574,miasta,4,0)),\"\",IF(VLOOKUP(City!B574,miasta,4,0)=\"\",\"\",VLOOKUP(City!B574,miasta,4,0)))","v":""},null,null,null,"","","","","","","","","","","",""]
[null,null,null,null,"",{"$f":"IF(ISERROR(VLOOKUP(City!B575,miasta,4,0)),\"\",IF(VLOOKUP(City!B575,miasta,4,0)=\"\",\"\",VLOOKUP(City!B575,miasta,4,0)))","v":""},null,null,null,"","","","","","","","","","","",""]
[null,null,null,null,"",{"$f":"IF(ISERROR(VLOOKUP(City!B576,miasta,4,0)),\"\",IF(VLOOKUP(City!B576,miasta,4,0)=\"\",\"\",VLOOKUP(City!B576,miasta,4,0)))","v":""},null,null,null,"","","","","","","","","","","",""]
[null,null,null,null,"",{"$f":"IF(ISERROR(VLOOKUP(City!B577,miasta,4,0)),\"\",IF(VLOOKUP(City!B577,miasta,4,0)=\"\",\"\",VLOOKUP(City!B577,miasta,4,0)))","v":""},null,null,null,"","","","","","","","","","","",""]
[null,null,null,null,{"$f":"IF(ISERROR(VLOOKUP(B578,miasta,3,0)),\"\",VLOOKUP(B578,miasta,3,0))","v":""},{"$f":"IF(ISERROR(VLOOKUP(City!B578,miasta,4,0)),\"\",IF(VLOOKUP(City!B578,miasta,4,0)=\"\",\"\",VLOOKUP(City!B578,miasta,4,0)))","v":""},null,null,null,"","","","","","","","","","","",""]
[null,null,null,null,"",{"$f":"IF(ISERROR(VLOOKUP(City!B579,miasta,4,0)),\"\",IF(VLOOKUP(City!B579,miasta,4,0)=\"\",\"\",VLOOKUP(City!B579,miasta,4,0)))","v":""},null,null,null,{"$f":"IF(ISERROR(VLOOKUP(F579,$G$2:$I$12,3,1)),\"\",VLOOKUP(F579,$G$2:$I$12,3,1))","v":""},"","","","","","","","","","",""]
[null,null,null,null,"",{"$f":"IF(ISERROR(VLOOKUP(City!B580,miasta,4,0)),\"\",IF(VLOOKUP(City!B580,miasta,4,0)=\"\",\"\",VLOOKUP(City!B580,miasta,4,0)))","v":""},null,null,null,"","","","","","","","","","","",""]
[null,null,null,null,"",{"$f":"IF(ISERROR(VLOOKUP(City!B581,miasta,4,0)),\"\",IF(VLOOKUP(City!B581,miasta,4,0)=\"\",\"\",VLOOKUP(City!B581,miasta,4,0)))","v":""},null,null,null,"","","","","","","","","","","",""]
[null,null,null,null,"",{"$f":"IF(ISERROR(VLOOKUP(City!B582,miasta,4,0)),\"\",IF(VLOOKUP(City!B582,miasta,4,0)=\"\",\"\",VLOOKUP(City!B582,miasta,4,0)))","v":""},null,null,null,"","","","","","","","","","","",""]
[null,null,null,null,"",{"$f":"IF(ISERROR(VLOOKUP(City!B583,miasta,4,0)),\"\",IF(VLOOKUP(City!B583,miasta,4,0)=\"\",\"\",VLOOKUP(City!B583,miasta,4,0)))","v":""},null,null,null,"","","","","","","","","","","",""]
[null,null,null,null,"",{"$f":"IF(ISERROR(VLOOKUP(City!B584,miasta,4,0)),\"\",IF(VLOOKUP(City!B584,miasta,4,0)=\"\",\"\",VLOOKUP(City!B584,miasta,4,0)))","v":""},null,null,null,"","","","","","","","","","","",""]
[null,null,null,null,"",{"$f":"IF(ISERROR(VLOOKUP(City!B585,miasta,4,0)),\"\",IF(VLOOKUP(City!B585,miasta,4,0)=\"\",\"\",VLOOKUP(City!B585,miasta,4,0)))","v":""},null,null,null,"","","","","","","","","","","",""]
[null,null,null,null,"",{"$f":"IF(ISERROR(VLOOKUP(City!B586,miasta,4,0)),\"\",IF(VLOOKUP(City!B586,miasta,4,0)=\"\",\"\",VLOOKUP(City!B586,miasta,4,0)))","v":""},null,null,null,"","","","","","","","","","","",""]
[null,null,null,null,"",{"$f":"IF(ISERROR(VLOOKUP(City!B587,miasta,4,0)),\"\",IF(VLOOKUP(City!B587,miasta,4,0)=\"\",\"\",VLOOKUP(City!B587,miasta,4,0)))","v":""},null,null,null,"","","","","","","","","","","",""]
[null,null,null,null,"",{"$f":"IF(ISERROR(VLOOKUP(City!B588,miasta,4,0)),\"\",IF(VLOOKUP(City!B588,miasta,4,0)=\"\",\"\",VLOOKUP(City!B588,miasta,4,0)))","v":""},null,null,null,"","","","","","",{"$f":"IF($J588=COLUMN(P588)-10,$E588,\"\")","v":""},"","","","",""]
[null,null,null,null,"",{"$f":"IF(ISERROR(VLOOKUP(City!B589,miasta,4,0)),\"\",IF(VLOOKUP(City!B589,miasta,4,0)=\"\",\"\",VLOOKUP(City!B589,miasta,4,0)))","v":""},null,null,null,"","","","","","","","","","","",""]
[null,null,null,null,"",{"$f":"IF(ISERROR(VLOOKUP(City!B590,miasta,4,0)),\"\",IF(VLOOKUP(City!B590,miasta,4,0)=\"\",\"\",VLOOKUP(City!B590,miasta,4,0)))","v":""},null,null,null,"","","","","","","","","","","",""]
[null,null,null,null,"",{"$f":"IF(ISERROR(VLOOKUP(City!B591,miasta,4,0)),\"\",IF(VLOOKUP(City!B591,miasta,4,0)=\"\",\"\",VLOOKUP(City!B591,miasta,4,0)))","v":""},null,null,null,"","","","","","","","","","","",""]
[null,null,null,null,"",{"$f":"IF(ISERROR(VLOOKUP(City!B592,miasta,4,0)),\"\",IF(VLOOKUP(City!B592,miasta,4,0)=\"\",\"\",VLOOKUP(City!B592,miasta,4,0)))","v":""},null,null,null,"","","","","","","","","","","",""]
[null,null,null,null,"",{"$f":"IF(ISERROR(VLOOKUP(City!B593,miasta,4,0)),\"\",IF(VLOOKUP(City!B593,miasta,4,0)=\"\",\"\",VLOOKUP(City!B593,miasta,4,0)))","v":""},null,null,null,"","","","","","","","","","","",""]
[null,null,null,null,"",{"$f":"IF(ISERROR(VLOOKUP(City!B594,miasta,4,0)),\"\",IF(VLOOKUP(City!B594,miasta,4,0)=\"\",\"\",VLOOKUP(City!B594,miasta,4,0)))","v":""},null,null,null,"","","","","","","","","","","",""]
[null,null,null,null,"",{"$f":"IF(ISERROR(VLOOKUP(City!B595,miasta,4,0)),\"\",IF(VLOOKUP(City!B595,miasta,4,0)=\"\",\"\",VLOOKUP(City!B595,miasta,4,0)))","v":""},null,null,null,"","","","","","","","","","","",""]
[null,null,null,null,"",{"$f":"IF(ISERROR(VLOOKUP(City!B596,miasta,4,0)),\"\",IF(VLOOKUP(City!B596,miasta,4,0)=\"\",\"\",VLOOKUP(City!B596,miasta,4,0)))","v":""},null,null,null,"","","","","","","","","","","",""]
[null,null,null,null,"",{"$f":"IF(ISERROR(VLOOKUP(City!B597,miasta,4,0)),\"\",IF(VLOOKUP(City!B597,miasta,4,0)=\"\",\"\",VLOOKUP(City!B597,miasta,4,0)))","v":""},null,null,null,"","","","","","","","","","","",""]
[null,null,null,null,"",{"$f":"IF(ISERROR(VLOOKUP(City!B598,miasta,4,0)),\"\",IF(VLOOKUP(City!B598,miasta,4,0)=\"\",\"\",VLOOKUP(City!B598,miasta,4,0)))","v":""},null,null,null,"","","","","","","","","","","",""]
[null,null,null,null,"",{"$f":"IF(ISERROR(VLOOKUP(City!B599,miasta,4,0)),\"\",IF(VLOOKUP(City!B599,miasta,4,0)=\"\",\"\",VLOOKUP(City!B599,miasta,4,0)))","v":""},null,null,null,"","","","","","","","","","","",""]
[null,null,null,null,"",{"$f":"IF(ISERROR(VLOOKUP(City!B600,miasta,4,0)),\"\",IF(VLOOKUP(City!B600,miasta,4,0)=\"\",\"\",VLOOKUP(City!B600,miasta,4,0)))","v":""},null,null,null,"","","","","","","","","","","",""]
[null,null,null,null,"",{"$f":"IF(ISERROR(VLOOKUP(City!B601,miasta,4,0)),\"\",IF(VLOOKUP(City!B601,miasta,4,0)=\"\",\"\",VLOOKUP(City!B601,miasta,4,0)))","v":""},null,null,null,"","","","","","","","","","","",""]
[null,null,null,null,"",{"$f":"IF(ISERROR(VLOOKUP(City!B602,miasta,4,0)),\"\",IF(VLOOKUP(City!B602,miasta,4,0)=\"\",\"\",VLOOKUP(City!B602,miasta,4,0)))","v":""},null,null,null,"","","","","","","","","","","",""]
[null,null,null,null,"",{"$f":"IF(ISERROR(VLOOKUP(City!B603,miasta,4,0)),\"\",IF(VLOOKUP(City!B603,miasta,4,0)=\"\",\"\",VLOOKUP(City!B603,miasta,4,0)))","v":""},null,null,null,"","","","","","","","","","","",""]
[null,null,null,null,"",{"$f":"IF(ISERROR(VLOOKUP(City!B604,miasta,4,0)),\"\",IF(VLOOKUP(City!B604,miasta,4,0)=\"\",\"\",VLOOKUP(City!B604,miasta,4,0)))","v":""},null,null,null,"","","","","","","","","","","",""]
[null,null,null,null,"",{"$f":"IF(ISERROR(VLOOKUP(City!B605,miasta,4,0)),\"\",IF(VLOOKUP(City!B605,miasta,4,0)=\"\",\"\",VLOOKUP(City!B605,miasta,4,0)))","v":""},null,null,null,"","","","","","","","","","","",""]
[null,null,null,null,"",{"$f":"IF(ISERROR(VLOOKUP(City!B606,miasta,4,0)),\"\",IF(VLOOKUP(City!B606,miasta,4,0)=\"\",\"\",VLOOKUP(City!B606,miasta,4,0)))","v":""},null,null,null,"","","","","","","","","","","",""]
[null,null,null,null,"",{"$f":"IF(ISERROR(VLOOKUP(City!B607,miasta,4,0)),\"\",IF(VLOOKUP(City!B607,miasta,4,0)=\"\",\"\",VLOOKUP(City!B607,miasta,4,0)))","v":""},null,null,null,"","","","","","","","","","","",""]
[null,null,null,null,"",{"$f":"IF(ISERROR(VLOOKUP(City!B608,miasta,4,0)),\"\",IF(VLOOKUP(City!B608,miasta,4,0)=\"\",\"\",VLOOKUP(City!B608,miasta,4,0)))","v":""},null,null,null,"","","","","","","","","","","",""]
[null,null,null,null,"",{"$f":"IF(ISERROR(VLOOKUP(City!B609,miasta,4,0)),\"\",IF(VLOOKUP(City!B609,miasta,4,0)=\"\",\"\",VLOOKUP(City!B609,miasta,4,0)))","v":""},null,null,null,"","","","","","","","","","","",""]
[null,null,null,null,"",{"$f":"IF(ISERROR(VLOOKUP(City!B610,miasta,4,0)),\"\",IF(VLOOKUP(City!B610,miasta,4,0)=\"\",\"\",VLOOKUP(City!B610,miasta,4,0)))","v":""},null,null,null,"","","","","","","","","","","",""]
[null,null,null,null,"",{"$f":"IF(ISERROR(VLOOKUP(City!B611,miasta,4,0)),\"\",IF(VLOOKUP(City!B611,miasta,4,0)=\"\",\"\",VLOOKUP(City!B611,miasta,4,0)))","v":""},null,null,null,"","","","","","","","","","","",""]
[null,null,null,null,"",{"$f":"IF(ISERROR(VLOOKUP(City!B612,miasta,4,0)),\"\",IF(VLOOKUP(City!B612,miasta,4,0)=\"\",\"\",VLOOKUP(City!B612,miasta,4,0)))","v":""},null,null,null,"","","","","","","","","","","",""]
[null,null,null,null,"",{"$f":"IF(ISERROR(VLOOKUP(City!B613,miasta,4,0)),\"\",IF(VLOOKUP(City!B613,miasta,4,0)=\"\",\"\",VLOOKUP(City!B613,miasta,4,0)))","v":""},null,null,null,"","","","","","","","","","","",""]
[null,null,null,null,"",{"$f":"IF(ISERROR(VLOOKUP(City!B614,miasta,4,0)),\"\",IF(VLOOKUP(City!B614,miasta,4,0)=\"\",\"\",VLOOKUP(City!B614,miasta,4,0)))","v":""},null,null,null,"","","","","","","","","","","",""]
[null,null,null,null,"",{"$f":"IF(ISERROR(VLOOKUP(City!B615,miasta,4,0)),\"\",IF(VLOOKUP(City!B615,miasta,4,0)=\"\",\"\",VLOOKUP(City!B615,miasta,4,0)))","v":""},null,null,null,"","","","","","","","","","","",""]
[null,null,null,null,"",{"$f":"IF(ISERROR(VLOOKUP(City!B616,miasta,4,0)),\"\",IF(VLOOKUP(City!B616,miasta,4,0)=\"\",\"\",VLOOKUP(City!B616,miasta,4,0)))","v":""},null,null,null,"","","","","","","","","","","",""]
[null,null,null,null,"",{"$f":"IF(ISERROR(VLOOKUP(City!B617,miasta,4,0)),\"\",IF(VLOOKUP(City!B617,miasta,4,0)=\"\",\"\",VLOOKUP(City!B617,miasta,4,0)))","v":""},null,null,null,"","","","","","","","","","","",""]
[null,null,null,null,"",{"$f":"IF(ISERROR(VLOOKUP(City!B618,miasta,4,0)),\"\",IF(VLOOKUP(City!B618,miasta,4,0)=\"\",\"\",VLOOKUP(City!B618,miasta,4,0)))","v":""},null,null,null,"","","","","","","","","","","",""]
[null,null,null,null,"",{"$f":"IF(ISERROR(VLOOKUP(City!B619,miasta,4,0)),\"\",IF(VLOOKUP(City!B619,miasta,4,0)=\"\",\"\",VLOOKUP(City!B619,miasta,4,0)))","v":""},null,null,null,"","","","","","","","","","","",""]
[null,null,null,null,"",{"$f":"IF(ISERROR(VLOOKUP(City!B620,miasta,4,0)),\"\",IF(VLOOKUP(City!B620,miasta,4,0)=\"\",\"\",VLOOKUP(City!B620,miasta,4,0)))","v":""},null,null,null,"","","","","","","","","","","",""]
[null,null,null,null,"",{"$f":"IF(ISERROR(VLOOKUP(City!B621,miasta,4,0)),\"\",IF(VLOOKUP(City!B621,miasta,4,0)=\"\",\"\",VLOOKUP(City!B621,miasta,4,0)))","v":""},null,null,null,"","","","","","","","","","","",""]
[null,null,null,null,"",{"$f":"IF(ISERROR(VLOOKUP(City!B622,miasta,4,0)),\"\",IF(VLOOKUP(City!B622,miasta,4,0)=\"\",\"\",VLOOKUP(City!B622,miasta,4,0)))","v":""},null,null,null,"","","","","","","","","","","",""]
[null,null,null,null,"",{"$f":"IF(ISERROR(VLOOKUP(City!B623,miasta,4,0)),\"\",IF(VLOOKUP(City!B623,miasta,4,0)=\"\",\"\",VLOOKUP(City!B623,miasta,4,0)))","v":""},null,null,null,"","","","","","","","","","","",""]
[null,null,null,null,"",{"$f":"IF(ISERROR(VLOOKUP(City!B624,miasta,4,0)),\"\",IF(VLOOKUP(City!B624,miasta,4,0)=\"\",\"\",VLOOKUP(City!B624,miasta,4,0)))","v":""},null,null,null,"","","","","","","","","","","",""]
[null,null,null,null,"",{"$f":"IF(ISERROR(VLOOKUP(City!B625,miasta,4,0)),\"\",IF(VLOOKUP(City!B625,miasta,4,0)=\"\",\"\",VLOOKUP(City!B625,miasta,4,0)))","v":""},null,null,null,"",{"$f":"IF($J625=COLUMN(K625)-10,$E625,\"\")","v":""},"","","","","","","","","",""]
[null,null,null,null,"",{"$f":"IF(ISERROR(VLOOKUP(City!B626,miasta,4,0)),\"\",IF(VLOOKUP(City!B626,miasta,4,0)=\"\",\"\",VLOOKUP(City!B626,miasta,4,0)))","v":""},null,null,null,"","","","","","","","","","","",""]
[null,null,null,null,"",{"$f":"IF(ISERROR(VLOOKUP(City!B627,miasta,4,0)),\"\",IF(VLOOKUP(City!B627,miasta,4,0)=\"\",\"\",VLOOKUP(City!B627,miasta,4,0)))","v":""},null,null,null,"","","","","","","","","","","",""]
[null,null,null,null,"",{"$f":"IF(ISERROR(VLOOKUP(City!B628,miasta,4,0)),\"\",IF(VLOOKUP(City!B628,miasta,4,0)=\"\",\"\",VLOOKUP(City!B628,miasta,4,0)))","v":""},null,null,null,"","","","","","","","","","","",""]
[null,null,null,null,"",{"$f":"IF(ISERROR(VLOOKUP(City!B629,miasta,4,0)),\"\",IF(VLOOKUP(City!B629,miasta,4,0)=\"\",\"\",VLOOKUP(City!B629,miasta,4,0)))","v":""},null,null,null,"","","","","","","","","","","",""]
[null,null,null,null,"",{"$f":"IF(ISERROR(VLOOKUP(City!B630,miasta,4,0)),\"\",IF(VLOOKUP(City!B630,miasta,4,0)=\"\",\"\",VLOOKUP(City!B630,miasta,4,0)))","v":""},null,null,null,"","","","","","","","","",{"$f":"IF($J630=COLUMN(S630)-10,$E630,\"\")","v":""},"",""]
[null,null,null,null,"",{"$f":"IF(ISERROR(VLOOKUP(City!B631,miasta,4,0)),\"\",IF(VLOOKUP(City!B631,miasta,4,0)=\"\",\"\",VLOOKUP(City!B631,miasta,4,0)))","v":""},null,null,null,"","","","","","","","","","","",""]
[null,null,null,null,"",{"$f":"IF(ISERROR(VLOOKUP(City!B632,miasta,4,0)),\"\",IF(VLOOKUP(City!B632,miasta,4,0)=\"\",\"\",VLOOKUP(City!B632,miasta,4,0)))","v":""},null,null,null,"","","","","","","","","","","",""]
[null,null,null,null,"",{"$f":"IF(ISERROR(VLOOKUP(City!B633,miasta,4,0)),\"\",IF(VLOOKUP(City!B633,miasta,4,0)=\"\",\"\",VLOOKUP(City!B633,miasta,4,0)))","v":""},null,null,null,"","","","","","","","","","","",""]
[null,null,null,null,"",{"$f":"IF(ISERROR(VLOOKUP(City!B634,miasta,4,0)),\"\",IF(VLOOKUP(City!B634,miasta,4,0)=\"\",\"\",VLOOKUP(City!B634,miasta,4,0)))","v":""},null,null,null,"","","","","","","","","","","",""]
[null,null,null,null,"",{"$f":"IF(ISERROR(VLOOKUP(City!B635,miasta,4,0)),\"\",IF(VLOOKUP(City!B635,miasta,4,0)=\"\",\"\",VLOOKUP(City!B635,miasta,4,0)))","v":""},null,null,null,"","","","","","","","","","","",""]
[null,null,null,null,"",{"$f":"IF(ISERROR(VLOOKUP(City!B636,miasta,4,0)),\"\",IF(VLOOKUP(City!B636,miasta,4,0)=\"\",\"\",VLOOKUP(City!B636,miasta,4,0)))","v":""},null,null,null,"","","","","","","","","","","",""]
[null,null,null,null,"",{"$f":"IF(ISERROR(VLOOKUP(City!B637,miasta,4,0)),\"\",IF(VLOOKUP(City!B637,miasta,4,0)=\"\",\"\",VLOOKUP(City!B637,miasta,4,0)))","v":""},null,null,null,"","","","","","","","","","","",""]
[null,null,null,null,"",{"$f":"IF(ISERROR(VLOOKUP(City!B638,miasta,4,0)),\"\",IF(VLOOKUP(City!B638,miasta,4,0)=\"\",\"\",VLOOKUP(City!B638,miasta,4,0)))","v":""},null,null,null,"","","","","","","","","","","",""]
[null,null,null,null,"",{"$f":"IF(ISERROR(VLOOKUP(City!B639,miasta,4,0)),\"\",IF(VLOOKUP(City!B639,miasta,4,0)=\"\",\"\",VLOOKUP(City!B639,miasta,4,0)))","v":""},null,null,null,"","","","","","","","","","","",""]
[null,null,null,null,"",{"$f":"IF(ISERROR(VLOOKUP(City!B640,miasta,4,0)),\"\",IF(VLOOKUP(City!B640,miasta,4,0)=\"\",\"\",VLOOKUP(City!B640,miasta,4,0)))","v":""},null,null,null,"","","","","","","","","","","",""]
[null,null,null,null,"",{"$f":"IF(ISERROR(VLOOKUP(City!B641,miasta,4,0)),\"\",IF(VLOOKUP(City!B641,miasta,4,0)=\"\",\"\",VLOOKUP(City!B641,miasta,4,0)))","v":""},null,null,null,"","","","","","","","","","","",""]
[null,null,null,null,{"$f":"IF(ISERROR(VLOOKUP(B642,miasta,3,0)),\"\",VLOOKUP(B642,miasta,3,0))","v":""},{"$f":"IF(ISERROR(VLOOKUP(City!B642,miasta,4,0)),\"\",IF(VLOOKUP(City!B642,miasta,4,0)=\"\",\"\",VLOOKUP(City!B642,miasta,4,0)))","v":""},null,null,null,"","","","","","","","","","","",""]
[null,null,null,null,"",{"$f":"IF(ISERROR(VLOOKUP(City!B643,miasta,4,0)),\"\",IF(VLOOKUP(City!B643,miasta,4,0)=\"\",\"\",VLOOKUP(City!B643,miasta,4,0)))","v":""},null,null,null,{"$f":"IF(ISERROR(VLOOKUP(F643,$G$2:$I$12,3,1)),\"\",VLOOKUP(F643,$G$2:$I$12,3,1))","v":""},"","","","","","","","","","",""]
[null,null,null,null,"",{"$f":"IF(ISERROR(VLOOKUP(City!B644,miasta,4,0)),\"\",IF(VLOOKUP(City!B644,miasta,4,0)=\"\",\"\",VLOOKUP(City!B644,miasta,4,0)))","v":""},null,null,null,"","","","","","","","","","","",""]
[null,null,null,null,"",{"$f":"IF(ISERROR(VLOOKUP(City!B645,miasta,4,0)),\"\",IF(VLOOKUP(City!B645,miasta,4,0)=\"\",\"\",VLOOKUP(City!B645,miasta,4,0)))","v":""},null,null,null,"","","","","","","","","","","",""]
[null,null,null,null,"",{"$f":"IF(ISERROR(VLOOKUP(City!B646,miasta,4,0)),\"\",IF(VLOOKUP(City!B646,miasta,4,0)=\"\",\"\",VLOOKUP(City!B646,miasta,4,0)))","v":""},null,null,null,"","","","","","","","","","","",""]
[null,null,null,null,"",{"$f":"IF(ISERROR(VLOOKUP(City!B647,miasta,4,0)),\"\",IF(VLOOKUP(City!B647,miasta,4,0)=\"\",\"\",VLOOKUP(City!B647,miasta,4,0)))","v":""},null,null,null,"","","","","","","","","","","",""]
[null,null,null,null,"",{"$f":"IF(ISERROR(VLOOKUP(City!B648,miasta,4,0)),\"\",IF(VLOOKUP(City!B648,miasta,4,0)=\"\",\"\",VLOOKUP(City!B648,miasta,4,0)))","v":""},null,null,null,"","","","","","","","","","","",""]
[null,null,null,null,"",{"$f":"IF(ISERROR(VLOOKUP(City!B649,miasta,4,0)),\"\",IF(VLOOKUP(City!B649,miasta,4,0)=\"\",\"\",VLOOKUP(City!B649,miasta,4,0)))","v":""},null,null,null,"","","","","","","","","","","",""]
[null,null,null,null,"",{"$f":"IF(ISERROR(VLOOKUP(City!B650,miasta,4,0)),\"\",IF(VLOOKUP(City!B650,miasta,4,0)=\"\",\"\",VLOOKUP(City!B650,miasta,4,0)))","v":""},null,null,null,"","","","","","","","","","","",""]
[null,null,null,null,"",{"$f":"IF(ISERROR(VLOOKUP(City!B651,miasta,4,0)),\"\",IF(VLOOKUP(City!B651,miasta,4,0)=\"\",\"\",VLOOKUP(City!B651,miasta,4,0)))","v":""},null,null,null,"","","","","","","","","","","",""]
[null,null,null,null,"",{"$f":"IF(ISERROR(VLOOKUP(City!B652,miasta,4,0)),\"\",IF(VLOOKUP(City!B652,miasta,4,0)=\"\",\"\",VLOOKUP(City!B652,miasta,4,0)))","v":""},null,null,null,"","","","","","","","","","","",""]
[null,null,null,null,"",{"$f":"IF(ISERROR(VLOOKUP(City!B653,miasta,4,0)),\"\",IF(VLOOKUP(City!B653,miasta,4,0)=\"\",\"\",VLOOKUP(City!B653,miasta,4,0)))","v":""},null,null,null,"","","","","","","","","","","",""]
[null,null,null,null,"",{"$f":"IF(ISERROR(VLOOKUP(City!B654,miasta,4,0)),\"\",IF(VLOOKUP(City!B654,miasta,4,0)=\"\",\"\",VLOOKUP(City!B654,miasta,4,0)))","v":""},null,null,null,"","","","","","","","","","","",""]
[null,null,null,null,"",{"$f":"IF(ISERROR(VLOOKUP(City!B655,miasta,4,0)),\"\",IF(VLOOKUP(City!B655,miasta,4,0)=\"\",\"\",VLOOKUP(City!B655,miasta,4,0)))","v":""},null,null,null,"","","","","","","","","","","",""]
[null,null,null,null,"",{"$f":"IF(ISERROR(VLOOKUP(City!B656,miasta,4,0)),\"\",IF(VLOOKUP(City!B656,miasta,4,0)=\"\",\"\",VLOOKUP(City!B656,miasta,4,0)))","v":""},null,null,null,"","","","","","","","","","","",""]
[null,null,null,null,"",{"$f":"IF(ISERROR(VLOOKUP(City!B657,miasta,4,0)),\"\",IF(VLOOKUP(City!B657,miasta,4,0)=\"\",\"\",VLOOKUP(City!B657,miasta,4,0)))","v":""},null,null,null,"","","","","","","","","","","",""]
[null,null,null,null,"",{"$f":"IF(ISERROR(VLOOKUP(City!B658,miasta,4,0)),\"\",IF(VLOOKUP(City!B658,miasta,4,0)=\"\",\"\",VLOOKUP(City!B658,miasta,4,0)))","v":""},null,null,null,"","","","","","","","","","","",""]
[null,null,null,null,"",{"$f":"IF(ISERROR(VLOOKUP(City!B659,miasta,4,0)),\"\",IF(VLOOKUP(City!B659,miasta,4,0)=\"\",\"\",VLOOKUP(City!B659,miasta,4,0)))","v":""},null,null,null,"","",{"$f":"IF($J659=COLUMN(L659)-10,$E659,\"\")","v":""},"","","","","","","","",""]
[null,null,null,null,"",{"$f":"IF(ISERROR(VLOOKUP(City!B660,miasta,4,0)),\"\",IF(VLOOKUP(City!B660,miasta,4,0)=\"\",\"\",VLOOKUP(City!B660,miasta,4,0)))","v":""},null,null,null,"",{"$f":"IF($J660=COLUMN(K660)-10,$E660,\"\")","v":""},"","","","","","","","","",""]
[null,null,null,null,"",{"$f":"IF(ISERROR(VLOOKUP(City!B661,miasta,4,0)),\"\",IF(VLOOKUP(City!B661,miasta,4,0)=\"\",\"\",VLOOKUP(City!B661,miasta,4,0)))","v":""},null,null,null,"","","","","","","","","","","",""]
[null,null,null,null,"",{"$f":"IF(ISERROR(VLOOKUP(City!B662,miasta,4,0)),\"\",IF(VLOOKUP(City!B662,miasta,4,0)=\"\",\"\",VLOOKUP(City!B662,miasta,4,0)))","v":""},null,null,null,"","","","","","","","","","","",""]
[null,null,null,null,"",{"$f":"IF(ISERROR(VLOOKUP(City!B663,miasta,4,0)),\"\",IF(VLOOKUP(City!B663,miasta,4,0)=\"\",\"\",VLOOKUP(City!B663,miasta,4,0)))","v":""},null,null,null,"","","","","","","","","","","",""]
[null,null,null,null,"",{"$f":"IF(ISERROR(VLOOKUP(City!B664,miasta,4,0)),\"\",IF(VLOOKUP(City!B664,miasta,4,0)=\"\",\"\",VLOOKUP(City!B664,miasta,4,0)))","v":""},null,null,null,"","","","","","","","","","","",""]
[null,null,null,null,"",{"$f":"IF(ISERROR(VLOOKUP(City!B665,miasta,4,0)),\"\",IF(VLOOKUP(City!B665,miasta,4,0)=\"\",\"\",VLOOKUP(City!B665,miasta,4,0)))","v":""},null,null,null,"","","","","","","","","","","",""]
[null,null,null,null,"",{"$f":"IF(ISERROR(VLOOKUP(City!B666,miasta,4,0)),\"\",IF(VLOOKUP(City!B666,miasta,4,0)=\"\",\"\",VLOOKUP(City!B666,miasta,4,0)))","v":""},null,null,null,"","","","","","","","","","","",""]
[null,null,null,null,"",{"$f":"IF(ISERROR(VLOOKUP(City!B667,miasta,4,0)),\"\",IF(VLOOKUP(City!B667,miasta,4,0)=\"\",\"\",VLOOKUP(City!B667,miasta,4,0)))","v":""},null,null,null,"","","","","","","","","","","",""]
[null,null,null,null,"",{"$f":"IF(ISERROR(VLOOKUP(City!B668,miasta,4,0)),\"\",IF(VLOOKUP(City!B668,miasta,4,0)=\"\",\"\",VLOOKUP(City!B668,miasta,4,0)))","v":""},null,null,null,"","","","","","","","","","","",""]
[null,null,null,null,"",{"$f":"IF(ISERROR(VLOOKUP(City!B669,miasta,4,0)),\"\",IF(VLOOKUP(City!B669,miasta,4,0)=\"\",\"\",VLOOKUP(City!B669,miasta,4,0)))","v":""},null,null,null,"","","","","","","","","","","",""]
[null,null,null,null,"",{"$f":"IF(ISERROR(VLOOKUP(City!B670,miasta,4,0)),\"\",IF(VLOOKUP(City!B670,miasta,4,0)=\"\",\"\",VLOOKUP(City!B670,miasta,4,0)))","v":""},null,null,null,"","","","","","","","","","","",""]
[null,null,null,null,"",{"$f":"IF(ISERROR(VLOOKUP(City!B671,miasta,4,0)),\"\",IF(VLOOKUP(City!B671,miasta,4,0)=\"\",\"\",VLOOKUP(City!B671,miasta,4,0)))","v":""},null,null,null,"","","","","","","","","","","",""]
[null,null,null,null,"",{"$f":"IF(ISERROR(VLOOKUP(City!B672,miasta,4,0)),\"\",IF(VLOOKUP(City!B672,miasta,4,0)=\"\",\"\",VLOOKUP(City!B672,miasta,4,0)))","v":""},null,null,null,"","","","","","","","","","","",""]
[null,null,null,null,"",{"$f":"IF(ISERROR(VLOOKUP(City!B673,miasta,4,0)),\"\",IF(VLOOKUP(City!B673,miasta,4,0)=\"\",\"\",VLOOKUP(City!B673,miasta,4,0)))","v":""},null,null,null,"","","","","","","","","","","",""]
[null,null,null,null,"",{"$f":"IF(ISERROR(VLOOKUP(City!B674,miasta,4,0)),\"\",IF(VLOOKUP(City!B674,miasta,4,0)=\"\",\"\",VLOOKUP(City!B674,miasta,4,0)))","v":""},null,null,null,"","","","","","","","","","","",""]
[null,null,null,null,"",{"$f":"IF(ISERROR(VLOOKUP(City!B675,miasta,4,0)),\"\",IF(VLOOKUP(City!B675,miasta,4,0)=\"\",\"\",VLOOKUP(City!B675,miasta,4,0)))","v":""},null,null,null,"","","","","","","","","","","",""]
[null,null,null,null,"",{"$f":"IF(ISERROR(VLOOKUP(City!B676,miasta,4,0)),\"\",IF(VLOOKUP(City!B676,miasta,4,0)=\"\",\"\",VLOOKUP(City!B676,miasta,4,0)))","v":""},null,null,null,"","","","","","","","","","","",""]
[null,null,null,null,"",{"$f":"IF(ISERROR(VLOOKUP(City!B677,miasta,4,0)),\"\",IF(VLOOKUP(City!B677,miasta,4,0)=\"\",\"\",VLOOKUP(City!B677,miasta,4,0)))","v":""},null,null,null,"","","","","","","","","","","",""]
[null,null,null,null,"",{"$f":"IF(ISERROR(VLOOKUP(City!B678,miasta,4,0)),\"\",IF(VLOOKUP(City!B678,miasta,4,0)=\"\",\"\",VLOOKUP(City!B678,miasta,4,0)))","v":""},null,null,null,"","","","","","","","","","","",""]
[null,null,null,null,"",{"$f":"IF(ISERROR(VLOOKUP(City!B679,miasta,4,0)),\"\",IF(VLOOKUP(City!B679,miasta,4,0)=\"\",\"\",VLOOKUP(City!B679,miasta,4,0)))","v":""},null,null,null,"","","","","","","","","","","",""]
[null,null,null,null,"",{"$f":"IF(ISERROR(VLOOKUP(City!B680,miasta,4,0)),\"\",IF(VLOOKUP(City!B680,miasta,4,0)=\"\",\"\",VLOOKUP(City!B680,miasta,4,0)))","v":""},null,null,null,"","","","","","","","","","","",""]
[null,null,null,null,"",{"$f":"IF(ISERROR(VLOOKUP(City!B681,miasta,4,0)),\"\",IF(VLOOKUP(City!B681,miasta,4,0)=\"\",\"\",VLOOKUP(City!B681,miasta,4,0)))","v":""},null,null,null,"","","","","","","","","","","",""]
[null,null,null,null,"",{"$f":"IF(ISERROR(VLOOKUP(City!B682,miasta,4,0)),\"\",IF(VLOOKUP(City!B682,miasta,4,0)=\"\",\"\",VLOOKUP(City!B682,miasta,4,0)))","v":""},null,null,null,"","","","","","","","","","","",""]
[null,null,null,null,"",{"$f":"IF(ISERROR(VLOOKUP(City!B683,miasta,4,0)),\"\",IF(VLOOKUP(City!B683,miasta,4,0)=\"\",\"\",VLOOKUP(City!B683,miasta,4,0)))","v":""},null,null,null,"","","","","","","","","","","",""]
[null,null,null,null,"",{"$f":"IF(ISERROR(VLOOKUP(City!B684,miasta,4,0)),\"\",IF(VLOOKUP(City!B684,miasta,4,0)=\"\",\"\",VLOOKUP(City!B684,miasta,4,0)))","v":""},null,null,null,"","","","","","","","","","","",""]
[null,null,null,null,"",{"$f":"IF(ISERROR(VLOOKUP(City!B685,miasta,4,0)),\"\",IF(VLOOKUP(City!B685,miasta,4,0)=\"\",\"\",VLOOKUP(City!B685,miasta,4,0)))","v":""},null,null,null,"","","","","","","","","","","",""]
[null,null,null,null,"",{"$f":"IF(ISERROR(VLOOKUP(City!B686,miasta,4,0)),\"\",IF(VLOOKUP(City!B686,miasta,4,0)=\"\",\"\",VLOOKUP(City!B686,miasta,4,0)))","v":""},null,null,null,"","","","","","","","","","","",""]
[null,null,null,null,"",{"$f":"IF(ISERROR(VLOOKUP(City!B687,miasta,4,0)),\"\",IF(VLOOKUP(City!B687,miasta,4,0)=\"\",\"\",VLOOKUP(City!B687,miasta,4,0)))","v":""},null,null,null,"","","","","","","","","","","",""]
[null,null,null,null,"",{"$f":"IF(ISERROR(VLOOKUP(City!B688,miasta,4,0)),\"\",IF(VLOOKUP(City!B688,miasta,4,0)=\"\",\"\",VLOOKUP(City!B688,miasta,4,0)))","v":""},null,null,null,"","","","","","","","","","","",""]
[null,null,null,null,"",{"$f":"IF(ISERROR(VLOOKUP(City!B689,miasta,4,0)),\"\",IF(VLOOKUP(City!B689,miasta,4,0)=\"\",\"\",VLOOKUP(City!B689,miasta,4,0)))","v":""},null,null,null,"","","","","","","","","","","",""]
[null,null,null,null,"",{"$f":"IF(ISERROR(VLOOKUP(City!B690,miasta,4,0)),\"\",IF(VLOOKUP(City!B690,miasta,4,0)=\"\",\"\",VLOOKUP(City!B690,miasta,4,0)))","v":""},null,null,null,"","","","","","","","","","","",""]
[null,null,null,null,"",{"$f":"IF(ISERROR(VLOOKUP(City!B691,miasta,4,0)),\"\",IF(VLOOKUP(City!B691,miasta,4,0)=\"\",\"\",VLOOKUP(City!B691,miasta,4,0)))","v":""},null,null,null,"","","","","","","","","","","",""]
[null,null,null,null,"",{"$f":"IF(ISERROR(VLOOKUP(City!B692,miasta,4,0)),\"\",IF(VLOOKUP(City!B692,miasta,4,0)=\"\",\"\",VLOOKUP(City!B692,miasta,4,0)))","v":""},null,null,null,"","","","","","","","","","","",""]
[null,null,null,null,"",{"$f":"IF(ISERROR(VLOOKUP(City!B693,miasta,4,0)),\"\",IF(VLOOKUP(City!B693,miasta,4,0)=\"\",\"\",VLOOKUP(City!B693,miasta,4,0)))","v":""},null,null,null,"","","","","","","","","","","",""]
[null,null,null,null,"",{"$f":"IF(ISERROR(VLOOKUP(City!B694,miasta,4,0)),\"\",IF(VLOOKUP(City!B694,miasta,4,0)=\"\",\"\",VLOOKUP(City!B694,miasta,4,0)))","v":""},null,null,null,"","","","","","","","","","","",""]
[null,null,null,null,"",{"$f":"IF(ISERROR(VLOOKUP(City!B695,miasta,4,0)),\"\",IF(VLOOKUP(City!B695,miasta,4,0)=\"\",\"\",VLOOKUP(City!B695,miasta,4,0)))","v":""},null,null,null,"","","","","","","","","","","",""]
[null,null,null,null,"",{"$f":"IF(ISERROR(VLOOKUP(City!B696,miasta,4,0)),\"\",IF(VLOOKUP(City!B696,miasta,4,0)=\"\",\"\",VLOOKUP(City!B696,miasta,4,0)))","v":""},null,null,null,"","","","","","","","","","","",""]
[null,null,null,null,"",{"$f":"IF(ISERROR(VLOOKUP(City!B697,miasta,4,0)),\"\",IF(VLOOKUP(City!B697,miasta,4,0)=\"\",\"\",VLOOKUP(City!B697,miasta,4,0)))","v":""},null,null,null,"","","","","","","","","","","",""]
[null,null,null,null,"",{"$f":"IF(ISERROR(VLOOKUP(City!B698,miasta,4,0)),\"\",IF(VLOOKUP(City!B698,miasta,4,0)=\"\",\"\",VLOOKUP(City!B698,miasta,4,0)))","v":""},null,null,null,"","","","","","","","","","","",""]
[null,null,null,null,"",{"$f":"IF(ISERROR(VLOOKUP(City!B699,miasta,4,0)),\"\",IF(VLOOKUP(City!B699,miasta,4,0)=\"\",\"\",VLOOKUP(City!B699,miasta,4,0)))","v":""},null,null,null,"","","","","","","","","","","",""]
[null,null,null,null,"",{"$f":"IF(ISERROR(VLOOKUP(City!B700,miasta,4,0)),\"\",IF(VLOOKUP(City!B700,miasta,4,0)=\"\",\"\",VLOOKUP(City!B700,miasta,4,0)))","v":""},null,null,null,"","","","","","","","","","","",""]
[null,null,null,null,"",{"$f":"IF(ISERROR(VLOOKUP(City!B701,miasta,4,0)),\"\",IF(VLOOKUP(City!B701,miasta,4,0)=\"\",\"\",VLOOKUP(City!B701,miasta,4,0)))","v":""},null,null,null,"","","","","","","","","","","",""]
[null,null,null,null,"",{"$f":"IF(ISERROR(VLOOKUP(City!B702,miasta,4,0)),\"\",IF(VLOOKUP(City!B702,miasta,4,0)=\"\",\"\",VLOOKUP(City!B702,miasta,4,0)))","v":""},null,null,null,"","","","","","","","","","","",""]
[null,null,null,null,"",{"$f":"IF(ISERROR(VLOOKUP(City!B703,miasta,4,0)),\"\",IF(VLOOKUP(City!B703,miasta,4,0)=\"\",\"\",VLOOKUP(City!B703,miasta,4,0)))","v":""},null,null,null,"","","","","","","","","","","",""]
[null,null,null,null,"",{"$f":"IF(ISERROR(VLOOKUP(City!B704,miasta,4,0)),\"\",IF(VLOOKUP(City!B704,miasta,4,0)=\"\",\"\",VLOOKUP(City!B704,miasta,4,0)))","v":""},null,null,null,"","","","","","","","","","","",""]
[null,null,null,null,"",{"$f":"IF(ISERROR(VLOOKUP(City!B705,miasta,4,0)),\"\",IF(VLOOKUP(City!B705,miasta,4,0)=\"\",\"\",VLOOKUP(City!B705,miasta,4,0)))","v":""},null,null,null,"","","","","","","","","","","",""]
[null,null,null,null,{"$f":"IF(ISERROR(VLOOKUP(B706,miasta,3,0)),\"\",VLOOKUP(B706,miasta,3,0))","v":""},{"$f":"IF(ISERROR(VLOOKUP(City!B706,miasta,4,0)),\"\",IF(VLOOKUP(City!B706,miasta,4,0)=\"\",\"\",VLOOKUP(City!B706,miasta,4,0)))","v":""},null,null,null,"","","","","","","","","","","",""]
[null,null,null,null,"",{"$f":"IF(ISERROR(VLOOKUP(City!B707,miasta,4,0)),\"\",IF(VLOOKUP(City!B707,miasta,4,0)=\"\",\"\",VLOOKUP(City!B707,miasta,4,0)))","v":""},null,null,null,{"$f":"IF(ISERROR(VLOOKUP(F707,$G$2:$I$12,3,1)),\"\",VLOOKUP(F707,$G$2:$I$12,3,1))","v":""},"","","","","","","","","","",""]
[null,null,null,null,"",{"$f":"IF(ISERROR(VLOOKUP(City!B708,miasta,4,0)),\"\",IF(VLOOKUP(City!B708,miasta,4,0)=\"\",\"\",VLOOKUP(City!B708,miasta,4,0)))","v":""},null,null,null,"","","","","","","","","","","",""]
[null,null,null,null,"",{"$f":"IF(ISERROR(VLOOKUP(City!B709,miasta,4,0)),\"\",IF(VLOOKUP(City!B709,miasta,4,0)=\"\",\"\",VLOOKUP(City!B709,miasta,4,0)))","v":""},null,null,null,"","","","","","","","","","","",""]
[null,null,null,null,"",{"$f":"IF(ISERROR(VLOOKUP(City!B710,miasta,4,0)),\"\",IF(VLOOKUP(City!B710,miasta,4,0)=\"\",\"\",VLOOKUP(City!B710,miasta,4,0)))","v":""},null,null,null,"","","","","","","","","","","",""]
[null,null,null,null,"",{"$f":"IF(ISERROR(VLOOKUP(City!B711,miasta,4,0)),\"\",IF(VLOOKUP(City!B711,miasta,4,0)=\"\",\"\",VLOOKUP(City!B711,miasta,4,0)))","v":""},null,null,null,"","","","","","","","","","","",""]
[null,null,null,null,"",{"$f":"IF(ISERROR(VLOOKUP(City!B712,miasta,4,0)),\"\",IF(VLOOKUP(City!B712,miasta,4,0)=\"\",\"\",VLOOKUP(City!B712,miasta,4,0)))","v":""},null,null,null,"","","","","","","","","","","",""]
[null,null,null,null,"",{"$f":"IF(ISERROR(VLOOKUP(City!B713,miasta,4,0)),\"\",IF(VLOOKUP(City!B713,miasta,4,0)=\"\",\"\",VLOOKUP(City!B713,miasta,4,0)))","v":""},null,null,null,"","","","","","","","","","","",""]
[null,null,null,null,"",{"$f":"IF(ISERROR(VLOOKUP(City!B714,miasta,4,0)),\"\",IF(VLOOKUP(City!B714,miasta,4,0)=\"\",\"\",VLOOKUP(City!B714,miasta,4,0)))","v":""},null,null,null,"","","","","","","","","","","",""]
[null,null,null,null,"",{"$f":"IF(ISERROR(VLOOKUP(City!B715,miasta,4,0)),\"\",IF(VLOOKUP(City!B715,miasta,4,0)=\"\",\"\",VLOOKUP(City!B715,miasta,4,0)))","v":""},null,null,null,"",{"$f":"IF($J715=COLUMN(K715)-10,$E715,\"\")","v":""},"","","","","","","","","",""]
[null,null,null,null,"",{"$f":"IF(ISERROR(VLOOKUP(City!B716,miasta,4,0)),\"\",IF(VLOOKUP(City!B716,miasta,4,0)=\"\",\"\",VLOOKUP(City!B716,miasta,4,0)))","v":""},null,null,null,"","","","","","","","","","","",""]
[null,null,null,null,"",{"$f":"IF(ISERROR(VLOOKUP(City!B717,miasta,4,0)),\"\",IF(VLOOKUP(City!B717,miasta,4,0)=\"\",\"\",VLOOKUP(City!B717,miasta,4,0)))","v":""},null,null,null,"","","","","","","","","","","",""]
[null,null,null,null,"",{"$f":"IF(ISERROR(VLOOKUP(City!B718,miasta,4,0)),\"\",IF(VLOOKUP(City!B718,miasta,4,0)=\"\",\"\",VLOOKUP(City!B718,miasta,4,0)))","v":""},null,null,null,"","","","","","","","","","","",""]
[null,null,null,null,"",{"$f":"IF(ISERROR(VLOOKUP(City!B719,miasta,4,0)),\"\",IF(VLOOKUP(City!B719,miasta,4,0)=\"\",\"\",VLOOKUP(City!B719,miasta,4,0)))","v":""},null,null,null,"","","","","","","","","","","",""]
[null,null,null,null,"",{"$f":"IF(ISERROR(VLOOKUP(City!B720,miasta,4,0)),\"\",IF(VLOOKUP(City!B720,miasta,4,0)=\"\",\"\",VLOOKUP(City!B720,miasta,4,0)))","v":""},null,null,null,"","","","","","","","","","","",""]
[null,null,null,null,"",{"$f":"IF(ISERROR(VLOOKUP(City!B721,miasta,4,0)),\"\",IF(VLOOKUP(City!B721,miasta,4,0)=\"\",\"\",VLOOKUP(City!B721,miasta,4,0)))","v":""},null,null,null,"","","","","","","","","","","",""]
[null,null,null,null,"",{"$f":"IF(ISERROR(VLOOKUP(City!B722,miasta,4,0)),\"\",IF(VLOOKUP(City!B722,miasta,4,0)=\"\",\"\",VLOOKUP(City!B722,miasta,4,0)))","v":""},null,null,null,"","","","","","","","","","","",""]
[null,null,null,null,"",{"$f":"IF(ISERROR(VLOOKUP(City!B723,miasta,4,0)),\"\",IF(VLOOKUP(City!B723,miasta,4,0)=\"\",\"\",VLOOKUP(City!B723,miasta,4,0)))","v":""},null,null,null,"","","","","","","","","","","",""]
[null,null,null,null,"",{"$f":"IF(ISERROR(VLOOKUP(City!B724,miasta,4,0)),\"\",IF(VLOOKUP(City!B724,miasta,4,0)=\"\",\"\",VLOOKUP(City!B724,miasta,4,0)))","v":""},null,null,null,"","","","","","","","","","","",""]
[null,null,null,null,"",{"$f":"IF(ISERROR(VLOOKUP(City!B725,miasta,4,0)),\"\",IF(VLOOKUP(City!B725,miasta,4,0)=\"\",\"\",VLOOKUP(City!B725,miasta,4,0)))","v":""},null,null,null,"","","","","","","","","","","",""]
[null,null,null,null,"",{"$f":"IF(ISERROR(VLOOKUP(City!B726,miasta,4,0)),\"\",IF(VLOOKUP(City!B726,miasta,4,0)=\"\",\"\",VLOOKUP(City!B726,miasta,4,0)))","v":""},null,null,null,"","","","","","","","","","","",""]
[null,null,null,null,"",{"$f":"IF(ISERROR(VLOOKUP(City!B727,miasta,4,0)),\"\",IF(VLOOKUP(City!B727,miasta,4,0)=\"\",\"\",VLOOKUP(City!B727,miasta,4,0)))","v":""},null,null,null,"","","","","","","","","","","",""]
[null,null,null,null,"",{"$f":"IF(ISERROR(VLOOKUP(City!B728,miasta,4,0)),\"\",IF(VLOOKUP(City!B728,miasta,4,0)=\"\",\"\",VLOOKUP(City!B728,miasta,4,0)))","v":""},null,null,null,"","","","","","","","","","","",""]
[null,null,null,null,"",{"$f":"IF(ISERROR(VLOOKUP(City!B729,miasta,4,0)),\"\",IF(VLOOKUP(City!B729,miasta,4,0)=\"\",\"\",VLOOKUP(City!B729,miasta,4,0)))","v":""},null,null,null,"","","","","","","","","","","",""]
[null,null,null,null,"",{"$f":"IF(ISERROR(VLOOKUP(City!B730,miasta,4,0)),\"\",IF(VLOOKUP(City!B730,miasta,4,0)=\"\",\"\",VLOOKUP(City!B730,miasta,4,0)))","v":""},null,null,null,"","","","","","","","","","","",""]
[null,null,null,null,"",{"$f":"IF(ISERROR(VLOOKUP(City!B731,miasta,4,0)),\"\",IF(VLOOKUP(City!B731,miasta,4,0)=\"\",\"\",VLOOKUP(City!B731,miasta,4,0)))","v":""},null,null,null,"","","","","","","","","","","",""]
[null,null,null,null,"",{"$f":"IF(ISERROR(VLOOKUP(City!B732,miasta,4,0)),\"\",IF(VLOOKUP(City!B732,miasta,4,0)=\"\",\"\",VLOOKUP(City!B732,miasta,4,0)))","v":""},null,null,null,"","","","","","","","","","","",""]
[null,null,null,null,"",{"$f":"IF(ISERROR(VLOOKUP(City!B733,miasta,4,0)),\"\",IF(VLOOKUP(City!B733,miasta,4,0)=\"\",\"\",VLOOKUP(City!B733,miasta,4,0)))","v":""},null,null,null,"","","","","","","","","","","",""]
[null,null,null,null,"",{"$f":"IF(ISERROR(VLOOKUP(City!B734,miasta,4,0)),\"\",IF(VLOOKUP(City!B734,miasta,4,0)=\"\",\"\",VLOOKUP(City!B734,miasta,4,0)))","v":""},null,null,null,"","","","","","","","","","","",""]
[null,null,null,null,"",{"$f":"IF(ISERROR(VLOOKUP(City!B735,miasta,4,0)),\"\",IF(VLOOKUP(City!B735,miasta,4,0)=\"\",\"\",VLOOKUP(City!B735,miasta,4,0)))","v":""},null,null,null,"","","","","","","","","","","",""]
[null,null,null,null,"",{"$f":"IF(ISERROR(VLOOKUP(City!B736,miasta,4,0)),\"\",IF(VLOOKUP(City!B736,miasta,4,0)=\"\",\"\",VLOOKUP(City!B736,miasta,4,0)))","v":""},null,null,null,"","","","","","","","","","","",""]
[null,null,null,null,"",{"$f":"IF(ISERROR(VLOOKUP(City!B737,miasta,4,0)),\"\",IF(VLOOKUP(City!B737,miasta,4,0)=\"\",\"\",VLOOKUP(City!B737,miasta,4,0)))","v":""},null,null,null,"","","","","","","","","","","",""]
[null,null,null,null,"",{"$f":"IF(ISERROR(VLOOKUP(City!B738,miasta,4,0)),\"\",IF(VLOOKUP(City!B738,miasta,4,0)=\"\",\"\",VLOOKUP(City!B738,miasta,4,0)))","v":""},null,null,null,"","","",{"$f":"IF($J738=COLUMN(M738)-10,$E738,\"\")","v":""},"","","","","","","",""]
[null,null,null,null,"",{"$f":"IF(ISERROR(VLOOKUP(City!B739,miasta,4,0)),\"\",IF(VLOOKUP(City!B739,miasta,4,0)=\"\",\"\",VLOOKUP(City!B739,miasta,4,0)))","v":""},null,null,null,"",{"$f":"IF($J739=COLUMN(K739)-10,$E739,\"\")","v":""},"","","","","","","","","",""]
[null,null,null,null,"",{"$f":"IF(ISERROR(VLOOKUP(City!B740,miasta,4,0)),\"\",IF(VLOOKUP(City!B740,miasta,4,0)=\"\",\"\",VLOOKUP(City!B740,miasta,4,0)))","v":""},null,null,null,"","","","","","","","","","","",""]
[null,null,null,null,"",{"$f":"IF(ISERROR(VLOOKUP(City!B741,miasta,4,0)),\"\",IF(VLOOKUP(City!B741,miasta,4,0)=\"\",\"\",VLOOKUP(City!B741,miasta,4,0)))","v":""},null,null,null,"","","","","","","","","","","",""]
[null,null,null,null,"",{"$f":"IF(ISERROR(VLOOKUP(City!B742,miasta,4,0)),\"\",IF(VLOOKUP(City!B742,miasta,4,0)=\"\",\"\",VLOOKUP(City!B742,miasta,4,0)))","v":""},null,null,null,"","","","","","","","","","","",""]
[null,null,null,null,"",{"$f":"IF(ISERROR(VLOOKUP(City!B743,miasta,4,0)),\"\",IF(VLOOKUP(City!B743,miasta,4,0)=\"\",\"\",VLOOKUP(City!B743,miasta,4,0)))","v":""},null,null,null,"","","","","","","","","","","",""]
[null,null,null,null,"",{"$f":"IF(ISERROR(VLOOKUP(City!B744,miasta,4,0)),\"\",IF(VLOOKUP(City!B744,miasta,4,0)=\"\",\"\",VLOOKUP(City!B744,miasta,4,0)))","v":""},null,null,null,"","","","","","","","","","","",""]
[null,null,null,null,"",{"$f":"IF(ISERROR(VLOOKUP(City!B745,miasta,4,0)),\"\",IF(VLOOKUP(City!B745,miasta,4,0)=\"\",\"\",VLOOKUP(City!B745,miasta,4,0)))","v":""},null,null,null,"","","","","","","","","","","",""]
[null,null,null,null,"",{"$f":"IF(ISERROR(VLOOKUP(City!B746,miasta,4,0)),\"\",IF(VLOOKUP(City!B746,miasta,4,0)=\"\",\"\",VLOOKUP(City!B746,miasta,4,0)))","v":""},null,null,null,"","","","","","","","","","","",""]
[null,null,null,null,"",{"$f":"IF(ISERROR(VLOOKUP(City!B747,miasta,4,0)),\"\",IF(VLOOKUP(City!B747,miasta,4,0)=\"\",\"\",VLOOKUP(City!B747,miasta,4,0)))","v":""},null,null,null,"","","","","","","","","","","",""]
[null,null,null,null,"",{"$f":"IF(ISERROR(VLOOKUP(City!B748,miasta,4,0)),\"\",IF(VLOOKUP(City!B748,miasta,4,0)=\"\",\"\",VLOOKUP(City!B748,miasta,4,0)))","v":""},null,null,null,"","","","","","","","","","","",""]
[null,null,null,null,"",{"$f":"IF(ISERROR(VLOOKUP(City!B749,miasta,4,0)),\"\",IF(VLOOKUP(City!B749,miasta,4,0)=\"\",\"\",VLOOKUP(City!B749,miasta,4,0)))","v":""},null,null,null,"","","","","","","","","","","",""]
[null,null,null,null,"",{"$f":"IF(ISERROR(VLOOKUP(City!B750,miasta,4,0)),\"\",IF(VLOOKUP(City!B750,miasta,4,0)=\"\",\"\",VLOOKUP(City!B750,miasta,4,0)))","v":""},null,null,null,"","","","","","","","","","","",""]
[null,null,null,null,"",{"$f":"IF(ISERROR(VLOOKUP(City!B751,miasta,4,0)),\"\",IF(VLOOKUP(City!B751,miasta,4,0)=\"\",\"\",VLOOKUP(City!B751,miasta,4,0)))","v":""},null,null,null,"","","","","","","","","","","",""]
[null,null,null,null,"",{"$f":"IF(ISERROR(VLOOKUP(City!B752,miasta,4,0)),\"\",IF(VLOOKUP(City!B752,miasta,4,0)=\"\",\"\",VLOOKUP(City!B752,miasta,4,0)))","v":""},null,null,null,"","","","","","","","","","","",""]
[null,null,null,null,"",{"$f":"IF(ISERROR(VLOOKUP(City!B753,miasta,4,0)),\"\",IF(VLOOKUP(City!B753,miasta,4,0)=\"\",\"\",VLOOKUP(City!B753,miasta,4,0)))","v":""},null,null,null,"","","","","","","","","","","",""]
[null,null,null,null,"",{"$f":"IF(ISERROR(VLOOKUP(City!B754,miasta,4,0)),\"\",IF(VLOOKUP(City!B754,miasta,4,0)=\"\",\"\",VLOOKUP(City!B754,miasta,4,0)))","v":""},null,null,null,"","","","","","","","","","","",""]
[null,null,null,null,"",{"$f":"IF(ISERROR(VLOOKUP(City!B755,miasta,4,0)),\"\",IF(VLOOKUP(City!B755,miasta,4,0)=\"\",\"\",VLOOKUP(City!B755,miasta,4,0)))","v":""},null,null,null,"","","","","","","","","","","",""]
[null,null,null,null,"",{"$f":"IF(ISERROR(VLOOKUP(City!B756,miasta,4,0)),\"\",IF(VLOOKUP(City!B756,miasta,4,0)=\"\",\"\",VLOOKUP(City!B756,miasta,4,0)))","v":""},null,null,null,"","","","","","","","","","","",""]
[null,null,null,null,"",{"$f":"IF(ISERROR(VLOOKUP(City!B757,miasta,4,0)),\"\",IF(VLOOKUP(City!B757,miasta,4,0)=\"\",\"\",VLOOKUP(City!B757,miasta,4,0)))","v":""},null,null,null,"","","","","","","","","","","",""]
[null,null,null,null,"",{"$f":"IF(ISERROR(VLOOKUP(City!B758,miasta,4,0)),\"\",IF(VLOOKUP(City!B758,miasta,4,0)=\"\",\"\",VLOOKUP(City!B758,miasta,4,0)))","v":""},null,null,null,"","","","","","","","","","","",""]
[null,null,null,null,"",{"$f":"IF(ISERROR(VLOOKUP(City!B759,miasta,4,0)),\"\",IF(VLOOKUP(City!B759,miasta,4,0)=\"\",\"\",VLOOKUP(City!B759,miasta,4,0)))","v":""},null,null,null,"","","","","","","","","","","",""]
[null,null,null,null,"",{"$f":"IF(ISERROR(VLOOKUP(City!B760,miasta,4,0)),\"\",IF(VLOOKUP(City!B760,miasta,4,0)=\"\",\"\",VLOOKUP(City!B760,miasta,4,0)))","v":""},null,null,null,"","","","","","","","","","","",""]
[null,null,null,null,"",{"$f":"IF(ISERROR(VLOOKUP(City!B761,miasta,4,0)),\"\",IF(VLOOKUP(City!B761,miasta,4,0)=\"\",\"\",VLOOKUP(City!B761,miasta,4,0)))","v":""},null,null,null,"","","","","","","","","","","",""]
[null,null,null,null,"",{"$f":"IF(ISERROR(VLOOKUP(City!B762,miasta,4,0)),\"\",IF(VLOOKUP(City!B762,miasta,4,0)=\"\",\"\",VLOOKUP(City!B762,miasta,4,0)))","v":""},null,null,null,"","","","","","","","","","","",""]
[null,null,null,null,"",{"$f":"IF(ISERROR(VLOOKUP(City!B763,miasta,4,0)),\"\",IF(VLOOKUP(City!B763,miasta,4,0)=\"\",\"\",VLOOKUP(City!B763,miasta,4,0)))","v":""},null,null,null,"","","","","","","","","","","",""]
[null,null,null,null,"",{"$f":"IF(ISERROR(VLOOKUP(City!B764,miasta,4,0)),\"\",IF(VLOOKUP(City!B764,miasta,4,0)=\"\",\"\",VLOOKUP(City!B764,miasta,4,0)))","v":""},null,null,null,"","","","","","","","","","","",""]
[null,null,null,null,"",{"$f":"IF(ISERROR(VLOOKUP(City!B765,miasta,4,0)),\"\",IF(VLOOKUP(City!B765,miasta,4,0)=\"\",\"\",VLOOKUP(City!B765,miasta,4,0)))","v":""},null,null,null,"","","","","","","","","","","",""]
[null,null,null,null,"",{"$f":"IF(ISERROR(VLOOKUP(City!B766,miasta,4,0)),\"\",IF(VLOOKUP(City!B766,miasta,4,0)=\"\",\"\",VLOOKUP(City!B766,miasta,4,0)))","v":""},null,null,null,"","","","","","",{"$f":"IF($J766=COLUMN(P766)-10,$E766,\"\")","v":""},"","","","",""]
[null,null,null,null,"",{"$f":"IF(ISERROR(VLOOKUP(City!B767,miasta,4,0)),\"\",IF(VLOOKUP(City!B767,miasta,4,0)=\"\",\"\",VLOOKUP(City!B767,miasta,4,0)))","v":""},null,null,null,"","","","","","","","","","","",""]
[null,null,null,null,"",{"$f":"IF(ISERROR(VLOOKUP(City!B768,miasta,4,0)),\"\",IF(VLOOKUP(City!B768,miasta,4,0)=\"\",\"\",VLOOKUP(City!B768,miasta,4,0)))","v":""},null,null,null,"","","","","","","","","","","",""]
[null,null,null,null,"",{"$f":"IF(ISERROR(VLOOKUP(City!B769,miasta,4,0)),\"\",IF(VLOOKUP(City!B769,miasta,4,0)=\"\",\"\",VLOOKUP(City!B769,miasta,4,0)))","v":""},null,null,null,"","","","","","","","","","","",""]
[null,null,null,null,{"$f":"IF(ISERROR(VLOOKUP(B770,miasta,3,0)),\"\",VLOOKUP(B770,miasta,3,0))","v":""},{"$f":"IF(ISERROR(VLOOKUP(City!B770,miasta,4,0)),\"\",IF(VLOOKUP(City!B770,miasta,4,0)=\"\",\"\",VLOOKUP(City!B770,miasta,4,0)))","v":""},null,null,null,"","","","","","","","","","","",""]
[null,null,null,null,"",{"$f":"IF(ISERROR(VLOOKUP(City!B771,miasta,4,0)),\"\",IF(VLOOKUP(City!B771,miasta,4,0)=\"\",\"\",VLOOKUP(City!B771,miasta,4,0)))","v":""},null,null,null,{"$f":"IF(ISERROR(VLOOKUP(F771,$G$2:$I$12,3,1)),\"\",VLOOKUP(F771,$G$2:$I$12,3,1))","v":""},"","","","","","","","","","",""]
[null,null,null,null,"",{"$f":"IF(ISERROR(VLOOKUP(City!B772,miasta,4,0)),\"\",IF(VLOOKUP(City!B772,miasta,4,0)=\"\",\"\",VLOOKUP(City!B772,miasta,4,0)))","v":""},null,null,null,"","","","","","","","","","","",""]
[null,null,null,null,"",{"$f":"IF(ISERROR(VLOOKUP(City!B773,miasta,4,0)),\"\",IF(VLOOKUP(City!B773,miasta,4,0)=\"\",\"\",VLOOKUP(City!B773,miasta,4,0)))","v":""},null,null,null,"","","","","","","","","","","",""]
[null,null,null,null,"",{"$f":"IF(ISERROR(VLOOKUP(City!B774,miasta,4,0)),\"\",IF(VLOOKUP(City!B774,miasta,4,0)=\"\",\"\",VLOOKUP(City!B774,miasta,4,0)))","v":""},null,null,null,"","","","","","","","","","","",""]
[null,null,null,null,"",{"$f":"IF(ISERROR(VLOOKUP(City!B775,miasta,4,0)),\"\",IF(VLOOKUP(City!B775,miasta,4,0)=\"\",\"\",VLOOKUP(City!B775,miasta,4,0)))","v":""},null,null,null,"","","","","","","","","","","",""]
[null,null,null,null,"",{"$f":"IF(ISERROR(VLOOKUP(City!B776,miasta,4,0)),\"\",IF(VLOOKUP(City!B776,miasta,4,0)=\"\",\"\",VLOOKUP(City!B776,miasta,4,0)))","v":""},null,null,null,"","","","","","","","","","","",""]
[null,null,null,null,"",{"$f":"IF(ISERROR(VLOOKUP(City!B777,miasta,4,0)),\"\",IF(VLOOKUP(City!B777,miasta,4,0)=\"\",\"\",VLOOKUP(City!B777,miasta,4,0)))","v":""},null,null,null,"","","","","","","","","","","",""]
[null,null,null,null,"",{"$f":"IF(ISERROR(VLOOKUP(City!B778,miasta,4,0)),\"\",IF(VLOOKUP(City!B778,miasta,4,0)=\"\",\"\",VLOOKUP(City!B778,miasta,4,0)))","v":""},null,null,null,"","","","","","","","","","","",""]
[null,null,null,null,"",{"$f":"IF(ISERROR(VLOOKUP(City!B779,miasta,4,0)),\"\",IF(VLOOKUP(City!B779,miasta,4,0)=\"\",\"\",VLOOKUP(City!B779,miasta,4,0)))","v":""},null,null,null,"","","","","","","","","","","",""]
[null,null,null,null,"",{"$f":"IF(ISERROR(VLOOKUP(City!B780,miasta,4,0)),\"\",IF(VLOOKUP(City!B780,miasta,4,0)=\"\",\"\",VLOOKUP(City!B780,miasta,4,0)))","v":""},null,null,null,"","","","","","","","","","","",""]
[null,null,null,null,"",{"$f":"IF(ISERROR(VLOOKUP(City!B781,miasta,4,0)),\"\",IF(VLOOKUP(City!B781,miasta,4,0)=\"\",\"\",VLOOKUP(City!B781,miasta,4,0)))","v":""},null,null,null,"","","","","","","","","","","",""]
[null,null,null,null,"",{"$f":"IF(ISERROR(VLOOKUP(City!B782,miasta,4,0)),\"\",IF(VLOOKUP(City!B782,miasta,4,0)=\"\",\"\",VLOOKUP(City!B782,miasta,4,0)))","v":""},null,null,null,"","","","","","","","","","","",""]
[null,null,null,null,"",{"$f":"IF(ISERROR(VLOOKUP(City!B783,miasta,4,0)),\"\",IF(VLOOKUP(City!B783,miasta,4,0)=\"\",\"\",VLOOKUP(City!B783,miasta,4,0)))","v":""},null,null,null,"","","","","","","","","","","",""]
[null,null,null,null,"",{"$f":"IF(ISERROR(VLOOKUP(City!B784,miasta,4,0)),\"\",IF(VLOOKUP(City!B784,miasta,4,0)=\"\",\"\",VLOOKUP(City!B784,miasta,4,0)))","v":""},null,null,null,"","","","","","","","","","","",""]
[null,null,null,null,"",{"$f":"IF(ISERROR(VLOOKUP(City!B785,miasta,4,0)),\"\",IF(VLOOKUP(City!B785,miasta,4,0)=\"\",\"\",VLOOKUP(City!B785,miasta,4,0)))","v":""},null,null,null,"","","","","","","","","","","",""]
[null,null,null,null,"",{"$f":"IF(ISERROR(VLOOKUP(City!B786,miasta,4,0)),\"\",IF(VLOOKUP(City!B786,miasta,4,0)=\"\",\"\",VLOOKUP(City!B786,miasta,4,0)))","v":""},null,null,null,"","","","","","","","","","","",""]
[null,null,null,null,"",{"$f":"IF(ISERROR(VLOOKUP(City!B787,miasta,4,0)),\"\",IF(VLOOKUP(City!B787,miasta,4,0)=\"\",\"\",VLOOKUP(City!B787,miasta,4,0)))","v":""},null,null,null,"","","","","","","","","","","",""]
[null,null,null,null,"",{"$f":"IF(ISERROR(VLOOKUP(City!B788,miasta,4,0)),\"\",IF(VLOOKUP(City!B788,miasta,4,0)=\"\",\"\",VLOOKUP(City!B788,miasta,4,0)))","v":""},null,null,null,"","","","","","","","","","","",""]
[null,null,null,null,"",{"$f":"IF(ISERROR(VLOOKUP(City!B789,miasta,4,0)),\"\",IF(VLOOKUP(City!B789,miasta,4,0)=\"\",\"\",VLOOKUP(City!B789,miasta,4,0)))","v":""},null,null,null,"","","","","","","","","","","",""]
[null,null,null,null,"",{"$f":"IF(ISERROR(VLOOKUP(City!B790,miasta,4,0)),\"\",IF(VLOOKUP(City!B790,miasta,4,0)=\"\",\"\",VLOOKUP(City!B790,miasta,4,0)))","v":""},null,null,null,"","","","","","","","","","","",""]
[null,null,null,null,"",{"$f":"IF(ISERROR(VLOOKUP(City!B791,miasta,4,0)),\"\",IF(VLOOKUP(City!B791,miasta,4,0)=\"\",\"\",VLOOKUP(City!B791,miasta,4,0)))","v":""},null,null,null,"","","","","","","","","","","",""]
[null,null,null,null,"",{"$f":"IF(ISERROR(VLOOKUP(City!B792,miasta,4,0)),\"\",IF(VLOOKUP(City!B792,miasta,4,0)=\"\",\"\",VLOOKUP(City!B792,miasta,4,0)))","v":""},null,null,null,"","","","","","","","","","","",""]
[null,null,null,null,"",{"$f":"IF(ISERROR(VLOOKUP(City!B793,miasta,4,0)),\"\",IF(VLOOKUP(City!B793,miasta,4,0)=\"\",\"\",VLOOKUP(City!B793,miasta,4,0)))","v":""},null,null,null,"","","","","","","","","","","",""]
[null,null,null,null,"",{"$f":"IF(ISERROR(VLOOKUP(City!B794,miasta,4,0)),\"\",IF(VLOOKUP(City!B794,miasta,4,0)=\"\",\"\",VLOOKUP(City!B794,miasta,4,0)))","v":""},null,null,null,"","","","","","","","","","","",""]
[null,null,null,null,"",{"$f":"IF(ISERROR(VLOOKUP(City!B795,miasta,4,0)),\"\",IF(VLOOKUP(City!B795,miasta,4,0)=\"\",\"\",VLOOKUP(City!B795,miasta,4,0)))","v":""},null,null,null,"","","","","","","","","","","",""]
[null,null,null,null,"",{"$f":"IF(ISERROR(VLOOKUP(City!B796,miasta,4,0)),\"\",IF(VLOOKUP(City!B796,miasta,4,0)=\"\",\"\",VLOOKUP(City!B796,miasta,4,0)))","v":""},null,null,null,"","","","","","","","","","","",""]
[null,null,null,null,"",{"$f":"IF(ISERROR(VLOOKUP(City!B797,miasta,4,0)),\"\",IF(VLOOKUP(City!B797,miasta,4,0)=\"\",\"\",VLOOKUP(City!B797,miasta,4,0)))","v":""},null,null,null,"","","","","","","","","","","",""]
[null,null,null,null,"",{"$f":"IF(ISERROR(VLOOKUP(City!B798,miasta,4,0)),\"\",IF(VLOOKUP(City!B798,miasta,4,0)=\"\",\"\",VLOOKUP(City!B798,miasta,4,0)))","v":""},null,null,null,"","","","","","","","","","","",""]
[null,null,null,null,"",{"$f":"IF(ISERROR(VLOOKUP(City!B799,miasta,4,0)),\"\",IF(VLOOKUP(City!B799,miasta,4,0)=\"\",\"\",VLOOKUP(City!B799,miasta,4,0)))","v":""},null,null,null,"","","","","","","","","","","",""]
[null,null,null,null,"",{"$f":"IF(ISERROR(VLOOKUP(City!B800,miasta,4,0)),\"\",IF(VLOOKUP(City!B800,miasta,4,0)=\"\",\"\",VLOOKUP(City!B800,miasta,4,0)))","v":""},null,null,null,"","","","","","","","","","","",""]
[null,null,null,null,"",{"$f":"IF(ISERROR(VLOOKUP(City!B801,miasta,4,0)),\"\",IF(VLOOKUP(City!B801,miasta,4,0)=\"\",\"\",VLOOKUP(City!B801,miasta,4,0)))","v":""},null,null,null,"","","","","","","","","","","",""]
[null,null,null,null,"",{"$f":"IF(ISERROR(VLOOKUP(City!B802,miasta,4,0)),\"\",IF(VLOOKUP(City!B802,miasta,4,0)=\"\",\"\",VLOOKUP(City!B802,miasta,4,0)))","v":""},null,null,null,"","","","","","","","","","","",""]
[null,null,null,null,"",{"$f":"IF(ISERROR(VLOOKUP(City!B803,miasta,4,0)),\"\",IF(VLOOKUP(City!B803,miasta,4,0)=\"\",\"\",VLOOKUP(City!B803,miasta,4,0)))","v":""},null,null,null,"",{"$f":"IF($J803=COLUMN(K803)-10,$E803,\"\")","v":""},"","","","","","","","","",""]
[null,null,null,null,"",{"$f":"IF(ISERROR(VLOOKUP(City!B804,miasta,4,0)),\"\",IF(VLOOKUP(City!B804,miasta,4,0)=\"\",\"\",VLOOKUP(City!B804,miasta,4,0)))","v":""},null,null,null,"","","","","","","","","","","",""]
[null,null,null,null,"",{"$f":"IF(ISERROR(VLOOKUP(City!B805,miasta,4,0)),\"\",IF(VLOOKUP(City!B805,miasta,4,0)=\"\",\"\",VLOOKUP(City!B805,miasta,4,0)))","v":""},null,null,null,"","","","","","","","","","","",""]
[null,null,null,null,"",{"$f":"IF(ISERROR(VLOOKUP(City!B806,miasta,4,0)),\"\",IF(VLOOKUP(City!B806,miasta,4,0)=\"\",\"\",VLOOKUP(City!B806,miasta,4,0)))","v":""},null,null,null,"","","","","","","","","","","",""]
[null,null,null,null,"",{"$f":"IF(ISERROR(VLOOKUP(City!B807,miasta,4,0)),\"\",IF(VLOOKUP(City!B807,miasta,4,0)=\"\",\"\",VLOOKUP(City!B807,miasta,4,0)))","v":""},null,null,null,"","","","","","","","","","","",""]
[null,null,null,null,"",{"$f":"IF(ISERROR(VLOOKUP(City!B808,miasta,4,0)),\"\",IF(VLOOKUP(City!B808,miasta,4,0)=\"\",\"\",VLOOKUP(City!B808,miasta,4,0)))","v":""},null,null,null,"","","","","","","","","",{"$f":"IF($J808=COLUMN(S808)-10,$E808,\"\")","v":""},"",""]
[null,null,null,null,"",{"$f":"IF(ISERROR(VLOOKUP(City!B809,miasta,4,0)),\"\",IF(VLOOKUP(City!B809,miasta,4,0)=\"\",\"\",VLOOKUP(City!B809,miasta,4,0)))","v":""},null,null,null,"","","","","","","","","","","",""]
[null,null,null,null,"",{"$f":"IF(ISERROR(VLOOKUP(City!B810,miasta,4,0)),\"\",IF(VLOOKUP(City!B810,miasta,4,0)=\"\",\"\",VLOOKUP(City!B810,miasta,4,0)))","v":""},null,null,null,"","","","","","","","","","","",""]
[null,null,null,null,"",{"$f":"IF(ISERROR(VLOOKUP(City!B811,miasta,4,0)),\"\",IF(VLOOKUP(City!B811,miasta,4,0)=\"\",\"\",VLOOKUP(City!B811,miasta,4,0)))","v":""},null,null,null,"","","","","","","","","","","",""]
[null,null,null,null,"",{"$f":"IF(ISERROR(VLOOKUP(City!B812,miasta,4,0)),\"\",IF(VLOOKUP(City!B812,miasta,4,0)=\"\",\"\",VLOOKUP(City!B812,miasta,4,0)))","v":""},null,null,null,"","","","","","","","","","","",""]
[null,null,null,null,"",{"$f":"IF(ISERROR(VLOOKUP(City!B813,miasta,4,0)),\"\",IF(VLOOKUP(City!B813,miasta,4,0)=\"\",\"\",VLOOKUP(City!B813,miasta,4,0)))","v":""},null,null,null,"","","","","","","","","","","",""]
[null,null,null,null,"",{"$f":"IF(ISERROR(VLOOKUP(City!B814,miasta,4,0)),\"\",IF(VLOOKUP(City!B814,miasta,4,0)=\"\",\"\",VLOOKUP(City!B814,miasta,4,0)))","v":""},null,null,null,"","","","","","","","","","","",""]
[null,null,null,null,"",{"$f":"IF(ISERROR(VLOOKUP(City!B815,miasta,4,0)),\"\",IF(VLOOKUP(City!B815,miasta,4,0)=\"\",\"\",VLOOKUP(City!B815,miasta,4,0)))","v":""},null,null,null,"","","","","","","","","","","",""]
[null,null,null,null,"",{"$f":"IF(ISERROR(VLOOKUP(City!B816,miasta,4,0)),\"\",IF(VLOOKUP(City!B816,miasta,4,0)=\"\",\"\",VLOOKUP(City!B816,miasta,4,0)))","v":""},null,null,null,"","","","","","","","","","","",""]
[null,null,null,null,"",{"$f":"IF(ISERROR(VLOOKUP(City!B817,miasta,4,0)),\"\",IF(VLOOKUP(City!B817,miasta,4,0)=\"\",\"\",VLOOKUP(City!B817,miasta,4,0)))","v":""},null,null,null,"","","","","","","","","","","",""]
[null,null,null,null,"",{"$f":"IF(ISERROR(VLOOKUP(City!B818,miasta,4,0)),\"\",IF(VLOOKUP(City!B818,miasta,4,0)=\"\",\"\",VLOOKUP(City!B818,miasta,4,0)))","v":""},null,null,null,"","","","","","","","","","","",""]
[null,null,null,null,"",{"$f":"IF(ISERROR(VLOOKUP(City!B819,miasta,4,0)),\"\",IF(VLOOKUP(City!B819,miasta,4,0)=\"\",\"\",VLOOKUP(City!B819,miasta,4,0)))","v":""},null,null,null,"","","","","","","","","","","",""]
[null,null,null,null,"",{"$f":"IF(ISERROR(VLOOKUP(City!B820,miasta,4,0)),\"\",IF(VLOOKUP(City!B820,miasta,4,0)=\"\",\"\",VLOOKUP(City!B820,miasta,4,0)))","v":""},null,null,null,"","","","","","","","","","","",""]
[null,null,null,null,"",{"$f":"IF(ISERROR(VLOOKUP(City!B821,miasta,4,0)),\"\",IF(VLOOKUP(City!B821,miasta,4,0)=\"\",\"\",VLOOKUP(City!B821,miasta,4,0)))","v":""},null,null,null,"","","","","","","","","","","",""]
[null,null,null,null,"",{"$f":"IF(ISERROR(VLOOKUP(City!B822,miasta,4,0)),\"\",IF(VLOOKUP(City!B822,miasta,4,0)=\"\",\"\",VLOOKUP(City!B822,miasta,4,0)))","v":""},null,null,null,"","","","","","","","","","","",""]
[null,null,null,null,"",{"$f":"IF(ISERROR(VLOOKUP(City!B823,miasta,4,0)),\"\",IF(VLOOKUP(City!B823,miasta,4,0)=\"\",\"\",VLOOKUP(City!B823,miasta,4,0)))","v":""},null,null,null,"","","","","","","","","","","",""]
[null,null,null,null,"",{"$f":"IF(ISERROR(VLOOKUP(City!B824,miasta,4,0)),\"\",IF(VLOOKUP(City!B824,miasta,4,0)=\"\",\"\",VLOOKUP(City!B824,miasta,4,0)))","v":""},null,null,null,"","","","","","","","","","","",""]
[null,null,null,null,"",{"$f":"IF(ISERROR(VLOOKUP(City!B825,miasta,4,0)),\"\",IF(VLOOKUP(City!B825,miasta,4,0)=\"\",\"\",VLOOKUP(City!B825,miasta,4,0)))","v":""},null,null,null,"","","","","","","","","","","",""]
[null,null,null,null,"",{"$f":"IF(ISERROR(VLOOKUP(City!B826,miasta,4,0)),\"\",IF(VLOOKUP(City!B826,miasta,4,0)=\"\",\"\",VLOOKUP(City!B826,miasta,4,0)))","v":""},null,null,null,"","","","","","","","","","","",""]
[null,null,null,null,"",{"$f":"IF(ISERROR(VLOOKUP(City!B827,miasta,4,0)),\"\",IF(VLOOKUP(City!B827,miasta,4,0)=\"\",\"\",VLOOKUP(City!B827,miasta,4,0)))","v":""},null,null,null,"","","","","","","","","","","",""]
[null,null,null,null,"",{"$f":"IF(ISERROR(VLOOKUP(City!B828,miasta,4,0)),\"\",IF(VLOOKUP(City!B828,miasta,4,0)=\"\",\"\",VLOOKUP(City!B828,miasta,4,0)))","v":""},null,null,null,"","","","","","","","","","","",""]
[null,null,null,null,"",{"$f":"IF(ISERROR(VLOOKUP(City!B829,miasta,4,0)),\"\",IF(VLOOKUP(City!B829,miasta,4,0)=\"\",\"\",VLOOKUP(City!B829,miasta,4,0)))","v":""},null,null,null,"","","","","","","","","","","",""]
[null,null,null,null,"",{"$f":"IF(ISERROR(VLOOKUP(City!B830,miasta,4,0)),\"\",IF(VLOOKUP(City!B830,miasta,4,0)=\"\",\"\",VLOOKUP(City!B830,miasta,4,0)))","v":""},null,null,null,"","","","","","","","","","","",""]
[null,null,null,null,"",{"$f":"IF(ISERROR(VLOOKUP(City!B831,miasta,4,0)),\"\",IF(VLOOKUP(City!B831,miasta,4,0)=\"\",\"\",VLOOKUP(City!B831,miasta,4,0)))","v":""},null,null,null,"","","","","","","","","","","",""]
[null,null,null,null,"",{"$f":"IF(ISERROR(VLOOKUP(City!B832,miasta,4,0)),\"\",IF(VLOOKUP(City!B832,miasta,4,0)=\"\",\"\",VLOOKUP(City!B832,miasta,4,0)))","v":""},null,null,null,"","","","","","","","","","","",""]
[null,null,null,null,"",{"$f":"IF(ISERROR(VLOOKUP(City!B833,miasta,4,0)),\"\",IF(VLOOKUP(City!B833,miasta,4,0)=\"\",\"\",VLOOKUP(City!B833,miasta,4,0)))","v":""},null,null,null,"","","","","","","","","","","",""]
[null,null,null,null,{"$f":"IF(ISERROR(VLOOKUP(B834,miasta,3,0)),\"\",VLOOKUP(B834,miasta,3,0))","v":""},{"$f":"IF(ISERROR(VLOOKUP(City!B834,miasta,4,0)),\"\",IF(VLOOKUP(City!B834,miasta,4,0)=\"\",\"\",VLOOKUP(City!B834,miasta,4,0)))","v":""},null,null,null,"","","","","","","","","","","",""]
[null,null,null,null,"",{"$f":"IF(ISERROR(VLOOKUP(City!B835,miasta,4,0)),\"\",IF(VLOOKUP(City!B835,miasta,4,0)=\"\",\"\",VLOOKUP(City!B835,miasta,4,0)))","v":""},null,null,null,{"$f":"IF(ISERROR(VLOOKUP(F835,$G$2:$I$12,3,1)),\"\",VLOOKUP(F835,$G$2:$I$12,3,1))","v":""},"","","","","","","","","","",""]
[null,null,null,null,"",{"$f":"IF(ISERROR(VLOOKUP(City!B836,miasta,4,0)),\"\",IF(VLOOKUP(City!B836,miasta,4,0)=\"\",\"\",VLOOKUP(City!B836,miasta,4,0)))","v":""},null,null,null,"","","","","","","","","","","",""]
[null,null,null,null,"",{"$f":"IF(ISERROR(VLOOKUP(City!B837,miasta,4,0)),\"\",IF(VLOOKUP(City!B837,miasta,4,0)=\"\",\"\",VLOOKUP(City!B837,miasta,4,0)))","v":""},null,null,null,"","",{"$f":"IF($J837=COLUMN(L837)-10,$E837,\"\")","v":""},"","","","","","","","",""]
[null,null,null,null,"",{"$f":"IF(ISERROR(VLOOKUP(City!B838,miasta,4,0)),\"\",IF(VLOOKUP(City!B838,miasta,4,0)=\"\",\"\",VLOOKUP(City!B838,miasta,4,0)))","v":""},null,null,null,"",{"$f":"IF($J838=COLUMN(K838)-10,$E838,\"\")","v":""},"","","","","","","","","",""]
[null,null,null,null,"",{"$f":"IF(ISERROR(VLOOKUP(City!B839,miasta,4,0)),\"\",IF(VLOOKUP(City!B839,miasta,4,0)=\"\",\"\",VLOOKUP(City!B839,miasta,4,0)))","v":""},null,null,null,"","","","","","","","","","","",""]
[null,null,null,null,"",{"$f":"IF(ISERROR(VLOOKUP(City!B840,miasta,4,0)),\"\",IF(VLOOKUP(City!B840,miasta,4,0)=\"\",\"\",VLOOKUP(City!B840,miasta,4,0)))","v":""},null,null,null,"","","","","","","","","","","",""]
[null,null,null,null,"",{"$f":"IF(ISERROR(VLOOKUP(City!B841,miasta,4,0)),\"\",IF(VLOOKUP(City!B841,miasta,4,0)=\"\",\"\",VLOOKUP(City!B841,miasta,4,0)))","v":""},null,null,null,"","","","","","","","","","","",""]
[null,null,null,null,"",{"$f":"IF(ISERROR(VLOOKUP(City!B842,miasta,4,0)),\"\",IF(VLOOKUP(City!B842,miasta,4,0)=\"\",\"\",VLOOKUP(City!B842,miasta,4,0)))","v":""},null,null,null,"","","","","","","","","","","",""]
[null,null,null,null,"",{"$f":"IF(ISERROR(VLOOKUP(City!B843,miasta,4,0)),\"\",IF(VLOOKUP(City!B843,miasta,4,0)=\"\",\"\",VLOOKUP(City!B843,miasta,4,0)))","v":""},null,null,null,"","","","","","","","","","","",""]
[null,null,null,null,"",{"$f":"IF(ISERROR(VLOOKUP(City!B844,miasta,4,0)),\"\",IF(VLOOKUP(City!B844,miasta,4,0)=\"\",\"\",VLOOKUP(City!B844,miasta,4,0)))","v":""},null,null,null,"","","","","","","","","","","",""]
[null,null,null,null,"",{"$f":"IF(ISERROR(VLOOKUP(City!B845,miasta,4,0)),\"\",IF(VLOOKUP(City!B845,miasta,4,0)=\"\",\"\",VLOOKUP(City!B845,miasta,4,0)))","v":""},null,null,null,"","","","","","","","","","","",""]
[null,null,null,null,"",{"$f":"IF(ISERROR(VLOOKUP(City!B846,miasta,4,0)),\"\",IF(VLOOKUP(City!B846,miasta,4,0)=\"\",\"\",VLOOKUP(City!B846,miasta,4,0)))","v":""},null,null,null,"","","","","","","","","","","",""]
[null,null,null,null,"",{"$f":"IF(ISERROR(VLOOKUP(City!B847,miasta,4,0)),\"\",IF(VLOOKUP(City!B847,miasta,4,0)=\"\",\"\",VLOOKUP(City!B847,miasta,4,0)))","v":""},null,null,null,"","","","","","","","","","","",""]
[null,null,null,null,"",{"$f":"IF(ISERROR(VLOOKUP(City!B848,miasta,4,0)),\"\",IF(VLOOKUP(City!B848,miasta,4,0)=\"\",\"\",VLOOKUP(City!B848,miasta,4,0)))","v":""},null,null,null,"","","","","","","","","","","",""]
[null,null,null,null,"",{"$f":"IF(ISERROR(VLOOKUP(City!B849,miasta,4,0)),\"\",IF(VLOOKUP(City!B849,miasta,4,0)=\"\",\"\",VLOOKUP(City!B849,miasta,4,0)))","v":""},null,null,null,"","","","","","","","","","","",""]
[null,null,null,null,"",{"$f":"IF(ISERROR(VLOOKUP(City!B850,miasta,4,0)),\"\",IF(VLOOKUP(City!B850,miasta,4,0)=\"\",\"\",VLOOKUP(City!B850,miasta,4,0)))","v":""},null,null,null,"","","","","","","","","","","",""]
[null,null,null,null,"",{"$f":"IF(ISERROR(VLOOKUP(City!B851,miasta,4,0)),\"\",IF(VLOOKUP(City!B851,miasta,4,0)=\"\",\"\",VLOOKUP(City!B851,miasta,4,0)))","v":""},null,null,null,"","","","","","","","","","","",""]
[null,null,null,null,"",{"$f":"IF(ISERROR(VLOOKUP(City!B852,miasta,4,0)),\"\",IF(VLOOKUP(City!B852,miasta,4,0)=\"\",\"\",VLOOKUP(City!B852,miasta,4,0)))","v":""},null,null,null,"","","","","","","","","","","",""]
[null,null,null,null,"",{"$f":"IF(ISERROR(VLOOKUP(City!B853,miasta,4,0)),\"\",IF(VLOOKUP(City!B853,miasta,4,0)=\"\",\"\",VLOOKUP(City!B853,miasta,4,0)))","v":""},null,null,null,"","","","","","","","","","","",""]
[null,null,null,null,"",{"$f":"IF(ISERROR(VLOOKUP(City!B854,miasta,4,0)),\"\",IF(VLOOKUP(City!B854,miasta,4,0)=\"\",\"\",VLOOKUP(City!B854,miasta,4,0)))","v":""},null,null,null,"","","","","","","","","","","",""]
[null,null,null,null,"",{"$f":"IF(ISERROR(VLOOKUP(City!B855,miasta,4,0)),\"\",IF(VLOOKUP(City!B855,miasta,4,0)=\"\",\"\",VLOOKUP(City!B855,miasta,4,0)))","v":""},null,null,null,"","","","","","","","","","","",""]
[null,null,null,null,"",{"$f":"IF(ISERROR(VLOOKUP(City!B856,miasta,4,0)),\"\",IF(VLOOKUP(City!B856,miasta,4,0)=\"\",\"\",VLOOKUP(City!B856,miasta,4,0)))","v":""},null,null,null,"","","","","","","","","","","",""]
[null,null,null,null,"",{"$f":"IF(ISERROR(VLOOKUP(City!B857,miasta,4,0)),\"\",IF(VLOOKUP(City!B857,miasta,4,0)=\"\",\"\",VLOOKUP(City!B857,miasta,4,0)))","v":""},null,null,null,"","","","","","","","","","","",""]
[null,null,null,null,"",{"$f":"IF(ISERROR(VLOOKUP(City!B858,miasta,4,0)),\"\",IF(VLOOKUP(City!B858,miasta,4,0)=\"\",\"\",VLOOKUP(City!B858,miasta,4,0)))","v":""},null,null,null,"","","","","","","","","","","",""]
[null,null,null,null,"",{"$f":"IF(ISERROR(VLOOKUP(City!B859,miasta,4,0)),\"\",IF(VLOOKUP(City!B859,miasta,4,0)=\"\",\"\",VLOOKUP(City!B859,miasta,4,0)))","v":""},null,null,null,"","","","","","","","","","","",""]
[null,null,null,null,"",{"$f":"IF(ISERROR(VLOOKUP(City!B860,miasta,4,0)),\"\",IF(VLOOKUP(City!B860,miasta,4,0)=\"\",\"\",VLOOKUP(City!B860,miasta,4,0)))","v":""},null,null,null,"","","","","","","","","","","",""]
[null,null,null,null,"",{"$f":"IF(ISERROR(VLOOKUP(City!B861,miasta,4,0)),\"\",IF(VLOOKUP(City!B861,miasta,4,0)=\"\",\"\",VLOOKUP(City!B861,miasta,4,0)))","v":""},null,null,null,"","","","","","","","","","","",""]
[null,null,null,null,"",{"$f":"IF(ISERROR(VLOOKUP(City!B862,miasta,4,0)),\"\",IF(VLOOKUP(City!B862,miasta,4,0)=\"\",\"\",VLOOKUP(City!B862,miasta,4,0)))","v":""},null,null,null,"","","","","","","","","","","",""]
[null,null,null,null,"",{"$f":"IF(ISERROR(VLOOKUP(City!B863,miasta,4,0)),\"\",IF(VLOOKUP(City!B863,miasta,4,0)=\"\",\"\",VLOOKUP(City!B863,miasta,4,0)))","v":""},null,null,null,"","","","","","","","","","","",""]
[null,null,null,null,"",{"$f":"IF(ISERROR(VLOOKUP(City!B864,miasta,4,0)),\"\",IF(VLOOKUP(City!B864,miasta,4,0)=\"\",\"\",VLOOKUP(City!B864,miasta,4,0)))","v":""},null,null,null,"","","","","","","","","","","",""]
[null,null,null,null,"",{"$f":"IF(ISERROR(VLOOKUP(City!B865,miasta,4,0)),\"\",IF(VLOOKUP(City!B865,miasta,4,0)=\"\",\"\",VLOOKUP(City!B865,miasta,4,0)))","v":""},null,null,null,"","","","","","","","","","","",""]
[null,null,null,null,"",{"$f":"IF(ISERROR(VLOOKUP(City!B866,miasta,4,0)),\"\",IF(VLOOKUP(City!B866,miasta,4,0)=\"\",\"\",VLOOKUP(City!B866,miasta,4,0)))","v":""},null,null,null,"","","","","","","","","","","",""]
[null,null,null,null,"",{"$f":"IF(ISERROR(VLOOKUP(City!B867,miasta,4,0)),\"\",IF(VLOOKUP(City!B867,miasta,4,0)=\"\",\"\",VLOOKUP(City!B867,miasta,4,0)))","v":""},null,null,null,"","","","","","","","","","","",""]
[null,null,null,null,"",{"$f":"IF(ISERROR(VLOOKUP(City!B868,miasta,4,0)),\"\",IF(VLOOKUP(City!B868,miasta,4,0)=\"\",\"\",VLOOKUP(City!B868,miasta,4,0)))","v":""},null,null,null,"","","","","","","","","","","",""]
[null,null,null,null,"",{"$f":"IF(ISERROR(VLOOKUP(City!B869,miasta,4,0)),\"\",IF(VLOOKUP(City!B869,miasta,4,0)=\"\",\"\",VLOOKUP(City!B869,miasta,4,0)))","v":""},null,null,null,"","","","","","","","","","","",""]
[null,null,null,null,"",{"$f":"IF(ISERROR(VLOOKUP(City!B870,miasta,4,0)),\"\",IF(VLOOKUP(City!B870,miasta,4,0)=\"\",\"\",VLOOKUP(City!B870,miasta,4,0)))","v":""},null,null,null,"","","","","","","","","","","",""]
[null,null,null,null,"",{"$f":"IF(ISERROR(VLOOKUP(City!B871,miasta,4,0)),\"\",IF(VLOOKUP(City!B871,miasta,4,0)=\"\",\"\",VLOOKUP(City!B871,miasta,4,0)))","v":""},null,null,null,"","","","","","","","","","","",""]
[null,null,null,null,"",{"$f":"IF(ISERROR(VLOOKUP(City!B872,miasta,4,0)),\"\",IF(VLOOKUP(City!B872,miasta,4,0)=\"\",\"\",VLOOKUP(City!B872,miasta,4,0)))","v":""},null,null,null,"","","","","","","","","","","",""]
[null,null,null,null,"",{"$f":"IF(ISERROR(VLOOKUP(City!B873,miasta,4,0)),\"\",IF(VLOOKUP(City!B873,miasta,4,0)=\"\",\"\",VLOOKUP(City!B873,miasta,4,0)))","v":""},null,null,null,"","","","","","","","","","","",""]
[null,null,null,null,"",{"$f":"IF(ISERROR(VLOOKUP(City!B874,miasta,4,0)),\"\",IF(VLOOKUP(City!B874,miasta,4,0)=\"\",\"\",VLOOKUP(City!B874,miasta,4,0)))","v":""},null,null,null,"","","","","","","","","","","",""]
[null,null,null,null,"",{"$f":"IF(ISERROR(VLOOKUP(City!B875,miasta,4,0)),\"\",IF(VLOOKUP(City!B875,miasta,4,0)=\"\",\"\",VLOOKUP(City!B875,miasta,4,0)))","v":""},null,null,null,"","","","","","","","","","","",""]
[null,null,null,null,"",{"$f":"IF(ISERROR(VLOOKUP(City!B876,miasta,4,0)),\"\",IF(VLOOKUP(City!B876,miasta,4,0)=\"\",\"\",VLOOKUP(City!B876,miasta,4,0)))","v":""},null,null,null,"","","","","","","","","","","",""]
[null,null,null,null,"",{"$f":"IF(ISERROR(VLOOKUP(City!B877,miasta,4,0)),\"\",IF(VLOOKUP(City!B877,miasta,4,0)=\"\",\"\",VLOOKUP(City!B877,miasta,4,0)))","v":""},null,null,null,"","","","","","","","","","","",""]
[null,null,null,null,"",{"$f":"IF(ISERROR(VLOOKUP(City!B878,miasta,4,0)),\"\",IF(VLOOKUP(City!B878,miasta,4,0)=\"\",\"\",VLOOKUP(City!B878,miasta,4,0)))","v":""},null,null,null,"","","","","","","","","","","",""]
[null,null,null,null,"",{"$f":"IF(ISERROR(VLOOKUP(City!B879,miasta,4,0)),\"\",IF(VLOOKUP(City!B879,miasta,4,0)=\"\",\"\",VLOOKUP(City!B879,miasta,4,0)))","v":""},null,null,null,"","","","","","","","","","","",""]
[null,null,null,null,"",{"$f":"IF(ISERROR(VLOOKUP(City!B880,miasta,4,0)),\"\",IF(VLOOKUP(City!B880,miasta,4,0)=\"\",\"\",VLOOKUP(City!B880,miasta,4,0)))","v":""},null,null,null,"","","","","","","","","","","",""]
[null,null,null,null,"",{"$f":"IF(ISERROR(VLOOKUP(City!B881,miasta,4,0)),\"\",IF(VLOOKUP(City!B881,miasta,4,0)=\"\",\"\",VLOOKUP(City!B881,miasta,4,0)))","v":""},null,null,null,"","","","","","","","","","","",""]
[null,null,null,null,"",{"$f":"IF(ISERROR(VLOOKUP(City!B882,miasta,4,0)),\"\",IF(VLOOKUP(City!B882,miasta,4,0)=\"\",\"\",VLOOKUP(City!B882,miasta,4,0)))","v":""},null,null,null,"","","","","","","","","","","",""]
[null,null,null,null,"",{"$f":"IF(ISERROR(VLOOKUP(City!B883,miasta,4,0)),\"\",IF(VLOOKUP(City!B883,miasta,4,0)=\"\",\"\",VLOOKUP(City!B883,miasta,4,0)))","v":""},null,null,null,"","","","","","","","","","","",""]
[null,null,null,null,"",{"$f":"IF(ISERROR(VLOOKUP(City!B884,miasta,4,0)),\"\",IF(VLOOKUP(City!B884,miasta,4,0)=\"\",\"\",VLOOKUP(City!B884,miasta,4,0)))","v":""},null,null,null,"","","","","","","","","","","",""]
[null,null,null,null,"",{"$f":"IF(ISERROR(VLOOKUP(City!B885,miasta,4,0)),\"\",IF(VLOOKUP(City!B885,miasta,4,0)=\"\",\"\",VLOOKUP(City!B885,miasta,4,0)))","v":""},null,null,null,"","","","","","","","","","","",""]
[null,null,null,null,"",{"$f":"IF(ISERROR(VLOOKUP(City!B886,miasta,4,0)),\"\",IF(VLOOKUP(City!B886,miasta,4,0)=\"\",\"\",VLOOKUP(City!B886,miasta,4,0)))","v":""},null,null,null,"","","","","","","","","","","",""]
[null,null,null,null,"",{"$f":"IF(ISERROR(VLOOKUP(City!B887,miasta,4,0)),\"\",IF(VLOOKUP(City!B887,miasta,4,0)=\"\",\"\",VLOOKUP(City!B887,miasta,4,0)))","v":""},null,null,null,"","","","","","","","","","","",""]
[null,null,null,null,"",{"$f":"IF(ISERROR(VLOOKUP(City!B888,miasta,4,0)),\"\",IF(VLOOKUP(City!B888,miasta,4,0)=\"\",\"\",VLOOKUP(City!B888,miasta,4,0)))","v":""},null,null,null,"","","","","","","","","","","",""]
[null,null,null,null,"",{"$f":"IF(ISERROR(VLOOKUP(City!B889,miasta,4,0)),\"\",IF(VLOOKUP(City!B889,miasta,4,0)=\"\",\"\",VLOOKUP(City!B889,miasta,4,0)))","v":""},null,null,null,"","","","","","","","","","","",""]
[null,null,null,null,"",{"$f":"IF(ISERROR(VLOOKUP(City!B890,miasta,4,0)),\"\",IF(VLOOKUP(City!B890,miasta,4,0)=\"\",\"\",VLOOKUP(City!B890,miasta,4,0)))","v":""},null,null,null,"","","","","","","","","","","",""]
[null,null,null,null,"",{"$f":"IF(ISERROR(VLOOKUP(City!B891,miasta,4,0)),\"\",IF(VLOOKUP(City!B891,miasta,4,0)=\"\",\"\",VLOOKUP(City!B891,miasta,4,0)))","v":""},null,null,null,"","","","","","","","","","","",""]
[null,null,null,null,"",{"$f":"IF(ISERROR(VLOOKUP(City!B892,miasta,4,0)),\"\",IF(VLOOKUP(City!B892,miasta,4,0)=\"\",\"\",VLOOKUP(City!B892,miasta,4,0)))","v":""},null,null,null,"","","","","","","","","","","",""]
[null,null,null,null,"",{"$f":"IF(ISERROR(VLOOKUP(City!B893,miasta,4,0)),\"\",IF(VLOOKUP(City!B893,miasta,4,0)=\"\",\"\",VLOOKUP(City!B893,miasta,4,0)))","v":""},null,null,null,"",{"$f":"IF($J893=COLUMN(K893)-10,$E893,\"\")","v":""},"","","","","","","","","",""]
[null,null,null,null,"",{"$f":"IF(ISERROR(VLOOKUP(City!B894,miasta,4,0)),\"\",IF(VLOOKUP(City!B894,miasta,4,0)=\"\",\"\",VLOOKUP(City!B894,miasta,4,0)))","v":""},null,null,null,"","","","","","","","","","","",""]
[null,null,null,null,"",{"$f":"IF(ISERROR(VLOOKUP(City!B895,miasta,4,0)),\"\",IF(VLOOKUP(City!B895,miasta,4,0)=\"\",\"\",VLOOKUP(City!B895,miasta,4,0)))","v":""},null,null,null,"","","","","","","","","","","",""]
[null,null,null,null,"",{"$f":"IF(ISERROR(VLOOKUP(City!B896,miasta,4,0)),\"\",IF(VLOOKUP(City!B896,miasta,4,0)=\"\",\"\",VLOOKUP(City!B896,miasta,4,0)))","v":""},null,null,null,"","","","","","","","","","","",""]
[null,null,null,null,"",{"$f":"IF(ISERROR(VLOOKUP(City!B897,miasta,4,0)),\"\",IF(VLOOKUP(City!B897,miasta,4,0)=\"\",\"\",VLOOKUP(City!B897,miasta,4,0)))","v":""},null,null,null,"","","","","","","","","","","",""]
[null,null,null,null,{"$f":"IF(ISERROR(VLOOKUP(B898,miasta,3,0)),\"\",VLOOKUP(B898,miasta,3,0))","v":""},{"$f":"IF(ISERROR(VLOOKUP(City!B898,miasta,4,0)),\"\",IF(VLOOKUP(City!B898,miasta,4,0)=\"\",\"\",VLOOKUP(City!B898,miasta,4,0)))","v":""},null,null,null,"","","","","","","","","","","",""]
[null,null,null,null,"",{"$f":"IF(ISERROR(VLOOKUP(City!B899,miasta,4,0)),\"\",IF(VLOOKUP(City!B899,miasta,4,0)=\"\",\"\",VLOOKUP(City!B899,miasta,4,0)))","v":""},null,null,null,{"$f":"IF(ISERROR(VLOOKUP(F899,$G$2:$I$12,3,1)),\"\",VLOOKUP(F899,$G$2:$I$12,3,1))","v":""},"","","","","","","","","","",""]
[null,null,null,null,"",{"$f":"IF(ISERROR(VLOOKUP(City!B900,miasta,4,0)),\"\",IF(VLOOKUP(City!B900,miasta,4,0)=\"\",\"\",VLOOKUP(City!B900,miasta,4,0)))","v":""},null,null,null,"","","","","","","","","","","",""]
[null,null,null,null,"",{"$f":"IF(ISERROR(VLOOKUP(City!B901,miasta,4,0)),\"\",IF(VLOOKUP(City!B901,miasta,4,0)=\"\",\"\",VLOOKUP(City!B901,miasta,4,0)))","v":""},null,null,null,"","","","","","","","","","","",""]
[null,null,null,null,"",{"$f":"IF(ISERROR(VLOOKUP(City!B902,miasta,4,0)),\"\",IF(VLOOKUP(City!B902,miasta,4,0)=\"\",\"\",VLOOKUP(City!B902,miasta,4,0)))","v":""},null,null,null,"","","","","","","","","","","",""]
[null,null,null,null,"",{"$f":"IF(ISERROR(VLOOKUP(City!B903,miasta,4,0)),\"\",IF(VLOOKUP(City!B903,miasta,4,0)=\"\",\"\",VLOOKUP(City!B903,miasta,4,0)))","v":""},null,null,null,"","","","","","","","","","","",""]
[null,null,null,null,"",{"$f":"IF(ISERROR(VLOOKUP(City!B904,miasta,4,0)),\"\",IF(VLOOKUP(City!B904,miasta,4,0)=\"\",\"\",VLOOKUP(City!B904,miasta,4,0)))","v":""},null,null,null,"","","","","","","","","","","",""]
[null,null,null,null,"",{"$f":"IF(ISERROR(VLOOKUP(City!B905,miasta,4,0)),\"\",IF(VLOOKUP(City!B905,miasta,4,0)=\"\",\"\",VLOOKUP(City!B905,miasta,4,0)))","v":""},null,null,null,"","","","","","","","","","","",""]
[null,null,null,null,"",{"$f":"IF(ISERROR(VLOOKUP(City!B906,miasta,4,0)),\"\",IF(VLOOKUP(City!B906,miasta,4,0)=\"\",\"\",VLOOKUP(City!B906,miasta,4,0)))","v":""},null,null,null,"","","","","","","","","","","",""]
[null,null,null,null,"",{"$f":"IF(ISERROR(VLOOKUP(City!B907,miasta,4,0)),\"\",IF(VLOOKUP(City!B907,miasta,4,0)=\"\",\"\",VLOOKUP(City!B907,miasta,4,0)))","v":""},null,null,null,"","","","","","","","","","","",""]
[null,null,null,null,"",{"$f":"IF(ISERROR(VLOOKUP(City!B908,miasta,4,0)),\"\",IF(VLOOKUP(City!B908,miasta,4,0)=\"\",\"\",VLOOKUP(City!B908,miasta,4,0)))","v":""},null,null,null,"","","","","","","","","","","",""]
[null,null,null,null,"",{"$f":"IF(ISERROR(VLOOKUP(City!B909,miasta,4,0)),\"\",IF(VLOOKUP(City!B909,miasta,4,0)=\"\",\"\",VLOOKUP(City!B909,miasta,4,0)))","v":""},null,null,null,"","","","","","","","","","","",""]
[null,null,null,null,"",{"$f":"IF(ISERROR(VLOOKUP(City!B910,miasta,4,0)),\"\",IF(VLOOKUP(City!B910,miasta,4,0)=\"\",\"\",VLOOKUP(City!B910,miasta,4,0)))","v":""},null,null,null,"","","","","","","","","","","",""]
[null,null,null,null,"",{"$f":"IF(ISERROR(VLOOKUP(City!B911,miasta,4,0)),\"\",IF(VLOOKUP(City!B911,miasta,4,0)=\"\",\"\",VLOOKUP(City!B911,miasta,4,0)))","v":""},null,null,null,"","","","","","","","","","","",""]
[null,null,null,null,"",{"$f":"IF(ISERROR(VLOOKUP(City!B912,miasta,4,0)),\"\",IF(VLOOKUP(City!B912,miasta,4,0)=\"\",\"\",VLOOKUP(City!B912,miasta,4,0)))","v":""},null,null,null,"","","","","","","","","","","",""]
[null,null,null,null,"",{"$f":"IF(ISERROR(VLOOKUP(City!B913,miasta,4,0)),\"\",IF(VLOOKUP(City!B913,miasta,4,0)=\"\",\"\",VLOOKUP(City!B913,miasta,4,0)))","v":""},null,null,null,"","","","","","","","","","","",""]
[null,null,null,null,"",{"$f":"IF(ISERROR(VLOOKUP(City!B914,miasta,4,0)),\"\",IF(VLOOKUP(City!B914,miasta,4,0)=\"\",\"\",VLOOKUP(City!B914,miasta,4,0)))","v":""},null,null,null,"","","","","","","","","","","",""]
[null,null,null,null,"",{"$f":"IF(ISERROR(VLOOKUP(City!B915,miasta,4,0)),\"\",IF(VLOOKUP(City!B915,miasta,4,0)=\"\",\"\",VLOOKUP(City!B915,miasta,4,0)))","v":""},null,null,null,"","","","","","","","","","","",""]
[null,null,null,null,"",{"$f":"IF(ISERROR(VLOOKUP(City!B916,miasta,4,0)),\"\",IF(VLOOKUP(City!B916,miasta,4,0)=\"\",\"\",VLOOKUP(City!B916,miasta,4,0)))","v":""},null,null,null,"","","",{"$f":"IF($J916=COLUMN(M916)-10,$E916,\"\")","v":""},"","","","","","","",""]
[null,null,null,null,"",{"$f":"IF(ISERROR(VLOOKUP(City!B917,miasta,4,0)),\"\",IF(VLOOKUP(City!B917,miasta,4,0)=\"\",\"\",VLOOKUP(City!B917,miasta,4,0)))","v":""},null,null,null,"",{"$f":"IF($J917=COLUMN(K917)-10,$E917,\"\")","v":""},"","","","","","","","","",""]
[null,null,null,null,"",{"$f":"IF(ISERROR(VLOOKUP(City!B918,miasta,4,0)),\"\",IF(VLOOKUP(City!B918,miasta,4,0)=\"\",\"\",VLOOKUP(City!B918,miasta,4,0)))","v":""},null,null,null,"","","","","","","","","","","",""]
[null,null,null,null,"",{"$f":"IF(ISERROR(VLOOKUP(City!B919,miasta,4,0)),\"\",IF(VLOOKUP(City!B919,miasta,4,0)=\"\",\"\",VLOOKUP(City!B919,miasta,4,0)))","v":""},null,null,null,"","","","","","","","","","","",""]
[null,null,null,null,"",{"$f":"IF(ISERROR(VLOOKUP(City!B920,miasta,4,0)),\"\",IF(VLOOKUP(City!B920,miasta,4,0)=\"\",\"\",VLOOKUP(City!B920,miasta,4,0)))","v":""},null,null,null,"","","","","","","","","","","",""]
[null,null,null,null,"",{"$f":"IF(ISERROR(VLOOKUP(City!B921,miasta,4,0)),\"\",IF(VLOOKUP(City!B921,miasta,4,0)=\"\",\"\",VLOOKUP(City!B921,miasta,4,0)))","v":""},null,null,null,"","","","","","","","","","","",""]
[null,null,null,null,"",{"$f":"IF(ISERROR(VLOOKUP(City!B922,miasta,4,0)),\"\",IF(VLOOKUP(City!B922,miasta,4,0)=\"\",\"\",VLOOKUP(City!B922,miasta,4,0)))","v":""},null,null,null,"","","","","","","","","","","",""]
[null,null,null,null,"",{"$f":"IF(ISERROR(VLOOKUP(City!B923,miasta,4,0)),\"\",IF(VLOOKUP(City!B923,miasta,4,0)=\"\",\"\",VLOOKUP(City!B923,miasta,4,0)))","v":""},null,null,null,"","","","","","","","","","","",""]
[null,null,null,null,"",{"$f":"IF(ISERROR(VLOOKUP(City!B924,miasta,4,0)),\"\",IF(VLOOKUP(City!B924,miasta,4,0)=\"\",\"\",VLOOKUP(City!B924,miasta,4,0)))","v":""},null,null,null,"","","","","","","","","","","",""]
[null,null,null,null,"",{"$f":"IF(ISERROR(VLOOKUP(City!B925,miasta,4,0)),\"\",IF(VLOOKUP(City!B925,miasta,4,0)=\"\",\"\",VLOOKUP(City!B925,miasta,4,0)))","v":""},null,null,null,"","","","","","","","","","","",""]
[null,null,null,null,"",{"$f":"IF(ISERROR(VLOOKUP(City!B926,miasta,4,0)),\"\",IF(VLOOKUP(City!B926,miasta,4,0)=\"\",\"\",VLOOKUP(City!B926,miasta,4,0)))","v":""},null,null,null,"","","","","","","","","","","",""]
[null,null,null,null,"",{"$f":"IF(ISERROR(VLOOKUP(City!B927,miasta,4,0)),\"\",IF(VLOOKUP(City!B927,miasta,4,0)=\"\",\"\",VLOOKUP(City!B927,miasta,4,0)))","v":""},null,null,null,"","","","","","","","","","","",""]
[null,null,null,null,"",{"$f":"IF(ISERROR(VLOOKUP(City!B928,miasta,4,0)),\"\",IF(VLOOKUP(City!B928,miasta,4,0)=\"\",\"\",VLOOKUP(City!B928,miasta,4,0)))","v":""},null,null,null,"","","","","","","","","","","",""]
[null,null,null,null,"",{"$f":"IF(ISERROR(VLOOKUP(City!B929,miasta,4,0)),\"\",IF(VLOOKUP(City!B929,miasta,4,0)=\"\",\"\",VLOOKUP(City!B929,miasta,4,0)))","v":""},null,null,null,"","","","","","","","","","","",""]
[null,null,null,null,"",{"$f":"IF(ISERROR(VLOOKUP(City!B930,miasta,4,0)),\"\",IF(VLOOKUP(City!B930,miasta,4,0)=\"\",\"\",VLOOKUP(City!B930,miasta,4,0)))","v":""},null,null,null,"","","","","","","","","","","",""]
[null,null,null,null,"",{"$f":"IF(ISERROR(VLOOKUP(City!B931,miasta,4,0)),\"\",IF(VLOOKUP(City!B931,miasta,4,0)=\"\",\"\",VLOOKUP(City!B931,miasta,4,0)))","v":""},null,null,null,"","","","","","","","","","","",""]
[null,null,null,null,"",{"$f":"IF(ISERROR(VLOOKUP(City!B932,miasta,4,0)),\"\",IF(VLOOKUP(City!B932,miasta,4,0)=\"\",\"\",VLOOKUP(City!B932,miasta,4,0)))","v":""},null,null,null,"","","","","","","","","","","",""]
[null,null,null,null,"",{"$f":"IF(ISERROR(VLOOKUP(City!B933,miasta,4,0)),\"\",IF(VLOOKUP(City!B933,miasta,4,0)=\"\",\"\",VLOOKUP(City!B933,miasta,4,0)))","v":""},null,null,null,"","","","","","","","","","","",""]
[null,null,null,null,"",{"$f":"IF(ISERROR(VLOOKUP(City!B934,miasta,4,0)),\"\",IF(VLOOKUP(City!B934,miasta,4,0)=\"\",\"\",VLOOKUP(City!B934,miasta,4,0)))","v":""},null,null,null,"","","","","","","","","","","",""]
[null,null,null,null,"",{"$f":"IF(ISERROR(VLOOKUP(City!B935,miasta,4,0)),\"\",IF(VLOOKUP(City!B935,miasta,4,0)=\"\",\"\",VLOOKUP(City!B935,miasta,4,0)))","v":""},null,null,null,"","","","","","","","","","","",""]
[null,null,null,null,"",{"$f":"IF(ISERROR(VLOOKUP(City!B936,miasta,4,0)),\"\",IF(VLOOKUP(City!B936,miasta,4,0)=\"\",\"\",VLOOKUP(City!B936,miasta,4,0)))","v":""},null,null,null,"","","","","","","","","","","",""]
[null,null,null,null,"",{"$f":"IF(ISERROR(VLOOKUP(City!B937,miasta,4,0)),\"\",IF(VLOOKUP(City!B937,miasta,4,0)=\"\",\"\",VLOOKUP(City!B937,miasta,4,0)))","v":""},null,null,null,"","","","","","","","","","","",""]
[null,null,null,null,"",{"$f":"IF(ISERROR(VLOOKUP(City!B938,miasta,4,0)),\"\",IF(VLOOKUP(City!B938,miasta,4,0)=\"\",\"\",VLOOKUP(City!B938,miasta,4,0)))","v":""},null,null,null,"","","","","","","","","","","",""]
[null,null,null,null,"",{"$f":"IF(ISERROR(VLOOKUP(City!B939,miasta,4,0)),\"\",IF(VLOOKUP(City!B939,miasta,4,0)=\"\",\"\",VLOOKUP(City!B939,miasta,4,0)))","v":""},null,null,null,"","","","","","","","","","","",""]
[null,null,null,null,"",{"$f":"IF(ISERROR(VLOOKUP(City!B940,miasta,4,0)),\"\",IF(VLOOKUP(City!B940,miasta,4,0)=\"\",\"\",VLOOKUP(City!B940,miasta,4,0)))","v":""},null,null,null,"","","","","","","","","","","",""]
[null,null,null,null,"",{"$f":"IF(ISERROR(VLOOKUP(City!B941,miasta,4,0)),\"\",IF(VLOOKUP(City!B941,miasta,4,0)=\"\",\"\",VLOOKUP(City!B941,miasta,4,0)))","v":""},null,null,null,"","","","","","","","","","","",""]
[null,null,null,null,"",{"$f":"IF(ISERROR(VLOOKUP(City!B942,miasta,4,0)),\"\",IF(VLOOKUP(City!B942,miasta,4,0)=\"\",\"\",VLOOKUP(City!B942,miasta,4,0)))","v":""},null,null,null,"","","","","","","","","","","",""]
[null,null,null,null,"",{"$f":"IF(ISERROR(VLOOKUP(City!B943,miasta,4,0)),\"\",IF(VLOOKUP(City!B943,miasta,4,0)=\"\",\"\",VLOOKUP(City!B943,miasta,4,0)))","v":""},null,null,null,"","","","","","","","","","","",""]
[null,null,null,null,"",{"$f":"IF(ISERROR(VLOOKUP(City!B944,miasta,4,0)),\"\",IF(VLOOKUP(City!B944,miasta,4,0)=\"\",\"\",VLOOKUP(City!B944,miasta,4,0)))","v":""},null,null,null,"","","","","","",{"$f":"IF($J944=COLUMN(P944)-10,$E944,\"\")","v":""},"","","","",""]
[null,null,null,null,"",{"$f":"IF(ISERROR(VLOOKUP(City!B945,miasta,4,0)),\"\",IF(VLOOKUP(City!B945,miasta,4,0)=\"\",\"\",VLOOKUP(City!B945,miasta,4,0)))","v":""},null,null,null,"","","","","","","","","","","",""]
[null,null,null,null,"",{"$f":"IF(ISERROR(VLOOKUP(City!B946,miasta,4,0)),\"\",IF(VLOOKUP(City!B946,miasta,4,0)=\"\",\"\",VLOOKUP(City!B946,miasta,4,0)))","v":""},null,null,null,"","","","","","","","","","","",""]
[null,null,null,null,"",{"$f":"IF(ISERROR(VLOOKUP(City!B947,miasta,4,0)),\"\",IF(VLOOKUP(City!B947,miasta,4,0)=\"\",\"\",VLOOKUP(City!B947,miasta,4,0)))","v":""},null,null,null,"","","","","","","","","","","",""]
[null,null,null,null,"",{"$f":"IF(ISERROR(VLOOKUP(City!B948,miasta,4,0)),\"\",IF(VLOOKUP(City!B948,miasta,4,0)=\"\",\"\",VLOOKUP(City!B948,miasta,4,0)))","v":""},null,null,null,"","","","","","","","","","","",""]
[null,null,null,null,"",{"$f":"IF(ISERROR(VLOOKUP(City!B949,miasta,4,0)),\"\",IF(VLOOKUP(City!B949,miasta,4,0)=\"\",\"\",VLOOKUP(City!B949,miasta,4,0)))","v":""},null,null,null,"","","","","","","","","","","",""]
[null,null,null,null,"",{"$f":"IF(ISERROR(VLOOKUP(City!B950,miasta,4,0)),\"\",IF(VLOOKUP(City!B950,miasta,4,0)=\"\",\"\",VLOOKUP(City!B950,miasta,4,0)))","v":""},null,null,null,"","","","","","","","","","","",""]
[null,null,null,null,"",{"$f":"IF(ISERROR(VLOOKUP(City!B951,miasta,4,0)),\"\",IF(VLOOKUP(City!B951,miasta,4,0)=\"\",\"\",VLOOKUP(City!B951,miasta,4,0)))","v":""},null,null,null,"","","","","","","","","","","",""]
[null,null,null,null,"",{"$f":"IF(ISERROR(VLOOKUP(City!B952,miasta,4,0)),\"\",IF(VLOOKUP(City!B952,miasta,4,0)=\"\",\"\",VLOOKUP(City!B952,miasta,4,0)))","v":""},null,null,null,"","","","","","","","","","","",""]
[null,null,null,null,"",{"$f":"IF(ISERROR(VLOOKUP(City!B953,miasta,4,0)),\"\",IF(VLOOKUP(City!B953,miasta,4,0)=\"\",\"\",VLOOKUP(City!B953,miasta,4,0)))","v":""},null,null,null,"","","","","","","","","","","",""]
[null,null,null,null,"",{"$f":"IF(ISERROR(VLOOKUP(City!B954,miasta,4,0)),\"\",IF(VLOOKUP(City!B954,miasta,4,0)=\"\",\"\",VLOOKUP(City!B954,miasta,4,0)))","v":""},null,null,null,"","","","","","","","","","","",""]
[null,null,null,null,"",{"$f":"IF(ISERROR(VLOOKUP(City!B955,miasta,4,0)),\"\",IF(VLOOKUP(City!B955,miasta,4,0)=\"\",\"\",VLOOKUP(City!B955,miasta,4,0)))","v":""},null,null,null,"","","","","","","","","","","",""]
[null,null,null,null,"",{"$f":"IF(ISERROR(VLOOKUP(City!B956,miasta,4,0)),\"\",IF(VLOOKUP(City!B956,miasta,4,0)=\"\",\"\",VLOOKUP(City!B956,miasta,4,0)))","v":""},null,null,null,"","","","","","","","","","","",""]
[null,null,null,null,"",{"$f":"IF(ISERROR(VLOOKUP(City!B957,miasta,4,0)),\"\",IF(VLOOKUP(City!B957,miasta,4,0)=\"\",\"\",VLOOKUP(City!B957,miasta,4,0)))","v":""},null,null,null,"","","","","","","","","","","",""]
[null,null,null,null,"",{"$f":"IF(ISERROR(VLOOKUP(City!B958,miasta,4,0)),\"\",IF(VLOOKUP(City!B958,miasta,4,0)=\"\",\"\",VLOOKUP(City!B958,miasta,4,0)))","v":""},null,null,null,"","","","","","","","","","","",""]
[null,null,null,null,"",{"$f":"IF(ISERROR(VLOOKUP(City!B959,miasta,4,0)),\"\",IF(VLOOKUP(City!B959,miasta,4,0)=\"\",\"\",VLOOKUP(City!B959,miasta,4,0)))","v":""},null,null,null,"","","","","","","","","","","",""]
[null,null,null,null,"",{"$f":"IF(ISERROR(VLOOKUP(City!B960,miasta,4,0)),\"\",IF(VLOOKUP(City!B960,miasta,4,0)=\"\",\"\",VLOOKUP(City!B960,miasta,4,0)))","v":""},null,null,null,"","","","","","","","","","","",""]
[null,null,null,null,"",{"$f":"IF(ISERROR(VLOOKUP(City!B961,miasta,4,0)),\"\",IF(VLOOKUP(City!B961,miasta,4,0)=\"\",\"\",VLOOKUP(City!B961,miasta,4,0)))","v":""},null,null,null,"","","","","","","","","","","",""]
[null,null,null,null,{"$f":"IF(ISERROR(VLOOKUP(B962,miasta,3,0)),\"\",VLOOKUP(B962,miasta,3,0))","v":""},{"$f":"IF(ISERROR(VLOOKUP(City!B962,miasta,4,0)),\"\",IF(VLOOKUP(City!B962,miasta,4,0)=\"\",\"\",VLOOKUP(City!B962,miasta,4,0)))","v":""},null,null,null,"","","","","","","","","","","",""]
[null,null,null,null,"",{"$f":"IF(ISERROR(VLOOKUP(City!B963,miasta,4,0)),\"\",IF(VLOOKUP(City!B963,miasta,4,0)=\"\",\"\",VLOOKUP(City!B963,miasta,4,0)))","v":""},null,null,null,{"$f":"IF(ISERROR(VLOOKUP(F963,$G$2:$I$12,3,1)),\"\",VLOOKUP(F963,$G$2:$I$12,3,1))","v":""},"","","","","","","","","","",""]
[null,null,null,null,"",{"$f":"IF(ISERROR(VLOOKUP(City!B964,miasta,4,0)),\"\",IF(VLOOKUP(City!B964,miasta,4,0)=\"\",\"\",VLOOKUP(City!B964,miasta,4,0)))","v":""},null,null,null,"","","","","","","","","","","",""]
[null,null,null,null,"",{"$f":"IF(ISERROR(VLOOKUP(City!B965,miasta,4,0)),\"\",IF(VLOOKUP(City!B965,miasta,4,0)=\"\",\"\",VLOOKUP(City!B965,miasta,4,0)))","v":""},null,null,null,"","","","","","","","","","","",""]
[null,null,null,null,"",{"$f":"IF(ISERROR(VLOOKUP(City!B966,miasta,4,0)),\"\",IF(VLOOKUP(City!B966,miasta,4,0)=\"\",\"\",VLOOKUP(City!B966,miasta,4,0)))","v":""},null,null,null,"","","","","","","","","","","",""]
[null,null,null,null,"",{"$f":"IF(ISERROR(VLOOKUP(City!B967,miasta,4,0)),\"\",IF(VLOOKUP(City!B967,miasta,4,0)=\"\",\"\",VLOOKUP(City!B967,miasta,4,0)))","v":""},null,null,null,"","","","","","","","","","","",""]
[null,null,null,null,"",{"$f":"IF(ISERROR(VLOOKUP(City!B968,miasta,4,0)),\"\",IF(VLOOKUP(City!B968,miasta,4,0)=\"\",\"\",VLOOKUP(City!B968,miasta,4,0)))","v":""},null,null,null,"","","","","","","","","","","",""]
[null,null,null,null,"",{"$f":"IF(ISERROR(VLOOKUP(City!B969,miasta,4,0)),\"\",IF(VLOOKUP(City!B969,miasta,4,0)=\"\",\"\",VLOOKUP(City!B969,miasta,4,0)))","v":""},null,null,null,"","","","","","","","","","","",""]
[null,null,null,null,"",{"$f":"IF(ISERROR(VLOOKUP(City!B970,miasta,4,0)),\"\",IF(VLOOKUP(City!B970,miasta,4,0)=\"\",\"\",VLOOKUP(City!B970,miasta,4,0)))","v":""},null,null,null,"","","","","","","","","","","",""]
[null,null,null,null,"",{"$f":"IF(ISERROR(VLOOKUP(City!B971,miasta,4,0)),\"\",IF(VLOOKUP(City!B971,miasta,4,0)=\"\",\"\",VLOOKUP(City!B971,miasta,4,0)))","v":""},null,null,null,"","","","","","","","","","","",""]
[null,null,null,null,"",{"$f":"IF(ISERROR(VLOOKUP(City!B972,miasta,4,0)),\"\",IF(VLOOKUP(City!B972,miasta,4,0)=\"\",\"\",VLOOKUP(City!B972,miasta,4,0)))","v":""},null,null,null,"","","","","","","","","","","",""]
[null,null,null,null,"",{"$f":"IF(ISERROR(VLOOKUP(City!B973,miasta,4,0)),\"\",IF(VLOOKUP(City!B973,miasta,4,0)=\"\",\"\",VLOOKUP(City!B973,miasta,4,0)))","v":""},null,null,null,"","","","","","","","","","","",""]
[null,null,null,null,"",{"$f":"IF(ISERROR(VLOOKUP(City!B974,miasta,4,0)),\"\",IF(VLOOKUP(City!B974,miasta,4,0)=\"\",\"\",VLOOKUP(City!B974,miasta,4,0)))","v":""},null,null,null,"","","","","","","","","","","",""]
[null,null,null,null,"",{"$f":"IF(ISERROR(VLOOKUP(City!B975,miasta,4,0)),\"\",IF(VLOOKUP(City!B975,miasta,4,0)=\"\",\"\",VLOOKUP(City!B975,miasta,4,0)))","v":""},null,null,null,"","","","","","","","","","","",""]
[null,null,null,null,"",{"$f":"IF(ISERROR(VLOOKUP(City!B976,miasta,4,0)),\"\",IF(VLOOKUP(City!B976,miasta,4,0)=\"\",\"\",VLOOKUP(City!B976,miasta,4,0)))","v":""},null,null,null,"","","","","","","","","","","",""]
[null,null,null,null,"",{"$f":"IF(ISERROR(VLOOKUP(City!B977,miasta,4,0)),\"\",IF(VLOOKUP(City!B977,miasta,4,0)=\"\",\"\",VLOOKUP(City!B977,miasta,4,0)))","v":""},null,null,null,"","","","","","","","","","","",""]
[null,null,null,null,"",{"$f":"IF(ISERROR(VLOOKUP(City!B978,miasta,4,0)),\"\",IF(VLOOKUP(City!B978,miasta,4,0)=\"\",\"\",VLOOKUP(City!B978,miasta,4,0)))","v":""},null,null,null,"","","","","","","","","","","",""]
[null,null,null,null,"",{"$f":"IF(ISERROR(VLOOKUP(City!B979,miasta,4,0)),\"\",IF(VLOOKUP(City!B979,miasta,4,0)=\"\",\"\",VLOOKUP(City!B979,miasta,4,0)))","v":""},null,null,null,"","","","","","","","","","","",""]
[null,null,null,null,"",{"$f":"IF(ISERROR(VLOOKUP(City!B980,miasta,4,0)),\"\",IF(VLOOKUP(City!B980,miasta,4,0)=\"\",\"\",VLOOKUP(City!B980,miasta,4,0)))","v":""},null,null,null,"","","","","","","","","","","",""]
[null,null,null,null,"",{"$f":"IF(ISERROR(VLOOKUP(City!B981,miasta,4,0)),\"\",IF(VLOOKUP(City!B981,miasta,4,0)=\"\",\"\",VLOOKUP(City!B981,miasta,4,0)))","v":""},null,null,null,"",{"$f":"IF($J981=COLUMN(K981)-10,$E981,\"\")","v":""},"","","","","","","","","",""]
[null,null,null,null,"",{"$f":"IF(ISERROR(VLOOKUP(City!B982,miasta,4,0)),\"\",IF(VLOOKUP(City!B982,miasta,4,0)=\"\",\"\",VLOOKUP(City!B982,miasta,4,0)))","v":""},null,null,null,"","","","","","","","","","","",""]
[null,null,null,null,"",{"$f":"IF(ISERROR(VLOOKUP(City!B983,miasta,4,0)),\"\",IF(VLOOKUP(City!B983,miasta,4,0)=\"\",\"\",VLOOKUP(City!B983,miasta,4,0)))","v":""},null,null,null,"","","","","","","","","","","",""]
[null,null,null,null,"",{"$f":"IF(ISERROR(VLOOKUP(City!B984,miasta,4,0)),\"\",IF(VLOOKUP(City!B984,miasta,4,0)=\"\",\"\",VLOOKUP(City!B984,miasta,4,0)))","v":""},null,null,null,"","","","","","","","","","","",""]
[null,null,null,null,"",{"$f":"IF(ISERROR(VLOOKUP(City!B985,miasta,4,0)),\"\",IF(VLOOKUP(City!B985,miasta,4,0)=\"\",\"\",VLOOKUP(City!B985,miasta,4,0)))","v":""},null,null,null,"","","","","","","","","","","",""]
[null,null,null,null,"",{"$f":"IF(ISERROR(VLOOKUP(City!B986,miasta,4,0)),\"\",IF(VLOOKUP(City!B986,miasta,4,0)=\"\",\"\",VLOOKUP(City!B986,miasta,4,0)))","v":""},null,null,null,"","","","","","","","","",{"$f":"IF($J986=COLUMN(S986)-10,$E986,\"\")","v":""},"",""]
[null,null,null,null,"",{"$f":"IF(ISERROR(VLOOKUP(City!B987,miasta,4,0)),\"\",IF(VLOOKUP(City!B987,miasta,4,0)=\"\",\"\",VLOOKUP(City!B987,miasta,4,0)))","v":""},null,null,null,"","","","","","","","","","","",""]
[null,null,null,null,"",{"$f":"IF(ISERROR(VLOOKUP(City!B988,miasta,4,0)),\"\",IF(VLOOKUP(City!B988,miasta,4,0)=\"\",\"\",VLOOKUP(City!B988,miasta,4,0)))","v":""},null,null,null,"","","","","","","","","","","",""]
[null,null,null,null,"",{"$f":"IF(ISERROR(VLOOKUP(City!B989,miasta,4,0)),\"\",IF(VLOOKUP(City!B989,miasta,4,0)=\"\",\"\",VLOOKUP(City!B989,miasta,4,0)))","v":""},null,null,null,"","","","","","","","","","","",""]
[null,null,null,null,"",{"$f":"IF(ISERROR(VLOOKUP(City!B990,miasta,4,0)),\"\",IF(VLOOKUP(City!B990,miasta,4,0)=\"\",\"\",VLOOKUP(City!B990,miasta,4,0)))","v":""},null,null,null,"","","","","","","","","","","",""]
[null,null,null,null,"",{"$f":"IF(ISERROR(VLOOKUP(City!B991,miasta,4,0)),\"\",IF(VLOOKUP(City!B991,miasta,4,0)=\"\",\"\",VLOOKUP(City!B991,miasta,4,0)))","v":""},null,null,null,"","","","","","","","","","","",""]
[null,null,null,null,"",{"$f":"IF(ISERROR(VLOOKUP(City!B992,miasta,4,0)),\"\",IF(VLOOKUP(City!B992,miasta,4,0)=\"\",\"\",VLOOKUP(City!B992,miasta,4,0)))","v":""},null,null,null,"","","","","","","","","","","",""]
[null,null,null,null,"",{"$f":"IF(ISERROR(VLOOKUP(City!B993,miasta,4,0)),\"\",IF(VLOOKUP(City!B993,miasta,4,0)=\"\",\"\",VLOOKUP(City!B993,miasta,4,0)))","v":""},null,null,null,"","","","","","","","","","","",""]
[null,null,null,null,"",{"$f":"IF(ISERROR(VLOOKUP(City!B994,miasta,4,0)),\"\",IF(VLOOKUP(City!B994,miasta,4,0)=\"\",\"\",VLOOKUP(City!B994,miasta,4,0)))","v":""},null,null,null,"","","","","","","","","","","",""]
[null,null,null,null,"",{"$f":"IF(ISERROR(VLOOKUP(City!B995,miasta,4,0)),\"\",IF(VLOOKUP(City!B995,miasta,4,0)=\"\",\"\",VLOOKUP(City!B995,miasta,4,0)))","v":""},null,null,null,"","","","","","","","","","","",""]
[null,null,null,null,"",{"$f":"IF(ISERROR(VLOOKUP(City!B996,miasta,4,0)),\"\",IF(VLOOKUP(City!B996,miasta,4,0)=\"\",\"\",VLOOKUP(City!B996,miasta,4,0)))","v":""},null,null,null,"","","","","","","","","","","",""]
[null,null,null,null,"",{"$f":"IF(ISERROR(VLOOKUP(City!B997,miasta,4,0)),\"\",IF(VLOOKUP(City!B997,miasta,4,0)=\"\",\"\",VLOOKUP(City!B997,miasta,4,0)))","v":""},null,null,null,"","","","","","","","","","","",""]
[null,null,null,null,"",{"$f":"IF(ISERROR(VLOOKUP(City!B998,miasta,4,0)),\"\",IF(VLOOKUP(City!B998,miasta,4,0)=\"\",\"\",VLOOKUP(City!B998,miasta,4,0)))","v":""},null,null,null,"","","","","","","","","","","",""]
[null,null,null,null,"",{"$f":"IF(ISERROR(VLOOKUP(City!B999,miasta,4,0)),\"\",IF(VLOOKUP(City!B999,miasta,4,0)=\"\",\"\",VLOOKUP(City!B999,miasta,4,0)))","v":""},null,null,null,"","","","","","","","","","","",""]
[null,null,null,null,"",{"$f":"IF(ISERROR(VLOOKUP(City!B1000,miasta,4,0)),\"\",IF(VLOOKUP(City!B1000,miasta,4,0)=\"\",\"\",VLOOKUP(City!B1000,miasta,4,0)))","v":""},null,null,null,"","","","","","","","","","","",""]
[null,null,null,null,"",{"$f":"IF(ISERROR(VLOOKUP(City!B1001,miasta,4,0)),\"\",IF(VLOOKUP(City!B1001,miasta,4,0)=\"\",\"\",VLOOKUP(City!B1001,miasta,4,0)))","v":""},null,null,null,"","","","","","","","","","","",""]
[null,null,null,null,"",{"$f":"IF(ISERROR(VLOOKUP(City!B1002,miasta,4,0)),\"\",IF(VLOOKUP(City!B1002,miasta,4,0)=\"\",\"\",VLOOKUP(City!B1002,miasta,4,0)))","v":""},null,null,null,"","","","","","","","","","","",""]
[null,null,null,null,"",{"$f":"IF(ISERROR(VLOOKUP(City!B1003,miasta,4,0)),\"\",IF(VLOOKUP(City!B1003,miasta,4,0)=\"\",\"\",VLOOKUP(City!B1003,miasta,4,0)))","v":""},null,null,null,"","","","","","","","","","","",""]
[null,null,null,null,"",{"$f":"IF(ISERROR(VLOOKUP(City!B1004,miasta,4,0)),\"\",IF(VLOOKUP(City!B1004,miasta,4,0)=\"\",\"\",VLOOKUP(City!B1004,miasta,4,0)))","v":""},null,null,null,"","","","","","","","","","","",""]
[null,null,null,null,"",{"$f":"IF(ISERROR(VLOOKUP(City!B1005,miasta,4,0)),\"\",IF(VLOOKUP(City!B1005,miasta,4,0)=\"\",\"\",VLOOKUP(City!B1005,miasta,4,0)))","v":""},null,null,null,"","","","","","","","","","","",""]
[null,null,null,null,"",{"$f":"IF(ISERROR(VLOOKUP(City!B1006,miasta,4,0)),\"\",IF(VLOOKUP(City!B1006,miasta,4,0)=\"\",\"\",VLOOKUP(City!B1006,miasta,4,0)))","v":""},null,null,null,"","","","","","","","","","","",""]
[null,null,null,null,"",{"$f":"IF(ISERROR(VLOOKUP(City!B1007,miasta,4,0)),\"\",IF(VLOOKUP(City!B1007,miasta,4,0)=\"\",\"\",VLOOKUP(City!B1007,miasta,4,0)))","v":""},null,null,null,"","","","","","","","","","","",""]
[null,null,null,null,"",{"$f":"IF(ISERROR(VLOOKUP(City!B1008,miasta,4,0)),\"\",IF(VLOOKUP(City!B1008,miasta,4,0)=\"\",\"\",VLOOKUP(City!B1008,miasta,4,0)))","v":""},null,null,null,"","","","","","","","","","","",""]
[null,null,null,null,"",{"$f":"IF(ISERROR(VLOOKUP(City!B1009,miasta,4,0)),\"\",IF(VLOOKUP(City!B1009,miasta,4,0)=\"\",\"\",VLOOKUP(City!B1009,miasta,4,0)))","v":""},null,null,null,"","","","","","","","","","","",""]
[null,null,null,null,"",{"$f":"IF(ISERROR(VLOOKUP(City!B1010,miasta,4,0)),\"\",IF(VLOOKUP(City!B1010,miasta,4,0)=\"\",\"\",VLOOKUP(City!B1010,miasta,4,0)))","v":""},null,null,null,"","","","","","","","","","","",""]
[null,null,null,null,"",{"$f":"IF(ISERROR(VLOOKUP(City!B1011,miasta,4,0)),\"\",IF(VLOOKUP(City!B1011,miasta,4,0)=\"\",\"\",VLOOKUP(City!B1011,miasta,4,0)))","v":""},null,null,null,"","","","","","","","","","","",""]
[null,null,null,null,"",{"$f":"IF(ISERROR(VLOOKUP(City!B1012,miasta,4,0)),\"\",IF(VLOOKUP(City!B1012,miasta,4,0)=\"\",\"\",VLOOKUP(City!B1012,miasta,4,0)))","v":""},null,null,null,"","","","","","","","","","","",""]
[null,null,null,null,"",{"$f":"IF(ISERROR(VLOOKUP(City!B1013,miasta,4,0)),\"\",IF(VLOOKUP(City!B1013,miasta,4,0)=\"\",\"\",VLOOKUP(City!B1013,miasta,4,0)))","v":""},null,null,null,"","","","","","","","","","","",""]
[null,null,null,null,"",{"$f":"IF(ISERROR(VLOOKUP(City!B1014,miasta,4,0)),\"\",IF(VLOOKUP(City!B1014,miasta,4,0)=\"\",\"\",VLOOKUP(City!B1014,miasta,4,0)))","v":""},null,null,null,"","","","","","","","","","","",""]
[null,null,null,null,"",{"$f":"IF(ISERROR(VLOOKUP(City!B1015,miasta,4,0)),\"\",IF(VLOOKUP(City!B1015,miasta,4,0)=\"\",\"\",VLOOKUP(City!B1015,miasta,4,0)))","v":""},null,null,null,"","",{"$f":"IF($J1015=COLUMN(L1015)-10,$E1015,\"\")","v":""},"","","","","","","","",""]
[null,null,null,null,"",{"$f":"IF(ISERROR(VLOOKUP(City!B1016,miasta,4,0)),\"\",IF(VLOOKUP(City!B1016,miasta,4,0)=\"\",\"\",VLOOKUP(City!B1016,miasta,4,0)))","v":""},null,null,null,"",{"$f":"IF($J1016=COLUMN(K1016)-10,$E1016,\"\")","v":""},"","","","","","","","","",""]
[null,null,null,null,"",{"$f":"IF(ISERROR(VLOOKUP(City!B1017,miasta,4,0)),\"\",IF(VLOOKUP(City!B1017,miasta,4,0)=\"\",\"\",VLOOKUP(City!B1017,miasta,4,0)))","v":""},null,null,null,"","","","","","","","","","","",""]
[null,null,null,null,"",{"$f":"IF(ISERROR(VLOOKUP(City!B1018,miasta,4,0)),\"\",IF(VLOOKUP(City!B1018,miasta,4,0)=\"\",\"\",VLOOKUP(City!B1018,miasta,4,0)))","v":""},null,null,null,"","","","","","","","","","","",""]
[null,null,null,null,"",{"$f":"IF(ISERROR(VLOOKUP(City!B1019,miasta,4,0)),\"\",IF(VLOOKUP(City!B1019,miasta,4,0)=\"\",\"\",VLOOKUP(City!B1019,miasta,4,0)))","v":""},null,null,null,"","","","","","","","","","","",""]
[null,null,null,null,"",{"$f":"IF(ISERROR(VLOOKUP(City!B1020,miasta,4,0)),\"\",IF(VLOOKUP(City!B1020,miasta,4,0)=\"\",\"\",VLOOKUP(City!B1020,miasta,4,0)))","v":""},null,null,null,"","","","","","","","","","","",""]
[null,null,null,null,"",{"$f":"IF(ISERROR(VLOOKUP(City!B1021,miasta,4,0)),\"\",IF(VLOOKUP(City!B1021,miasta,4,0)=\"\",\"\",VLOOKUP(City!B1021,miasta,4,0)))","v":""},null,null,null,"","","","","","","","","","","",""]
[null,null,null,null,"",{"$f":"IF(ISERROR(VLOOKUP(City!B1022,miasta,4,0)),\"\",IF(VLOOKUP(City!B1022,miasta,4,0)=\"\",\"\",VLOOKUP(City!B1022,miasta,4,0)))","v":""},null,null,null,"","","","","","","","","","","",""]
[null,null,null,null,"",{"$f":"IF(ISERROR(VLOOKUP(City!B1023,miasta,4,0)),\"\",IF(VLOOKUP(City!B1023,miasta,4,0)=\"\",\"\",VLOOKUP(City!B1023,miasta,4,0)))","v":""},null,null,null,"","","","","","","","","","","",""]
[null,null,null,null,"",{"$f":"IF(ISERROR(VLOOKUP(City!B1024,miasta,4,0)),\"\",IF(VLOOKUP(City!B1024,miasta,4,0)=\"\",\"\",VLOOKUP(City!B1024,miasta,4,0)))","v":""},null,null,null,"","","","","","","","","","","",""]
[null,null,null,null,"",{"$f":"IF(ISERROR(VLOOKUP(City!B1025,miasta,4,0)),\"\",IF(VLOOKUP(City!B1025,miasta,4,0)=\"\",\"\",VLOOKUP(City!B1025,miasta,4,0)))","v":""},null,null,null,"","","","","","","","","","","",""]
[null,null,null,null,{"$f":"IF(ISERROR(VLOOKUP(B1026,miasta,3,0)),\"\",VLOOKUP(B1026,miasta,3,0))","v":""},{"$f":"IF(ISERROR(VLOOKUP(City!B1026,miasta,4,0)),\"\",IF(VLOOKUP(City!B1026,miasta,4,0)=\"\",\"\",VLOOKUP(City!B1026,miasta,4,0)))","v":""},null,null,null,"","","","","","","","","","","",""]
[null,null,null,null,"",{"$f":"IF(ISERROR(VLOOKUP(City!B1027,miasta,4,0)),\"\",IF(VLOOKUP(City!B1027,miasta,4,0)=\"\",\"\",VLOOKUP(City!B1027,miasta,4,0)))","v":""},null,null,null,{"$f":"IF(ISERROR(VLOOKUP(F1027,$G$2:$I$12,3,1)),\"\",VLOOKUP(F1027,$G$2:$I$12,3,1))","v":""},"","","","","","","","","","",""]
[null,null,null,null,"",{"$f":"IF(ISERROR(VLOOKUP(City!B1028,miasta,4,0)),\"\",IF(VLOOKUP(City!B1028,miasta,4,0)=\"\",\"\",VLOOKUP(City!B1028,miasta,4,0)))","v":""},null,null,null,"","","","","","","","","","","",""]
[null,null,null,null,"",{"$f":"IF(ISERROR(VLOOKUP(City!B1029,miasta,4,0)),\"\",IF(VLOOKUP(City!B1029,miasta,4,0)=\"\",\"\",VLOOKUP(City!B1029,miasta,4,0)))","v":""},null,null,null,"","","","","","","","","","","",""]
[null,null,null,null,"",{"$f":"IF(ISERROR(VLOOKUP(City!B1030,miasta,4,0)),\"\",IF(VLOOKUP(City!B1030,miasta,4,0)=\"\",\"\",VLOOKUP(City!B1030,miasta,4,0)))","v":""},null,null,null,"","","","","","","","","","","",""]
[null,null,null,null,"",{"$f":"IF(ISERROR(VLOOKUP(City!B1031,miasta,4,0)),\"\",IF(VLOOKUP(City!B1031,miasta,4,0)=\"\",\"\",VLOOKUP(City!B1031,miasta,4,0)))","v":""},null,null,null,"","","","","","","","","","","",""]
[null,null,null,null,"",{"$f":"IF(ISERROR(VLOOKUP(City!B1032,miasta,4,0)),\"\",IF(VLOOKUP(City!B1032,miasta,4,0)=\"\",\"\",VLOOKUP(City!B1032,miasta,4,0)))","v":""},null,null,null,"","","","","","","","","","","",""]
[null,null,null,null,"",{"$f":"IF(ISERROR(VLOOKUP(City!B1033,miasta,4,0)),\"\",IF(VLOOKUP(City!B1033,miasta,4,0)=\"\",\"\",VLOOKUP(City!B1033,miasta,4,0)))","v":""},null,null,null,"","","","","","","","","","","",""]
[null,null,null,null,"",{"$f":"IF(ISERROR(VLOOKUP(City!B1034,miasta,4,0)),\"\",IF(VLOOKUP(City!B1034,miasta,4,0)=\"\",\"\",VLOOKUP(City!B1034,miasta,4,0)))","v":""},null,null,null,"","","","","","","","","","","",""]
[null,null,null,null,"",{"$f":"IF(ISERROR(VLOOKUP(City!B1035,miasta,4,0)),\"\",IF(VLOOKUP(City!B1035,miasta,4,0)=\"\",\"\",VLOOKUP(City!B1035,miasta,4,0)))","v":""},null,null,null,"","","","","","","","","","","",""]
[null,null,null,null,"",{"$f":"IF(ISERROR(VLOOKUP(City!B1036,miasta,4,0)),\"\",IF(VLOOKUP(City!B1036,miasta,4,0)=\"\",\"\",VLOOKUP(City!B1036,miasta,4,0)))","v":""},null,null,null,"","","","","","","","","","","",""]
[null,null,null,null,"",{"$f":"IF(ISERROR(VLOOKUP(City!B1037,miasta,4,0)),\"\",IF(VLOOKUP(City!B1037,miasta,4,0)=\"\",\"\",VLOOKUP(City!B1037,miasta,4,0)))","v":""},null,null,null,"","","","","","","","","","","",""]
[null,null,null,null,"",{"$f":"IF(ISERROR(VLOOKUP(City!B1038,miasta,4,0)),\"\",IF(VLOOKUP(City!B1038,miasta,4,0)=\"\",\"\",VLOOKUP(City!B1038,miasta,4,0)))","v":""},null,null,null,"","","","","","","","","","","",""]
[null,null,null,null,"",{"$f":"IF(ISERROR(VLOOKUP(City!B1039,miasta,4,0)),\"\",IF(VLOOKUP(City!B1039,miasta,4,0)=\"\",\"\",VLOOKUP(City!B1039,miasta,4,0)))","v":""},null,null,null,"","","","","","","","","","","",""]
[null,null,null,null,"",{"$f":"IF(ISERROR(VLOOKUP(City!B1040,miasta,4,0)),\"\",IF(VLOOKUP(City!B1040,miasta,4,0)=\"\",\"\",VLOOKUP(City!B1040,miasta,4,0)))","v":""},null,null,null,"","","","","","","","","","","",""]
[null,null,null,null,"",{"$f":"IF(ISERROR(VLOOKUP(City!B1041,miasta,4,0)),\"\",IF(VLOOKUP(City!B1041,miasta,4,0)=\"\",\"\",VLOOKUP(City!B1041,miasta,4,0)))","v":""},null,null,null,"","","","","","","","","","","",""]
[null,null,null,null,"",{"$f":"IF(ISERROR(VLOOKUP(City!B1042,miasta,4,0)),\"\",IF(VLOOKUP(City!B1042,miasta,4,0)=\"\",\"\",VLOOKUP(City!B1042,miasta,4,0)))","v":""},null,null,null,"","","","","","","","","","","",""]
[null,null,null,null,"",{"$f":"IF(ISERROR(VLOOKUP(City!B1043,miasta,4,0)),\"\",IF(VLOOKUP(City!B1043,miasta,4,0)=\"\",\"\",VLOOKUP(City!B1043,miasta,4,0)))","v":""},null,null,null,"","","","","","","","","","","",""]
[null,null,null,null,"",{"$f":"IF(ISERROR(VLOOKUP(City!B1044,miasta,4,0)),\"\",IF(VLOOKUP(City!B1044,miasta,4,0)=\"\",\"\",VLOOKUP(City!B1044,miasta,4,0)))","v":""},null,null,null,"","","","","","","","","","","",""]
[null,null,null,null,"",{"$f":"IF(ISERROR(VLOOKUP(City!B1045,miasta,4,0)),\"\",IF(VLOOKUP(City!B1045,miasta,4,0)=\"\",\"\",VLOOKUP(City!B1045,miasta,4,0)))","v":""},null,null,null,"","","","","","","","","","","",""]
[null,null,null,null,"",{"$f":"IF(ISERROR(VLOOKUP(City!B1046,miasta,4,0)),\"\",IF(VLOOKUP(City!B1046,miasta,4,0)=\"\",\"\",VLOOKUP(City!B1046,miasta,4,0)))","v":""},null,null,null,"","","","","","","","","","","",""]
[null,null,null,null,"",{"$f":"IF(ISERROR(VLOOKUP(City!B1047,miasta,4,0)),\"\",IF(VLOOKUP(City!B1047,miasta,4,0)=\"\",\"\",VLOOKUP(City!B1047,miasta,4,0)))","v":""},null,null,null,"","","","","","","","","","","",""]
[null,null,null,null,"",{"$f":"IF(ISERROR(VLOOKUP(City!B1048,miasta,4,0)),\"\",IF(VLOOKUP(City!B1048,miasta,4,0)=\"\",\"\",VLOOKUP(City!B1048,miasta,4,0)))","v":""},null,null,null,"","","","","","","","","","","",""]
[null,null,null,null,"",{"$f":"IF(ISERROR(VLOOKUP(City!B1049,miasta,4,0)),\"\",IF(VLOOKUP(City!B1049,miasta,4,0)=\"\",\"\",VLOOKUP(City!B1049,miasta,4,0)))","v":""},null,null,null,"","","","","","","","","","","",""]
[null,null,null,null,"",{"$f":"IF(ISERROR(VLOOKUP(City!B1050,miasta,4,0)),\"\",IF(VLOOKUP(City!B1050,miasta,4,0)=\"\",\"\",VLOOKUP(City!B1050,miasta,4,0)))","v":""},null,null,null,"","","","","","","","","","","",""]
[null,null,null,null,"",{"$f":"IF(ISERROR(VLOOKUP(City!B1051,miasta,4,0)),\"\",IF(VLOOKUP(City!B1051,miasta,4,0)=\"\",\"\",VLOOKUP(City!B1051,miasta,4,0)))","v":""},null,null,null,"","","","","","","","","","","",""]
[null,null,null,null,"",{"$f":"IF(ISERROR(VLOOKUP(City!B1052,miasta,4,0)),\"\",IF(VLOOKUP(City!B1052,miasta,4,0)=\"\",\"\",VLOOKUP(City!B1052,miasta,4,0)))","v":""},null,null,null,"","","","","","","","","","","",""]
[null,null,null,null,"",{"$f":"IF(ISERROR(VLOOKUP(City!B1053,miasta,4,0)),\"\",IF(VLOOKUP(City!B1053,miasta,4,0)=\"\",\"\",VLOOKUP(City!B1053,miasta,4,0)))","v":""},null,null,null,"","","","","","","","","","","",""]
[null,null,null,null,"",{"$f":"IF(ISERROR(VLOOKUP(City!B1054,miasta,4,0)),\"\",IF(VLOOKUP(City!B1054,miasta,4,0)=\"\",\"\",VLOOKUP(City!B1054,miasta,4,0)))","v":""},null,null,null,"","","","","","","","","","","",""]
[null,null,null,null,"",{"$f":"IF(ISERROR(VLOOKUP(City!B1055,miasta,4,0)),\"\",IF(VLOOKUP(City!B1055,miasta,4,0)=\"\",\"\",VLOOKUP(City!B1055,miasta,4,0)))","v":""},null,null,null,"","","","","","","","","","","",""]
[null,null,null,null,"",{"$f":"IF(ISERROR(VLOOKUP(City!B1056,miasta,4,0)),\"\",IF(VLOOKUP(City!B1056,miasta,4,0)=\"\",\"\",VLOOKUP(City!B1056,miasta,4,0)))","v":""},null,null,null,"","","","","","","","","","","",""]
[null,null,null,null,"",{"$f":"IF(ISERROR(VLOOKUP(City!B1057,miasta,4,0)),\"\",IF(VLOOKUP(City!B1057,miasta,4,0)=\"\",\"\",VLOOKUP(City!B1057,miasta,4,0)))","v":""},null,null,null,"","","","","","","","","","","",""]
[null,null,null,null,"",{"$f":"IF(ISERROR(VLOOKUP(City!B1058,miasta,4,0)),\"\",IF(VLOOKUP(City!B1058,miasta,4,0)=\"\",\"\",VLOOKUP(City!B1058,miasta,4,0)))","v":""},null,null,null,"","","","","","","","","","","",""]
[null,null,null,null,"",{"$f":"IF(ISERROR(VLOOKUP(City!B1059,miasta,4,0)),\"\",IF(VLOOKUP(City!B1059,miasta,4,0)=\"\",\"\",VLOOKUP(City!B1059,miasta,4,0)))","v":""},null,null,null,"","","","","","","","","","","",""]
[null,null,null,null,"",{"$f":"IF(ISERROR(VLOOKUP(City!B1060,miasta,4,0)),\"\",IF(VLOOKUP(City!B1060,miasta,4,0)=\"\",\"\",VLOOKUP(City!B1060,miasta,4,0)))","v":""},null,null,null,"","","","","","","","","","","",""]
[null,null,null,null,"",{"$f":"IF(ISERROR(VLOOKUP(City!B1061,miasta,4,0)),\"\",IF(VLOOKUP(City!B1061,miasta,4,0)=\"\",\"\",VLOOKUP(City!B1061,miasta,4,0)))","v":""},null,null,null,"","","","","","","","","","","",""]
[null,null,null,null,"",{"$f":"IF(ISERROR(VLOOKUP(City!B1062,miasta,4,0)),\"\",IF(VLOOKUP(City!B1062,miasta,4,0)=\"\",\"\",VLOOKUP(City!B1062,miasta,4,0)))","v":""},null,null,null,"","","","","","","","","","","",""]
[null,null,null,null,"",{"$f":"IF(ISERROR(VLOOKUP(City!B1063,miasta,4,0)),\"\",IF(VLOOKUP(City!B1063,miasta,4,0)=\"\",\"\",VLOOKUP(City!B1063,miasta,4,0)))","v":""},null,null,null,"","","","","","","","","","","",""]
[null,null,null,null,"",{"$f":"IF(ISERROR(VLOOKUP(City!B1064,miasta,4,0)),\"\",IF(VLOOKUP(City!B1064,miasta,4,0)=\"\",\"\",VLOOKUP(City!B1064,miasta,4,0)))","v":""},null,null,null,"","","","","","","","","","","",""]
[null,null,null,null,"",{"$f":"IF(ISERROR(VLOOKUP(City!B1065,miasta,4,0)),\"\",IF(VLOOKUP(City!B1065,miasta,4,0)=\"\",\"\",VLOOKUP(City!B1065,miasta,4,0)))","v":""},null,null,null,"","","","","","","","","","","",""]
[null,null,null,null,"",{"$f":"IF(ISERROR(VLOOKUP(City!B1066,miasta,4,0)),\"\",IF(VLOOKUP(City!B1066,miasta,4,0)=\"\",\"\",VLOOKUP(City!B1066,miasta,4,0)))","v":""},null,null,null,"","","","","","","","","","","",""]
[null,null,null,null,"",{"$f":"IF(ISERROR(VLOOKUP(City!B1067,miasta,4,0)),\"\",IF(VLOOKUP(City!B1067,miasta,4,0)=\"\",\"\",VLOOKUP(City!B1067,miasta,4,0)))","v":""},null,null,null,"","","","","","","","","","","",""]
[null,null,null,null,"",{"$f":"IF(ISERROR(VLOOKUP(City!B1068,miasta,4,0)),\"\",IF(VLOOKUP(City!B1068,miasta,4,0)=\"\",\"\",VLOOKUP(City!B1068,miasta,4,0)))","v":""},null,null,null,"","","","","","","","","","","",""]
[null,null,null,null,"",{"$f":"IF(ISERROR(VLOOKUP(City!B1069,miasta,4,0)),\"\",IF(VLOOKUP(City!B1069,miasta,4,0)=\"\",\"\",VLOOKUP(City!B1069,miasta,4,0)))","v":""},null,null,null,"","","","","","","","","","","",""]
[null,null,null,null,"",{"$f":"IF(ISERROR(VLOOKUP(City!B1070,miasta,4,0)),\"\",IF(VLOOKUP(City!B1070,miasta,4,0)=\"\",\"\",VLOOKUP(City!B1070,miasta,4,0)))","v":""},null,null,null,"","","","","","","","","","","",""]
[null,null,null,null,"",{"$f":"IF(ISERROR(VLOOKUP(City!B1071,miasta,4,0)),\"\",IF(VLOOKUP(City!B1071,miasta,4,0)=\"\",\"\",VLOOKUP(City!B1071,miasta,4,0)))","v":""},null,null,null,"",{"$f":"IF($J1071=COLUMN(K1071)-10,$E1071,\"\")","v":""},"","","","","","","","","",""]
[null,null,null,null,"",{"$f":"IF(ISERROR(VLOOKUP(City!B1072,miasta,4,0)),\"\",IF(VLOOKUP(City!B1072,miasta,4,0)=\"\",\"\",VLOOKUP(City!B1072,miasta,4,0)))","v":""},null,null,null,"","","","","","","","","","","",""]
[null,null,null,null,"",{"$f":"IF(ISERROR(VLOOKUP(City!B1073,miasta,4,0)),\"\",IF(VLOOKUP(City!B1073,miasta,4,0)=\"\",\"\",VLOOKUP(City!B1073,miasta,4,0)))","v":""},null,null,null,"","","","","","","","","","","",""]
[null,null,null,null,"",{"$f":"IF(ISERROR(VLOOKUP(City!B1074,miasta,4,0)),\"\",IF(VLOOKUP(City!B1074,miasta,4,0)=\"\",\"\",VLOOKUP(City!B1074,miasta,4,0)))","v":""},null,null,null,"","","","","","","","","","","",""]
[null,null,null,null,"",{"$f":"IF(ISERROR(VLOOKUP(City!B1075,miasta,4,0)),\"\",IF(VLOOKUP(City!B1075,miasta,4,0)=\"\",\"\",VLOOKUP(City!B1075,miasta,4,0)))","v":""},null,null,null,"","","","","","","","","","","",""]
[null,null,null,null,"",{"$f":"IF(ISERROR(VLOOKUP(City!B1076,miasta,4,0)),\"\",IF(VLOOKUP(City!B1076,miasta,4,0)=\"\",\"\",VLOOKUP(City!B1076,miasta,4,0)))","v":""},null,null,null,"","","","","","","","","","","",""]
[null,null,null,null,"",{"$f":"IF(ISERROR(VLOOKUP(City!B1077,miasta,4,0)),\"\",IF(VLOOKUP(City!B1077,miasta,4,0)=\"\",\"\",VLOOKUP(City!B1077,miasta,4,0)))","v":""},null,null,null,"","","","","","","","","","","",""]
[null,null,null,null,"",{"$f":"IF(ISERROR(VLOOKUP(City!B1078,miasta,4,0)),\"\",IF(VLOOKUP(City!B1078,miasta,4,0)=\"\",\"\",VLOOKUP(City!B1078,miasta,4,0)))","v":""},null,null,null,"","","","","","","","","","","",""]
[null,null,null,null,"",{"$f":"IF(ISERROR(VLOOKUP(City!B1079,miasta,4,0)),\"\",IF(VLOOKUP(City!B1079,miasta,4,0)=\"\",\"\",VLOOKUP(City!B1079,miasta,4,0)))","v":""},null,null,null,"","","","","","","","","","","",""]
[null,null,null,null,"",{"$f":"IF(ISERROR(VLOOKUP(City!B1080,miasta,4,0)),\"\",IF(VLOOKUP(City!B1080,miasta,4,0)=\"\",\"\",VLOOKUP(City!B1080,miasta,4,0)))","v":""},null,null,null,"","","","","","","","","","","",""]
[null,null,null,null,"",{"$f":"IF(ISERROR(VLOOKUP(City!B1081,miasta,4,0)),\"\",IF(VLOOKUP(City!B1081,miasta,4,0)=\"\",\"\",VLOOKUP(City!B1081,miasta,4,0)))","v":""},null,null,null,"","","","","","","","","","","",""]
[null,null,null,null,"",{"$f":"IF(ISERROR(VLOOKUP(City!B1082,miasta,4,0)),\"\",IF(VLOOKUP(City!B1082,miasta,4,0)=\"\",\"\",VLOOKUP(City!B1082,miasta,4,0)))","v":""},null,null,null,"","","","","","","","","","","",""]
[null,null,null,null,"",{"$f":"IF(ISERROR(VLOOKUP(City!B1083,miasta,4,0)),\"\",IF(VLOOKUP(City!B1083,miasta,4,0)=\"\",\"\",VLOOKUP(City!B1083,miasta,4,0)))","v":""},null,null,null,"","","","","","","","","","","",""]
[null,null,null,null,"",{"$f":"IF(ISERROR(VLOOKUP(City!B1084,miasta,4,0)),\"\",IF(VLOOKUP(City!B1084,miasta,4,0)=\"\",\"\",VLOOKUP(City!B1084,miasta,4,0)))","v":""},null,null,null,"","","","","","","","","","","",""]
[null,null,null,null,"",{"$f":"IF(ISERROR(VLOOKUP(City!B1085,miasta,4,0)),\"\",IF(VLOOKUP(City!B1085,miasta,4,0)=\"\",\"\",VLOOKUP(City!B1085,miasta,4,0)))","v":""},null,null,null,"","","","","","","","","","","",""]
[null,null,null,null,"",{"$f":"IF(ISERROR(VLOOKUP(City!B1086,miasta,4,0)),\"\",IF(VLOOKUP(City!B1086,miasta,4,0)=\"\",\"\",VLOOKUP(City!B1086,miasta,4,0)))","v":""},null,null,null,"","","","","","","","","","","",""]
[null,null,null,null,"",{"$f":"IF(ISERROR(VLOOKUP(City!B1087,miasta,4,0)),\"\",IF(VLOOKUP(City!B1087,miasta,4,0)=\"\",\"\",VLOOKUP(City!B1087,miasta,4,0)))","v":""},null,null,null,"","","","","","","","","","","",""]
[null,null,null,null,"",{"$f":"IF(ISERROR(VLOOKUP(City!B1088,miasta,4,0)),\"\",IF(VLOOKUP(City!B1088,miasta,4,0)=\"\",\"\",VLOOKUP(City!B1088,miasta,4,0)))","v":""},null,null,null,"","","","","","","","","","","",""]
[null,null,null,null,"",{"$f":"IF(ISERROR(VLOOKUP(City!B1089,miasta,4,0)),\"\",IF(VLOOKUP(City!B1089,miasta,4,0)=\"\",\"\",VLOOKUP(City!B1089,miasta,4,0)))","v":""},null,null,null,"","","","","","","","","","","",""]
[null,null,null,null,{"$f":"IF(ISERROR(VLOOKUP(B1090,miasta,3,0)),\"\",VLOOKUP(B1090,miasta,3,0))","v":""},{"$f":"IF(ISERROR(VLOOKUP(City!B1090,miasta,4,0)),\"\",IF(VLOOKUP(City!B1090,miasta,4,0)=\"\",\"\",VLOOKUP(City!B1090,miasta,4,0)))","v":""},null,null,null,"","","","","","","","","","","",""]
[null,null,null,null,"",{"$f":"IF(ISERROR(VLOOKUP(City!B1091,miasta,4,0)),\"\",IF(VLOOKUP(City!B1091,miasta,4,0)=\"\",\"\",VLOOKUP(City!B1091,miasta,4,0)))","v":""},null,null,null,{"$f":"IF(ISERROR(VLOOKUP(F1091,$G$2:$I$12,3,1)),\"\",VLOOKUP(F1091,$G$2:$I$12,3,1))","v":""},"","","","","","","","","","",""]
[null,null,null,null,"",{"$f":"IF(ISERROR(VLOOKUP(City!B1092,miasta,4,0)),\"\",IF(VLOOKUP(City!B1092,miasta,4,0)=\"\",\"\",VLOOKUP(City!B1092,miasta,4,0)))","v":""},null,null,null,"","","","","","","","","","","",""]
[null,null,null,null,"",{"$f":"IF(ISERROR(VLOOKUP(City!B1093,miasta,4,0)),\"\",IF(VLOOKUP(City!B1093,miasta,4,0)=\"\",\"\",VLOOKUP(City!B1093,miasta,4,0)))","v":""},null,null,null,"","","","","","","","","","","",""]
[null,null,null,null,"",{"$f":"IF(ISERROR(VLOOKUP(City!B1094,miasta,4,0)),\"\",IF(VLOOKUP(City!B1094,miasta,4,0)=\"\",\"\",VLOOKUP(City!B1094,miasta,4,0)))","v":""},null,null,null,"","","",{"$f":"IF($J1094=COLUMN(M1094)-10,$E1094,\"\")","v":""},"","","","","","","",""]
[null,null,null,null,"",{"$f":"IF(ISERROR(VLOOKUP(City!B1095,miasta,4,0)),\"\",IF(VLOOKUP(City!B1095,miasta,4,0)=\"\",\"\",VLOOKUP(City!B1095,miasta,4,0)))","v":""},null,null,null,"",{"$f":"IF($J1095=COLUMN(K1095)-10,$E1095,\"\")","v":""},"","","","","","","","","",""]
[null,null,null,null,"",{"$f":"IF(ISERROR(VLOOKUP(City!B1096,miasta,4,0)),\"\",IF(VLOOKUP(City!B1096,miasta,4,0)=\"\",\"\",VLOOKUP(City!B1096,miasta,4,0)))","v":""},null,null,null,"","","","","","","","","","","",""]
[null,null,null,null,"",{"$f":"IF(ISERROR(VLOOKUP(City!B1097,miasta,4,0)),\"\",IF(VLOOKUP(City!B1097,miasta,4,0)=\"\",\"\",VLOOKUP(City!B1097,miasta,4,0)))","v":""},null,null,null,"","","","","","","","","","","",""]
[null,null,null,null,"",{"$f":"IF(ISERROR(VLOOKUP(City!B1098,miasta,4,0)),\"\",IF(VLOOKUP(City!B1098,miasta,4,0)=\"\",\"\",VLOOKUP(City!B1098,miasta,4,0)))","v":""},null,null,null,"","","","","","","","","","","",""]
[null,null,null,null,"",{"$f":"IF(ISERROR(VLOOKUP(City!B1099,miasta,4,0)),\"\",IF(VLOOKUP(City!B1099,miasta,4,0)=\"\",\"\",VLOOKUP(City!B1099,miasta,4,0)))","v":""},null,null,null,"","","","","","","","","","","",""]
[null,null,null,null,"",{"$f":"IF(ISERROR(VLOOKUP(City!B1100,miasta,4,0)),\"\",IF(VLOOKUP(City!B1100,miasta,4,0)=\"\",\"\",VLOOKUP(City!B1100,miasta,4,0)))","v":""},null,null,null,"","","","","","","","","","","",""]
[null,null,null,null,"",{"$f":"IF(ISERROR(VLOOKUP(City!B1101,miasta,4,0)),\"\",IF(VLOOKUP(City!B1101,miasta,4,0)=\"\",\"\",VLOOKUP(City!B1101,miasta,4,0)))","v":""},null,null,null,"","","","","","","","","","","",""]
[null,null,null,null,"",{"$f":"IF(ISERROR(VLOOKUP(City!B1102,miasta,4,0)),\"\",IF(VLOOKUP(City!B1102,miasta,4,0)=\"\",\"\",VLOOKUP(City!B1102,miasta,4,0)))","v":""},null,null,null,"","","","","","","","","","","",""]
[null,null,null,null,"",{"$f":"IF(ISERROR(VLOOKUP(City!B1103,miasta,4,0)),\"\",IF(VLOOKUP(City!B1103,miasta,4,0)=\"\",\"\",VLOOKUP(City!B1103,miasta,4,0)))","v":""},null,null,null,"","","","","","","","","","","",""]
[null,null,null,null,"",{"$f":"IF(ISERROR(VLOOKUP(City!B1104,miasta,4,0)),\"\",IF(VLOOKUP(City!B1104,miasta,4,0)=\"\",\"\",VLOOKUP(City!B1104,miasta,4,0)))","v":""},null,null,null,"","","","","","","","","","","",""]
[null,null,null,null,"",{"$f":"IF(ISERROR(VLOOKUP(City!B1105,miasta,4,0)),\"\",IF(VLOOKUP(City!B1105,miasta,4,0)=\"\",\"\",VLOOKUP(City!B1105,miasta,4,0)))","v":""},null,null,null,"","","","","","","","","","","",""]
[null,null,null,null,"",{"$f":"IF(ISERROR(VLOOKUP(City!B1106,miasta,4,0)),\"\",IF(VLOOKUP(City!B1106,miasta,4,0)=\"\",\"\",VLOOKUP(City!B1106,miasta,4,0)))","v":""},null,null,null,"","","","","","","","","","","",""]
[null,null,null,null,"",{"$f":"IF(ISERROR(VLOOKUP(City!B1107,miasta,4,0)),\"\",IF(VLOOKUP(City!B1107,miasta,4,0)=\"\",\"\",VLOOKUP(City!B1107,miasta,4,0)))","v":""},null,null,null,"","","","","","","","","","","",""]
[null,null,null,null,"",{"$f":"IF(ISERROR(VLOOKUP(City!B1108,miasta,4,0)),\"\",IF(VLOOKUP(City!B1108,miasta,4,0)=\"\",\"\",VLOOKUP(City!B1108,miasta,4,0)))","v":""},null,null,null,"","","","","","","","","","","",""]
[null,null,null,null,"",{"$f":"IF(ISERROR(VLOOKUP(City!B1109,miasta,4,0)),\"\",IF(VLOOKUP(City!B1109,miasta,4,0)=\"\",\"\",VLOOKUP(City!B1109,miasta,4,0)))","v":""},null,null,null,"","","","","","","","","","","",""]
[null,null,null,null,"",{"$f":"IF(ISERROR(VLOOKUP(City!B1110,miasta,4,0)),\"\",IF(VLOOKUP(City!B1110,miasta,4,0)=\"\",\"\",VLOOKUP(City!B1110,miasta,4,0)))","v":""},null,null,null,"","","","","","","","","","","",""]
[null,null,null,null,"",{"$f":"IF(ISERROR(VLOOKUP(City!B1111,miasta,4,0)),\"\",IF(VLOOKUP(City!B1111,miasta,4,0)=\"\",\"\",VLOOKUP(City!B1111,miasta,4,0)))","v":""},null,null,null,"","","","","","","","","","","",""]
[null,null,null,null,"",{"$f":"IF(ISERROR(VLOOKUP(City!B1112,miasta,4,0)),\"\",IF(VLOOKUP(City!B1112,miasta,4,0)=\"\",\"\",VLOOKUP(City!B1112,miasta,4,0)))","v":""},null,null,null,"","","","","","","","","","","",""]
[null,null,null,null,"",{"$f":"IF(ISERROR(VLOOKUP(City!B1113,miasta,4,0)),\"\",IF(VLOOKUP(City!B1113,miasta,4,0)=\"\",\"\",VLOOKUP(City!B1113,miasta,4,0)))","v":""},null,null,null,"","","","","","","","","","","",""]
[null,null,null,null,"",{"$f":"IF(ISERROR(VLOOKUP(City!B1114,miasta,4,0)),\"\",IF(VLOOKUP(City!B1114,miasta,4,0)=\"\",\"\",VLOOKUP(City!B1114,miasta,4,0)))","v":""},null,null,null,"","","","","","","","","","","",""]
[null,null,null,null,"",{"$f":"IF(ISERROR(VLOOKUP(City!B1115,miasta,4,0)),\"\",IF(VLOOKUP(City!B1115,miasta,4,0)=\"\",\"\",VLOOKUP(City!B1115,miasta,4,0)))","v":""},null,null,null,"","","","","","","","","","","",""]
[null,null,null,null,"",{"$f":"IF(ISERROR(VLOOKUP(City!B1116,miasta,4,0)),\"\",IF(VLOOKUP(City!B1116,miasta,4,0)=\"\",\"\",VLOOKUP(City!B1116,miasta,4,0)))","v":""},null,null,null,"","","","","","","","","","","",""]
[null,null,null,null,"",{"$f":"IF(ISERROR(VLOOKUP(City!B1117,miasta,4,0)),\"\",IF(VLOOKUP(City!B1117,miasta,4,0)=\"\",\"\",VLOOKUP(City!B1117,miasta,4,0)))","v":""},null,null,null,"","","","","","","","","","","",""]
[null,null,null,null,"",{"$f":"IF(ISERROR(VLOOKUP(City!B1118,miasta,4,0)),\"\",IF(VLOOKUP(City!B1118,miasta,4,0)=\"\",\"\",VLOOKUP(City!B1118,miasta,4,0)))","v":""},null,null,null,"","","","","","","","","","","",""]
[null,null,null,null,"",{"$f":"IF(ISERROR(VLOOKUP(City!B1119,miasta,4,0)),\"\",IF(VLOOKUP(City!B1119,miasta,4,0)=\"\",\"\",VLOOKUP(City!B1119,miasta,4,0)))","v":""},null,null,null,"","","","","","","","","","","",""]
[null,null,null,null,"",{"$f":"IF(ISERROR(VLOOKUP(City!B1120,miasta,4,0)),\"\",IF(VLOOKUP(City!B1120,miasta,4,0)=\"\",\"\",VLOOKUP(City!B1120,miasta,4,0)))","v":""},null,null,null,"","","","","","","","","","","",""]
[null,null,null,null,"",{"$f":"IF(ISERROR(VLOOKUP(City!B1121,miasta,4,0)),\"\",IF(VLOOKUP(City!B1121,miasta,4,0)=\"\",\"\",VLOOKUP(City!B1121,miasta,4,0)))","v":""},null,null,null,"","","","","","","","","","","",""]
[null,null,null,null,"",{"$f":"IF(ISERROR(VLOOKUP(City!B1122,miasta,4,0)),\"\",IF(VLOOKUP(City!B1122,miasta,4,0)=\"\",\"\",VLOOKUP(City!B1122,miasta,4,0)))","v":""},null,null,null,"","","","","","",{"$f":"IF($J1122=COLUMN(P1122)-10,$E1122,\"\")","v":""},"","","","",""]
[null,null,null,null,"",{"$f":"IF(ISERROR(VLOOKUP(City!B1123,miasta,4,0)),\"\",IF(VLOOKUP(City!B1123,miasta,4,0)=\"\",\"\",VLOOKUP(City!B1123,miasta,4,0)))","v":""},null,null,null,"","","","","","","","","","","",""]
[null,null,null,null,"",{"$f":"IF(ISERROR(VLOOKUP(City!B1124,miasta,4,0)),\"\",IF(VLOOKUP(City!B1124,miasta,4,0)=\"\",\"\",VLOOKUP(City!B1124,miasta,4,0)))","v":""},null,null,null,"","","","","","","","","","","",""]
[null,null,null,null,"",{"$f":"IF(ISERROR(VLOOKUP(City!B1125,miasta,4,0)),\"\",IF(VLOOKUP(City!B1125,miasta,4,0)=\"\",\"\",VLOOKUP(City!B1125,miasta,4,0)))","v":""},null,null,null,"","","","","","","","","","","",""]
[null,null,null,null,"",{"$f":"IF(ISERROR(VLOOKUP(City!B1126,miasta,4,0)),\"\",IF(VLOOKUP(City!B1126,miasta,4,0)=\"\",\"\",VLOOKUP(City!B1126,miasta,4,0)))","v":""},null,null,null,"","","","","","","","","","","",""]
[null,null,null,null,"",{"$f":"IF(ISERROR(VLOOKUP(City!B1127,miasta,4,0)),\"\",IF(VLOOKUP(City!B1127,miasta,4,0)=\"\",\"\",VLOOKUP(City!B1127,miasta,4,0)))","v":""},null,null,null,"","","","","","","","","","","",""]
[null,null,null,null,"",{"$f":"IF(ISERROR(VLOOKUP(City!B1128,miasta,4,0)),\"\",IF(VLOOKUP(City!B1128,miasta,4,0)=\"\",\"\",VLOOKUP(City!B1128,miasta,4,0)))","v":""},null,null,null,"","","","","","","","","","","",""]
[null,null,null,null,"",{"$f":"IF(ISERROR(VLOOKUP(City!B1129,miasta,4,0)),\"\",IF(VLOOKUP(City!B1129,miasta,4,0)=\"\",\"\",VLOOKUP(City!B1129,miasta,4,0)))","v":""},null,null,null,"","","","","","","","","","","",""]
[null,null,null,null,"",{"$f":"IF(ISERROR(VLOOKUP(City!B1130,miasta,4,0)),\"\",IF(VLOOKUP(City!B1130,miasta,4,0)=\"\",\"\",VLOOKUP(City!B1130,miasta,4,0)))","v":""},null,null,null,"","","","","","","","","","","",""]
[null,null,null,null,"",{"$f":"IF(ISERROR(VLOOKUP(City!B1131,miasta,4,0)),\"\",IF(VLOOKUP(City!B1131,miasta,4,0)=\"\",\"\",VLOOKUP(City!B1131,miasta,4,0)))","v":""},null,null,null,"","","","","","","","","","","",""]
[null,null,null,null,"",{"$f":"IF(ISERROR(VLOOKUP(City!B1132,miasta,4,0)),\"\",IF(VLOOKUP(City!B1132,miasta,4,0)=\"\",\"\",VLOOKUP(City!B1132,miasta,4,0)))","v":""},null,null,null,"","","","","","","","","","","",""]
[null,null,null,null,"",{"$f":"IF(ISERROR(VLOOKUP(City!B1133,miasta,4,0)),\"\",IF(VLOOKUP(City!B1133,miasta,4,0)=\"\",\"\",VLOOKUP(City!B1133,miasta,4,0)))","v":""},null,null,null,"","","","","","","","","","","",""]
[null,null,null,null,"",{"$f":"IF(ISERROR(VLOOKUP(City!B1134,miasta,4,0)),\"\",IF(VLOOKUP(City!B1134,miasta,4,0)=\"\",\"\",VLOOKUP(City!B1134,miasta,4,0)))","v":""},null,null,null,"","","","","","","","","","","",""]
[null,null,null,null,"",{"$f":"IF(ISERROR(VLOOKUP(City!B1135,miasta,4,0)),\"\",IF(VLOOKUP(City!B1135,miasta,4,0)=\"\",\"\",VLOOKUP(City!B1135,miasta,4,0)))","v":""},null,null,null,"","","","","","","","","","","",""]
[null,null,null,null,"",{"$f":"IF(ISERROR(VLOOKUP(City!B1136,miasta,4,0)),\"\",IF(VLOOKUP(City!B1136,miasta,4,0)=\"\",\"\",VLOOKUP(City!B1136,miasta,4,0)))","v":""},null,null,null,"","","","","","","","","","","",""]
[null,null,null,null,"",{"$f":"IF(ISERROR(VLOOKUP(City!B1137,miasta,4,0)),\"\",IF(VLOOKUP(City!B1137,miasta,4,0)=\"\",\"\",VLOOKUP(City!B1137,miasta,4,0)))","v":""},null,null,null,"","","","","","","","","","","",""]
[null,null,null,null,"",{"$f":"IF(ISERROR(VLOOKUP(City!B1138,miasta,4,0)),\"\",IF(VLOOKUP(City!B1138,miasta,4,0)=\"\",\"\",VLOOKUP(City!B1138,miasta,4,0)))","v":""},null,null,null,"","","","","","","","","","","",""]
[null,null,null,null,"",{"$f":"IF(ISERROR(VLOOKUP(City!B1139,miasta,4,0)),\"\",IF(VLOOKUP(City!B1139,miasta,4,0)=\"\",\"\",VLOOKUP(City!B1139,miasta,4,0)))","v":""},null,null,null,"","","","","","","","","","","",""]
[null,null,null,null,"",{"$f":"IF(ISERROR(VLOOKUP(City!B1140,miasta,4,0)),\"\",IF(VLOOKUP(City!B1140,miasta,4,0)=\"\",\"\",VLOOKUP(City!B1140,miasta,4,0)))","v":""},null,null,null,"","","","","","","","","","","",""]
[null,null,null,null,"",{"$f":"IF(ISERROR(VLOOKUP(City!B1141,miasta,4,0)),\"\",IF(VLOOKUP(City!B1141,miasta,4,0)=\"\",\"\",VLOOKUP(City!B1141,miasta,4,0)))","v":""},null,null,null,"","","","","","","","","","","",""]
[null,null,null,null,"",{"$f":"IF(ISERROR(VLOOKUP(City!B1142,miasta,4,0)),\"\",IF(VLOOKUP(City!B1142,miasta,4,0)=\"\",\"\",VLOOKUP(City!B1142,miasta,4,0)))","v":""},null,null,null,"","","","","","","","","","","",""]
[null,null,null,null,"",{"$f":"IF(ISERROR(VLOOKUP(City!B1143,miasta,4,0)),\"\",IF(VLOOKUP(City!B1143,miasta,4,0)=\"\",\"\",VLOOKUP(City!B1143,miasta,4,0)))","v":""},null,null,null,"","","","","","","","","","","",""]
[null,null,null,null,"",{"$f":"IF(ISERROR(VLOOKUP(City!B1144,miasta,4,0)),\"\",IF(VLOOKUP(City!B1144,miasta,4,0)=\"\",\"\",VLOOKUP(City!B1144,miasta,4,0)))","v":""},null,null,null,"","","","","","","","","","","",""]
[null,null,null,null,"",{"$f":"IF(ISERROR(VLOOKUP(City!B1145,miasta,4,0)),\"\",IF(VLOOKUP(City!B1145,miasta,4,0)=\"\",\"\",VLOOKUP(City!B1145,miasta,4,0)))","v":""},null,null,null,"","","","","","","","","","","",""]
[null,null,null,null,"",{"$f":"IF(ISERROR(VLOOKUP(City!B1146,miasta,4,0)),\"\",IF(VLOOKUP(City!B1146,miasta,4,0)=\"\",\"\",VLOOKUP(City!B1146,miasta,4,0)))","v":""},null,null,null,"","","","","","","","","","","",""]
[null,null,null,null,"",{"$f":"IF(ISERROR(VLOOKUP(City!B1147,miasta,4,0)),\"\",IF(VLOOKUP(City!B1147,miasta,4,0)=\"\",\"\",VLOOKUP(City!B1147,miasta,4,0)))","v":""},null,null,null,"","","","","","","","","","","",""]
[null,null,null,null,"",{"$f":"IF(ISERROR(VLOOKUP(City!B1148,miasta,4,0)),\"\",IF(VLOOKUP(City!B1148,miasta,4,0)=\"\",\"\",VLOOKUP(City!B1148,miasta,4,0)))","v":""},null,null,null,"","","","","","","","","","","",""]
[null,null,null,null,"",{"$f":"IF(ISERROR(VLOOKUP(City!B1149,miasta,4,0)),\"\",IF(VLOOKUP(City!B1149,miasta,4,0)=\"\",\"\",VLOOKUP(City!B1149,miasta,4,0)))","v":""},null,null,null,"","","","","","","","","","","",""]
[null,null,null,null,"",{"$f":"IF(ISERROR(VLOOKUP(City!B1150,miasta,4,0)),\"\",IF(VLOOKUP(City!B1150,miasta,4,0)=\"\",\"\",VLOOKUP(City!B1150,miasta,4,0)))","v":""},null,null,null,"","","","","","","","","","","",""]
[null,null,null,null,"",{"$f":"IF(ISERROR(VLOOKUP(City!B1151,miasta,4,0)),\"\",IF(VLOOKUP(City!B1151,miasta,4,0)=\"\",\"\",VLOOKUP(City!B1151,miasta,4,0)))","v":""},null,null,null,"","","","","","","","","","","",""]
[null,null,null,null,"",{"$f":"IF(ISERROR(VLOOKUP(City!B1152,miasta,4,0)),\"\",IF(VLOOKUP(City!B1152,miasta,4,0)=\"\",\"\",VLOOKUP(City!B1152,miasta,4,0)))","v":""},null,null,null,"","","","","","","","","","","",""]
[null,null,null,null,"",{"$f":"IF(ISERROR(VLOOKUP(City!B1153,miasta,4,0)),\"\",IF(VLOOKUP(City!B1153,miasta,4,0)=\"\",\"\",VLOOKUP(City!B1153,miasta,4,0)))","v":""},null,null,null,"","","","","","","","","","","",""]
[null,null,null,null,{"$f":"IF(ISERROR(VLOOKUP(B1154,miasta,3,0)),\"\",VLOOKUP(B1154,miasta,3,0))","v":""},{"$f":"IF(ISERROR(VLOOKUP(City!B1154,miasta,4,0)),\"\",IF(VLOOKUP(City!B1154,miasta,4,0)=\"\",\"\",VLOOKUP(City!B1154,miasta,4,0)))","v":""},null,null,null,"","","","","","","","","","","",""]
[null,null,null,null,"",{"$f":"IF(ISERROR(VLOOKUP(City!B1155,miasta,4,0)),\"\",IF(VLOOKUP(City!B1155,miasta,4,0)=\"\",\"\",VLOOKUP(City!B1155,miasta,4,0)))","v":""},null,null,null,{"$f":"IF(ISERROR(VLOOKUP(F1155,$G$2:$I$12,3,1)),\"\",VLOOKUP(F1155,$G$2:$I$12,3,1))","v":""},"","","","","","","","","","",""]
[null,null,null,null,"",{"$f":"IF(ISERROR(VLOOKUP(City!B1156,miasta,4,0)),\"\",IF(VLOOKUP(City!B1156,miasta,4,0)=\"\",\"\",VLOOKUP(City!B1156,miasta,4,0)))","v":""},null,null,null,"","","","","","","","","","","",""]
[null,null,null,null,"",{"$f":"IF(ISERROR(VLOOKUP(City!B1157,miasta,4,0)),\"\",IF(VLOOKUP(City!B1157,miasta,4,0)=\"\",\"\",VLOOKUP(City!B1157,miasta,4,0)))","v":""},null,null,null,"","","","","","","","","","","",""]
[null,null,null,null,"",{"$f":"IF(ISERROR(VLOOKUP(City!B1158,miasta,4,0)),\"\",IF(VLOOKUP(City!B1158,miasta,4,0)=\"\",\"\",VLOOKUP(City!B1158,miasta,4,0)))","v":""},null,null,null,"","","","","","","","","","","",""]
[null,null,null,null,"",{"$f":"IF(ISERROR(VLOOKUP(City!B1159,miasta,4,0)),\"\",IF(VLOOKUP(City!B1159,miasta,4,0)=\"\",\"\",VLOOKUP(City!B1159,miasta,4,0)))","v":""},null,null,null,"",{"$f":"IF($J1159=COLUMN(K1159)-10,$E1159,\"\")","v":""},"","","","","","","","","",""]
[null,null,null,null,"",{"$f":"IF(ISERROR(VLOOKUP(City!B1160,miasta,4,0)),\"\",IF(VLOOKUP(City!B1160,miasta,4,0)=\"\",\"\",VLOOKUP(City!B1160,miasta,4,0)))","v":""},null,null,null,"","","","","","","","","","","",""]
[null,null,null,null,"",{"$f":"IF(ISERROR(VLOOKUP(City!B1161,miasta,4,0)),\"\",IF(VLOOKUP(City!B1161,miasta,4,0)=\"\",\"\",VLOOKUP(City!B1161,miasta,4,0)))","v":""},null,null,null,"","","","","","","","","","","",""]
[null,null,null,null,"",{"$f":"IF(ISERROR(VLOOKUP(City!B1162,miasta,4,0)),\"\",IF(VLOOKUP(City!B1162,miasta,4,0)=\"\",\"\",VLOOKUP(City!B1162,miasta,4,0)))","v":""},null,null,null,"","","","","","","","","","","",""]
[null,null,null,null,"",{"$f":"IF(ISERROR(VLOOKUP(City!B1163,miasta,4,0)),\"\",IF(VLOOKUP(City!B1163,miasta,4,0)=\"\",\"\",VLOOKUP(City!B1163,miasta,4,0)))","v":""},null,null,null,"","","","","","","","","","","",""]
[null,null,null,null,"",{"$f":"IF(ISERROR(VLOOKUP(City!B1164,miasta,4,0)),\"\",IF(VLOOKUP(City!B1164,miasta,4,0)=\"\",\"\",VLOOKUP(City!B1164,miasta,4,0)))","v":""},null,null,null,"","","","","","","","","",{"$f":"IF($J1164=COLUMN(S1164)-10,$E1164,\"\")","v":""},"",""]
[null,null,null,null,"",{"$f":"IF(ISERROR(VLOOKUP(City!B1165,miasta,4,0)),\"\",IF(VLOOKUP(City!B1165,miasta,4,0)=\"\",\"\",VLOOKUP(City!B1165,miasta,4,0)))","v":""},null,null,null,"","","","","","","","","","","",""]
[null,null,null,null,"",{"$f":"IF(ISERROR(VLOOKUP(City!B1166,miasta,4,0)),\"\",IF(VLOOKUP(City!B1166,miasta,4,0)=\"\",\"\",VLOOKUP(City!B1166,miasta,4,0)))","v":""},null,null,null,"","","","","","","","","","","",""]
[null,null,null,null,"",{"$f":"IF(ISERROR(VLOOKUP(City!B1167,miasta,4,0)),\"\",IF(VLOOKUP(City!B1167,miasta,4,0)=\"\",\"\",VLOOKUP(City!B1167,miasta,4,0)))","v":""},null,null,null,"","","","","","","","","","","",""]
[null,null,null,null,"",{"$f":"IF(ISERROR(VLOOKUP(City!B1168,miasta,4,0)),\"\",IF(VLOOKUP(City!B1168,miasta,4,0)=\"\",\"\",VLOOKUP(City!B1168,miasta,4,0)))","v":""},null,null,null,"","","","","","","","","","","",""]
[null,null,null,null,"",{"$f":"IF(ISERROR(VLOOKUP(City!B1169,miasta,4,0)),\"\",IF(VLOOKUP(City!B1169,miasta,4,0)=\"\",\"\",VLOOKUP(City!B1169,miasta,4,0)))","v":""},null,null,null,"","","","","","","","","","","",""]
[null,null,null,null,"",{"$f":"IF(ISERROR(VLOOKUP(City!B1170,miasta,4,0)),\"\",IF(VLOOKUP(City!B1170,miasta,4,0)=\"\",\"\",VLOOKUP(City!B1170,miasta,4,0)))","v":""},null,null,null,"","","","","","","","","","","",""]
[null,null,null,null,"",{"$f":"IF(ISERROR(VLOOKUP(City!B1171,miasta,4,0)),\"\",IF(VLOOKUP(City!B1171,miasta,4,0)=\"\",\"\",VLOOKUP(City!B1171,miasta,4,0)))","v":""},null,null,null,"","","","","","","","","","","",""]
[null,null,null,null,"",{"$f":"IF(ISERROR(VLOOKUP(City!B1172,miasta,4,0)),\"\",IF(VLOOKUP(City!B1172,miasta,4,0)=\"\",\"\",VLOOKUP(City!B1172,miasta,4,0)))","v":""},null,null,null,"","","","","","","","","","","",""]
[null,null,null,null,"",{"$f":"IF(ISERROR(VLOOKUP(City!B1173,miasta,4,0)),\"\",IF(VLOOKUP(City!B1173,miasta,4,0)=\"\",\"\",VLOOKUP(City!B1173,miasta,4,0)))","v":""},null,null,null,"","","","","","","","","","","",""]
[null,null,null,null,"",{"$f":"IF(ISERROR(VLOOKUP(City!B1174,miasta,4,0)),\"\",IF(VLOOKUP(City!B1174,miasta,4,0)=\"\",\"\",VLOOKUP(City!B1174,miasta,4,0)))","v":""},null,null,null,"","","","","","","","","","","",""]
[null,null,null,null,"",{"$f":"IF(ISERROR(VLOOKUP(City!B1175,miasta,4,0)),\"\",IF(VLOOKUP(City!B1175,miasta,4,0)=\"\",\"\",VLOOKUP(City!B1175,miasta,4,0)))","v":""},null,null,null,"","","","","","","","","","","",""]
[null,null,null,null,"",{"$f":"IF(ISERROR(VLOOKUP(City!B1176,miasta,4,0)),\"\",IF(VLOOKUP(City!B1176,miasta,4,0)=\"\",\"\",VLOOKUP(City!B1176,miasta,4,0)))","v":""},null,null,null,"","","","","","","","","","","",""]
[null,null,null,null,"",{"$f":"IF(ISERROR(VLOOKUP(City!B1177,miasta,4,0)),\"\",IF(VLOOKUP(City!B1177,miasta,4,0)=\"\",\"\",VLOOKUP(City!B1177,miasta,4,0)))","v":""},null,null,null,"","","","","","","","","","","",""]
[null,null,null,null,"",{"$f":"IF(ISERROR(VLOOKUP(City!B1178,miasta,4,0)),\"\",IF(VLOOKUP(City!B1178,miasta,4,0)=\"\",\"\",VLOOKUP(City!B1178,miasta,4,0)))","v":""},null,null,null,"","","","","","","","","","","",""]
[null,null,null,null,"",{"$f":"IF(ISERROR(VLOOKUP(City!B1179,miasta,4,0)),\"\",IF(VLOOKUP(City!B1179,miasta,4,0)=\"\",\"\",VLOOKUP(City!B1179,miasta,4,0)))","v":""},null,null,null,"","","","","","","","","","","",""]
[null,null,null,null,"",{"$f":"IF(ISERROR(VLOOKUP(City!B1180,miasta,4,0)),\"\",IF(VLOOKUP(City!B1180,miasta,4,0)=\"\",\"\",VLOOKUP(City!B1180,miasta,4,0)))","v":""},null,null,null,"","","","","","","","","","","",""]
[null,null,null,null,"",{"$f":"IF(ISERROR(VLOOKUP(City!B1181,miasta,4,0)),\"\",IF(VLOOKUP(City!B1181,miasta,4,0)=\"\",\"\",VLOOKUP(City!B1181,miasta,4,0)))","v":""},null,null,null,"","","","","","","","","","","",""]
[null,null,null,null,"",{"$f":"IF(ISERROR(VLOOKUP(City!B1182,miasta,4,0)),\"\",IF(VLOOKUP(City!B1182,miasta,4,0)=\"\",\"\",VLOOKUP(City!B1182,miasta,4,0)))","v":""},null,null,null,"","","","","","","","","","","",""]
[null,null,null,null,"",{"$f":"IF(ISERROR(VLOOKUP(City!B1183,miasta,4,0)),\"\",IF(VLOOKUP(City!B1183,miasta,4,0)=\"\",\"\",VLOOKUP(City!B1183,miasta,4,0)))","v":""},null,null,null,"","","","","","","","","","","",""]
[null,null,null,null,"",{"$f":"IF(ISERROR(VLOOKUP(City!B1184,miasta,4,0)),\"\",IF(VLOOKUP(City!B1184,miasta,4,0)=\"\",\"\",VLOOKUP(City!B1184,miasta,4,0)))","v":""},null,null,null,"","","","","","","","","","","",""]
[null,null,null,null,"",{"$f":"IF(ISERROR(VLOOKUP(City!B1185,miasta,4,0)),\"\",IF(VLOOKUP(City!B1185,miasta,4,0)=\"\",\"\",VLOOKUP(City!B1185,miasta,4,0)))","v":""},null,null,null,"","","","","","","","","","","",""]
[null,null,null,null,"",{"$f":"IF(ISERROR(VLOOKUP(City!B1186,miasta,4,0)),\"\",IF(VLOOKUP(City!B1186,miasta,4,0)=\"\",\"\",VLOOKUP(City!B1186,miasta,4,0)))","v":""},null,null,null,"","","","","","","","","","","",""]
[null,null,null,null,"",{"$f":"IF(ISERROR(VLOOKUP(City!B1187,miasta,4,0)),\"\",IF(VLOOKUP(City!B1187,miasta,4,0)=\"\",\"\",VLOOKUP(City!B1187,miasta,4,0)))","v":""},null,null,null,"","","","","","","","","","","",""]
[null,null,null,null,"",{"$f":"IF(ISERROR(VLOOKUP(City!B1188,miasta,4,0)),\"\",IF(VLOOKUP(City!B1188,miasta,4,0)=\"\",\"\",VLOOKUP(City!B1188,miasta,4,0)))","v":""},null,null,null,"","","","","","","","","","","",""]
[null,null,null,null,"",{"$f":"IF(ISERROR(VLOOKUP(City!B1189,miasta,4,0)),\"\",IF(VLOOKUP(City!B1189,miasta,4,0)=\"\",\"\",VLOOKUP(City!B1189,miasta,4,0)))","v":""},null,null,null,"","","","","","","","","","","",""]
[null,null,null,null,"",{"$f":"IF(ISERROR(VLOOKUP(City!B1190,miasta,4,0)),\"\",IF(VLOOKUP(City!B1190,miasta,4,0)=\"\",\"\",VLOOKUP(City!B1190,miasta,4,0)))","v":""},null,null,null,"","","","","","","","","","","",""]
[null,null,null,null,"",{"$f":"IF(ISERROR(VLOOKUP(City!B1191,miasta,4,0)),\"\",IF(VLOOKUP(City!B1191,miasta,4,0)=\"\",\"\",VLOOKUP(City!B1191,miasta,4,0)))","v":""},null,null,null,"","","","","","","","","","","",""]
[null,null,null,null,"",{"$f":"IF(ISERROR(VLOOKUP(City!B1192,miasta,4,0)),\"\",IF(VLOOKUP(City!B1192,miasta,4,0)=\"\",\"\",VLOOKUP(City!B1192,miasta,4,0)))","v":""},null,null,null,"","","","","","","","","","","",""]
[null,null,null,null,"",{"$f":"IF(ISERROR(VLOOKUP(City!B1193,miasta,4,0)),\"\",IF(VLOOKUP(City!B1193,miasta,4,0)=\"\",\"\",VLOOKUP(City!B1193,miasta,4,0)))","v":""},null,null,null,"","",{"$f":"IF($J1193=COLUMN(L1193)-10,$E1193,\"\")","v":""},"","","","","","","","",""]
[null,null,null,null,"",{"$f":"IF(ISERROR(VLOOKUP(City!B1194,miasta,4,0)),\"\",IF(VLOOKUP(City!B1194,miasta,4,0)=\"\",\"\",VLOOKUP(City!B1194,miasta,4,0)))","v":""},null,null,null,"",{"$f":"IF($J1194=COLUMN(K1194)-10,$E1194,\"\")","v":""},"","","","","","","","","",""]
[null,null,null,null,"",{"$f":"IF(ISERROR(VLOOKUP(City!B1195,miasta,4,0)),\"\",IF(VLOOKUP(City!B1195,miasta,4,0)=\"\",\"\",VLOOKUP(City!B1195,miasta,4,0)))","v":""},null,null,null,"","","","","","","","","","","",""]
[null,null,null,null,"",{"$f":"IF(ISERROR(VLOOKUP(City!B1196,miasta,4,0)),\"\",IF(VLOOKUP(City!B1196,miasta,4,0)=\"\",\"\",VLOOKUP(City!B1196,miasta,4,0)))","v":""},null,null,null,"","","","","","","","","","","",""]
[null,null,null,null,"",{"$f":"IF(ISERROR(VLOOKUP(City!B1197,miasta,4,0)),\"\",IF(VLOOKUP(City!B1197,miasta,4,0)=\"\",\"\",VLOOKUP(City!B1197,miasta,4,0)))","v":""},null,null,null,"","","","","","","","","","","",""]
[null,null,null,null,"",{"$f":"IF(ISERROR(VLOOKUP(City!B1198,miasta,4,0)),\"\",IF(VLOOKUP(City!B1198,miasta,4,0)=\"\",\"\",VLOOKUP(City!B1198,miasta,4,0)))","v":""},null,null,null,"","","","","","","","","","","",""]
[null,null,null,null,"",{"$f":"IF(ISERROR(VLOOKUP(City!B1199,miasta,4,0)),\"\",IF(VLOOKUP(City!B1199,miasta,4,0)=\"\",\"\",VLOOKUP(City!B1199,miasta,4,0)))","v":""},null,null,null,"","","","","","","","","","","",""]
[null,null,null,null,"",{"$f":"IF(ISERROR(VLOOKUP(City!B1200,miasta,4,0)),\"\",IF(VLOOKUP(City!B1200,miasta,4,0)=\"\",\"\",VLOOKUP(City!B1200,miasta,4,0)))","v":""},null,null,null,"","","","","","","","","","","",""]
[null,null,null,null,"",{"$f":"IF(ISERROR(VLOOKUP(City!B1201,miasta,4,0)),\"\",IF(VLOOKUP(City!B1201,miasta,4,0)=\"\",\"\",VLOOKUP(City!B1201,miasta,4,0)))","v":""},null,null,null,"","","","","","","","","","","",""]
[null,null,null,null,"",{"$f":"IF(ISERROR(VLOOKUP(City!B1202,miasta,4,0)),\"\",IF(VLOOKUP(City!B1202,miasta,4,0)=\"\",\"\",VLOOKUP(City!B1202,miasta,4,0)))","v":""},null,null,null,"","","","","","","","","","","",""]
[null,null,null,null,"",{"$f":"IF(ISERROR(VLOOKUP(City!B1203,miasta,4,0)),\"\",IF(VLOOKUP(City!B1203,miasta,4,0)=\"\",\"\",VLOOKUP(City!B1203,miasta,4,0)))","v":""},null,null,null,"","","","","","","","","","","",""]
[null,null,null,null,"",{"$f":"IF(ISERROR(VLOOKUP(City!B1204,miasta,4,0)),\"\",IF(VLOOKUP(City!B1204,miasta,4,0)=\"\",\"\",VLOOKUP(City!B1204,miasta,4,0)))","v":""},null,null,null,"","","","","","","","","","","",""]
[null,null,null,null,"",{"$f":"IF(ISERROR(VLOOKUP(City!B1205,miasta,4,0)),\"\",IF(VLOOKUP(City!B1205,miasta,4,0)=\"\",\"\",VLOOKUP(City!B1205,miasta,4,0)))","v":""},null,null,null,"","","","","","","","","","","",""]
[null,null,null,null,"",{"$f":"IF(ISERROR(VLOOKUP(City!B1206,miasta,4,0)),\"\",IF(VLOOKUP(City!B1206,miasta,4,0)=\"\",\"\",VLOOKUP(City!B1206,miasta,4,0)))","v":""},null,null,null,"","","","","","","","","","","",""]
[null,null,null,null,"",{"$f":"IF(ISERROR(VLOOKUP(City!B1207,miasta,4,0)),\"\",IF(VLOOKUP(City!B1207,miasta,4,0)=\"\",\"\",VLOOKUP(City!B1207,miasta,4,0)))","v":""},null,null,null,"","","","","","","","","","","",""]
[null,null,null,null,"",{"$f":"IF(ISERROR(VLOOKUP(City!B1208,miasta,4,0)),\"\",IF(VLOOKUP(City!B1208,miasta,4,0)=\"\",\"\",VLOOKUP(City!B1208,miasta,4,0)))","v":""},null,null,null,"","","","","","","","","","","",""]
[null,null,null,null,"",{"$f":"IF(ISERROR(VLOOKUP(City!B1209,miasta,4,0)),\"\",IF(VLOOKUP(City!B1209,miasta,4,0)=\"\",\"\",VLOOKUP(City!B1209,miasta,4,0)))","v":""},null,null,null,"","","","","","","","","","","",""]
[null,null,null,null,"",{"$f":"IF(ISERROR(VLOOKUP(City!B1210,miasta,4,0)),\"\",IF(VLOOKUP(City!B1210,miasta,4,0)=\"\",\"\",VLOOKUP(City!B1210,miasta,4,0)))","v":""},null,null,null,"","","","","","","","","","","",""]
[null,null,null,null,"",{"$f":"IF(ISERROR(VLOOKUP(City!B1211,miasta,4,0)),\"\",IF(VLOOKUP(City!B1211,miasta,4,0)=\"\",\"\",VLOOKUP(City!B1211,miasta,4,0)))","v":""},null,null,null,"","","","","","","","","","","",""]
[null,null,null,null,"",{"$f":"IF(ISERROR(VLOOKUP(City!B1212,miasta,4,0)),\"\",IF(VLOOKUP(City!B1212,miasta,4,0)=\"\",\"\",VLOOKUP(City!B1212,miasta,4,0)))","v":""},null,null,null,"","","","","","","","","","","",""]
[null,null,null,null,"",{"$f":"IF(ISERROR(VLOOKUP(City!B1213,miasta,4,0)),\"\",IF(VLOOKUP(City!B1213,miasta,4,0)=\"\",\"\",VLOOKUP(City!B1213,miasta,4,0)))","v":""},null,null,null,"","","","","","","","","","","",""]
[null,null,null,null,"",{"$f":"IF(ISERROR(VLOOKUP(City!B1214,miasta,4,0)),\"\",IF(VLOOKUP(City!B1214,miasta,4,0)=\"\",\"\",VLOOKUP(City!B1214,miasta,4,0)))","v":""},null,null,null,"","","","","","","","","","","",""]
[null,null,null,null,"",{"$f":"IF(ISERROR(VLOOKUP(City!B1215,miasta,4,0)),\"\",IF(VLOOKUP(City!B1215,miasta,4,0)=\"\",\"\",VLOOKUP(City!B1215,miasta,4,0)))","v":""},null,null,null,"","","","","","","","","","","",""]
[null,null,null,null,"",{"$f":"IF(ISERROR(VLOOKUP(City!B1216,miasta,4,0)),\"\",IF(VLOOKUP(City!B1216,miasta,4,0)=\"\",\"\",VLOOKUP(City!B1216,miasta,4,0)))","v":""},null,null,null,"","","","","","","","","","","",""]
[null,null,null,null,"",{"$f":"IF(ISERROR(VLOOKUP(City!B1217,miasta,4,0)),\"\",IF(VLOOKUP(City!B1217,miasta,4,0)=\"\",\"\",VLOOKUP(City!B1217,miasta,4,0)))","v":""},null,null,null,"","","","","","","","","","","",""]
[null,null,null,null,{"$f":"IF(ISERROR(VLOOKUP(B1218,miasta,3,0)),\"\",VLOOKUP(B1218,miasta,3,0))","v":""},{"$f":"IF(ISERROR(VLOOKUP(City!B1218,miasta,4,0)),\"\",IF(VLOOKUP(City!B1218,miasta,4,0)=\"\",\"\",VLOOKUP(City!B1218,miasta,4,0)))","v":""},null,null,null,"","","","","","","","","","","",""]
[null,null,null,null,"",{"$f":"IF(ISERROR(VLOOKUP(City!B1219,miasta,4,0)),\"\",IF(VLOOKUP(City!B1219,miasta,4,0)=\"\",\"\",VLOOKUP(City!B1219,miasta,4,0)))","v":""},null,null,null,{"$f":"IF(ISERROR(VLOOKUP(F1219,$G$2:$I$12,3,1)),\"\",VLOOKUP(F1219,$G$2:$I$12,3,1))","v":""},"","","","","","","","","","",""]
[null,null,null,null,"",{"$f":"IF(ISERROR(VLOOKUP(City!B1220,miasta,4,0)),\"\",IF(VLOOKUP(City!B1220,miasta,4,0)=\"\",\"\",VLOOKUP(City!B1220,miasta,4,0)))","v":""},null,null,null,"","","","","","","","","","","",""]
[null,null,null,null,"",{"$f":"IF(ISERROR(VLOOKUP(City!B1221,miasta,4,0)),\"\",IF(VLOOKUP(City!B1221,miasta,4,0)=\"\",\"\",VLOOKUP(City!B1221,miasta,4,0)))","v":""},null,null,null,"","","","","","","","","","","",""]
[null,null,null,null,"",{"$f":"IF(ISERROR(VLOOKUP(City!B1222,miasta,4,0)),\"\",IF(VLOOKUP(City!B1222,miasta,4,0)=\"\",\"\",VLOOKUP(City!B1222,miasta,4,0)))","v":""},null,null,null,"","","","","","","","","","","",""]
[null,null,null,null,"",{"$f":"IF(ISERROR(VLOOKUP(City!B1223,miasta,4,0)),\"\",IF(VLOOKUP(City!B1223,miasta,4,0)=\"\",\"\",VLOOKUP(City!B1223,miasta,4,0)))","v":""},null,null,null,"","","","","","","","","","","",""]
[null,null,null,null,"",{"$f":"IF(ISERROR(VLOOKUP(City!B1224,miasta,4,0)),\"\",IF(VLOOKUP(City!B1224,miasta,4,0)=\"\",\"\",VLOOKUP(City!B1224,miasta,4,0)))","v":""},null,null,null,"","","","","","","","","","","",""]
[null,null,null,null,"",{"$f":"IF(ISERROR(VLOOKUP(City!B1225,miasta,4,0)),\"\",IF(VLOOKUP(City!B1225,miasta,4,0)=\"\",\"\",VLOOKUP(City!B1225,miasta,4,0)))","v":""},null,null,null,"","","","","","","","","","","",""]
[null,null,null,null,"",{"$f":"IF(ISERROR(VLOOKUP(City!B1226,miasta,4,0)),\"\",IF(VLOOKUP(City!B1226,miasta,4,0)=\"\",\"\",VLOOKUP(City!B1226,miasta,4,0)))","v":""},null,null,null,"","","","","","","","","","","",""]
[null,null,null,null,"",{"$f":"IF(ISERROR(VLOOKUP(City!B1227,miasta,4,0)),\"\",IF(VLOOKUP(City!B1227,miasta,4,0)=\"\",\"\",VLOOKUP(City!B1227,miasta,4,0)))","v":""},null,null,null,"","","","","","","","","","","",""]
[null,null,null,null,"",{"$f":"IF(ISERROR(VLOOKUP(City!B1228,miasta,4,0)),\"\",IF(VLOOKUP(City!B1228,miasta,4,0)=\"\",\"\",VLOOKUP(City!B1228,miasta,4,0)))","v":""},null,null,null,"","","","","","","","","","","",""]
[null,null,null,null,"",{"$f":"IF(ISERROR(VLOOKUP(City!B1229,miasta,4,0)),\"\",IF(VLOOKUP(City!B1229,miasta,4,0)=\"\",\"\",VLOOKUP(City!B1229,miasta,4,0)))","v":""},null,null,null,"","","","","","","","","","","",""]
[null,null,null,null,"",{"$f":"IF(ISERROR(VLOOKUP(City!B1230,miasta,4,0)),\"\",IF(VLOOKUP(City!B1230,miasta,4,0)=\"\",\"\",VLOOKUP(City!B1230,miasta,4,0)))","v":""},null,null,null,"","","","","","","","","","","",""]
[null,null,null,null,"",{"$f":"IF(ISERROR(VLOOKUP(City!B1231,miasta,4,0)),\"\",IF(VLOOKUP(City!B1231,miasta,4,0)=\"\",\"\",VLOOKUP(City!B1231,miasta,4,0)))","v":""},null,null,null,"","","","","","","","","","","",""]
[null,null,null,null,"",{"$f":"IF(ISERROR(VLOOKUP(City!B1232,miasta,4,0)),\"\",IF(VLOOKUP(City!B1232,miasta,4,0)=\"\",\"\",VLOOKUP(City!B1232,miasta,4,0)))","v":""},null,null,null,"","","","","","","","","","","",""]
[null,null,null,null,"",{"$f":"IF(ISERROR(VLOOKUP(City!B1233,miasta,4,0)),\"\",IF(VLOOKUP(City!B1233,miasta,4,0)=\"\",\"\",VLOOKUP(City!B1233,miasta,4,0)))","v":""},null,null,null,"","","","","","","","","","","",""]
[null,null,null,null,"",{"$f":"IF(ISERROR(VLOOKUP(City!B1234,miasta,4,0)),\"\",IF(VLOOKUP(City!B1234,miasta,4,0)=\"\",\"\",VLOOKUP(City!B1234,miasta,4,0)))","v":""},null,null,null,"","","","","","","","","","","",""]
[null,null,null,null,"",{"$f":"IF(ISERROR(VLOOKUP(City!B1235,miasta,4,0)),\"\",IF(VLOOKUP(City!B1235,miasta,4,0)=\"\",\"\",VLOOKUP(City!B1235,miasta,4,0)))","v":""},null,null,null,"","","","","","","","","","","",""]
[null,null,null,null,"",{"$f":"IF(ISERROR(VLOOKUP(City!B1236,miasta,4,0)),\"\",IF(VLOOKUP(City!B1236,miasta,4,0)=\"\",\"\",VLOOKUP(City!B1236,miasta,4,0)))","v":""},null,null,null,"","","","","","","","","","","",""]
[null,null,null,null,"",{"$f":"IF(ISERROR(VLOOKUP(City!B1237,miasta,4,0)),\"\",IF(VLOOKUP(City!B1237,miasta,4,0)=\"\",\"\",VLOOKUP(City!B1237,miasta,4,0)))","v":""},null,null,null,"","","","","","","","","","","",""]
[null,null,null,null,"",{"$f":"IF(ISERROR(VLOOKUP(City!B1238,miasta,4,0)),\"\",IF(VLOOKUP(City!B1238,miasta,4,0)=\"\",\"\",VLOOKUP(City!B1238,miasta,4,0)))","v":""},null,null,null,"","","","","","","","","","","",""]
[null,null,null,null,"",{"$f":"IF(ISERROR(VLOOKUP(City!B1239,miasta,4,0)),\"\",IF(VLOOKUP(City!B1239,miasta,4,0)=\"\",\"\",VLOOKUP(City!B1239,miasta,4,0)))","v":""},null,null,null,"","","","","","","","","","","",""]
[null,null,null,null,"",{"$f":"IF(ISERROR(VLOOKUP(City!B1240,miasta,4,0)),\"\",IF(VLOOKUP(City!B1240,miasta,4,0)=\"\",\"\",VLOOKUP(City!B1240,miasta,4,0)))","v":""},null,null,null,"","","","","","","","","","","",""]
[null,null,null,null,"",{"$f":"IF(ISERROR(VLOOKUP(City!B1241,miasta,4,0)),\"\",IF(VLOOKUP(City!B1241,miasta,4,0)=\"\",\"\",VLOOKUP(City!B1241,miasta,4,0)))","v":""},null,null,null,"","","","","","","","","","","",""]
[null,null,null,null,"",{"$f":"IF(ISERROR(VLOOKUP(City!B1242,miasta,4,0)),\"\",IF(VLOOKUP(City!B1242,miasta,4,0)=\"\",\"\",VLOOKUP(City!B1242,miasta,4,0)))","v":""},null,null,null,"","","","","","","","","","","",""]
[null,null,null,null,"",{"$f":"IF(ISERROR(VLOOKUP(City!B1243,miasta,4,0)),\"\",IF(VLOOKUP(City!B1243,miasta,4,0)=\"\",\"\",VLOOKUP(City!B1243,miasta,4,0)))","v":""},null,null,null,"","","","","","","","","","","",""]
[null,null,null,null,"",{"$f":"IF(ISERROR(VLOOKUP(City!B1244,miasta,4,0)),\"\",IF(VLOOKUP(City!B1244,miasta,4,0)=\"\",\"\",VLOOKUP(City!B1244,miasta,4,0)))","v":""},null,null,null,"","","","","","","","","","","",""]
[null,null,null,null,"",{"$f":"IF(ISERROR(VLOOKUP(City!B1245,miasta,4,0)),\"\",IF(VLOOKUP(City!B1245,miasta,4,0)=\"\",\"\",VLOOKUP(City!B1245,miasta,4,0)))","v":""},null,null,null,"","","","","","","","","","","",""]
[null,null,null,null,"",{"$f":"IF(ISERROR(VLOOKUP(City!B1246,miasta,4,0)),\"\",IF(VLOOKUP(City!B1246,miasta,4,0)=\"\",\"\",VLOOKUP(City!B1246,miasta,4,0)))","v":""},null,null,null,"","","","","","","","","","","",""]
[null,null,null,null,"",{"$f":"IF(ISERROR(VLOOKUP(City!B1247,miasta,4,0)),\"\",IF(VLOOKUP(City!B1247,miasta,4,0)=\"\",\"\",VLOOKUP(City!B1247,miasta,4,0)))","v":""},null,null,null,"","","","","","","","","","","",""]
[null,null,null,null,"",{"$f":"IF(ISERROR(VLOOKUP(City!B1248,miasta,4,0)),\"\",IF(VLOOKUP(City!B1248,miasta,4,0)=\"\",\"\",VLOOKUP(City!B1248,miasta,4,0)))","v":""},null,null,null,"","","","","","","","","","","",""]
[null,null,null,null,"",{"$f":"IF(ISERROR(VLOOKUP(City!B1249,miasta,4,0)),\"\",IF(VLOOKUP(City!B1249,miasta,4,0)=\"\",\"\",VLOOKUP(City!B1249,miasta,4,0)))","v":""},null,null,null,"",{"$f":"IF($J1249=COLUMN(K1249)-10,$E1249,\"\")","v":""},"","","","","","","","","",""]
[null,null,null,null,"",{"$f":"IF(ISERROR(VLOOKUP(City!B1250,miasta,4,0)),\"\",IF(VLOOKUP(City!B1250,miasta,4,0)=\"\",\"\",VLOOKUP(City!B1250,miasta,4,0)))","v":""},null,null,null,"","","","","","","","","","","",""]
[null,null,null,null,"",{"$f":"IF(ISERROR(VLOOKUP(City!B1251,miasta,4,0)),\"\",IF(VLOOKUP(City!B1251,miasta,4,0)=\"\",\"\",VLOOKUP(City!B1251,miasta,4,0)))","v":""},null,null,null,"","","","","","","","","","","",""]
[null,null,null,null,"",{"$f":"IF(ISERROR(VLOOKUP(City!B1252,miasta,4,0)),\"\",IF(VLOOKUP(City!B1252,miasta,4,0)=\"\",\"\",VLOOKUP(City!B1252,miasta,4,0)))","v":""},null,null,null,"","","","","","","","","","","",""]
[null,null,null,null,"",{"$f":"IF(ISERROR(VLOOKUP(City!B1253,miasta,4,0)),\"\",IF(VLOOKUP(City!B1253,miasta,4,0)=\"\",\"\",VLOOKUP(City!B1253,miasta,4,0)))","v":""},null,null,null,"","","","","","","","","","","",""]
[null,null,null,null,"",{"$f":"IF(ISERROR(VLOOKUP(City!B1254,miasta,4,0)),\"\",IF(VLOOKUP(City!B1254,miasta,4,0)=\"\",\"\",VLOOKUP(City!B1254,miasta,4,0)))","v":""},null,null,null,"","","","","","","","","","","",""]
[null,null,null,null,"",{"$f":"IF(ISERROR(VLOOKUP(City!B1255,miasta,4,0)),\"\",IF(VLOOKUP(City!B1255,miasta,4,0)=\"\",\"\",VLOOKUP(City!B1255,miasta,4,0)))","v":""},null,null,null,"","","","","","","","","","","",""]
[null,null,null,null,"",{"$f":"IF(ISERROR(VLOOKUP(City!B1256,miasta,4,0)),\"\",IF(VLOOKUP(City!B1256,miasta,4,0)=\"\",\"\",VLOOKUP(City!B1256,miasta,4,0)))","v":""},null,null,null,"","","","","","","","","","","",""]
[null,null,null,null,"",{"$f":"IF(ISERROR(VLOOKUP(City!B1257,miasta,4,0)),\"\",IF(VLOOKUP(City!B1257,miasta,4,0)=\"\",\"\",VLOOKUP(City!B1257,miasta,4,0)))","v":""},null,null,null,"","","","","","","","","","","",""]
[null,null,null,null,"",{"$f":"IF(ISERROR(VLOOKUP(City!B1258,miasta,4,0)),\"\",IF(VLOOKUP(City!B1258,miasta,4,0)=\"\",\"\",VLOOKUP(City!B1258,miasta,4,0)))","v":""},null,null,null,"","","","","","","","","","","",""]
[null,null,null,null,"",{"$f":"IF(ISERROR(VLOOKUP(City!B1259,miasta,4,0)),\"\",IF(VLOOKUP(City!B1259,miasta,4,0)=\"\",\"\",VLOOKUP(City!B1259,miasta,4,0)))","v":""},null,null,null,"","","","","","","","","","","",""]
[null,null,null,null,"",{"$f":"IF(ISERROR(VLOOKUP(City!B1260,miasta,4,0)),\"\",IF(VLOOKUP(City!B1260,miasta,4,0)=\"\",\"\",VLOOKUP(City!B1260,miasta,4,0)))","v":""},null,null,null,"","","","","","","","","","","",""]
[null,null,null,null,"",{"$f":"IF(ISERROR(VLOOKUP(City!B1261,miasta,4,0)),\"\",IF(VLOOKUP(City!B1261,miasta,4,0)=\"\",\"\",VLOOKUP(City!B1261,miasta,4,0)))","v":""},null,null,null,"","","","","","","","","","","",""]
[null,null,null,null,"",{"$f":"IF(ISERROR(VLOOKUP(City!B1262,miasta,4,0)),\"\",IF(VLOOKUP(City!B1262,miasta,4,0)=\"\",\"\",VLOOKUP(City!B1262,miasta,4,0)))","v":""},null,null,null,"","","","","","","","","","","",""]
[null,null,null,null,"",{"$f":"IF(ISERROR(VLOOKUP(City!B1263,miasta,4,0)),\"\",IF(VLOOKUP(City!B1263,miasta,4,0)=\"\",\"\",VLOOKUP(City!B1263,miasta,4,0)))","v":""},null,null,null,"","","","","","","","","","","",""]
[null,null,null,null,"",{"$f":"IF(ISERROR(VLOOKUP(City!B1264,miasta,4,0)),\"\",IF(VLOOKUP(City!B1264,miasta,4,0)=\"\",\"\",VLOOKUP(City!B1264,miasta,4,0)))","v":""},null,null,null,"","","","","","","","","","","",""]
[null,null,null,null,"",{"$f":"IF(ISERROR(VLOOKUP(City!B1265,miasta,4,0)),\"\",IF(VLOOKUP(City!B1265,miasta,4,0)=\"\",\"\",VLOOKUP(City!B1265,miasta,4,0)))","v":""},null,null,null,"","","","","","","","","","","",""]
[null,null,null,null,"",{"$f":"IF(ISERROR(VLOOKUP(City!B1266,miasta,4,0)),\"\",IF(VLOOKUP(City!B1266,miasta,4,0)=\"\",\"\",VLOOKUP(City!B1266,miasta,4,0)))","v":""},null,null,null,"","","","","","","","","","","",""]
[null,null,null,null,"",{"$f":"IF(ISERROR(VLOOKUP(City!B1267,miasta,4,0)),\"\",IF(VLOOKUP(City!B1267,miasta,4,0)=\"\",\"\",VLOOKUP(City!B1267,miasta,4,0)))","v":""},null,null,null,"","","","","","","","","","","",""]
[null,null,null,null,"",{"$f":"IF(ISERROR(VLOOKUP(City!B1268,miasta,4,0)),\"\",IF(VLOOKUP(City!B1268,miasta,4,0)=\"\",\"\",VLOOKUP(City!B1268,miasta,4,0)))","v":""},null,null,null,"","","","","","","","","","","",""]
[null,null,null,null,"",{"$f":"IF(ISERROR(VLOOKUP(City!B1269,miasta,4,0)),\"\",IF(VLOOKUP(City!B1269,miasta,4,0)=\"\",\"\",VLOOKUP(City!B1269,miasta,4,0)))","v":""},null,null,null,"","","","","","","","","","","",""]
[null,null,null,null,"",{"$f":"IF(ISERROR(VLOOKUP(City!B1270,miasta,4,0)),\"\",IF(VLOOKUP(City!B1270,miasta,4,0)=\"\",\"\",VLOOKUP(City!B1270,miasta,4,0)))","v":""},null,null,null,"","","","","","","","","","","",""]
[null,null,null,null,"",{"$f":"IF(ISERROR(VLOOKUP(City!B1271,miasta,4,0)),\"\",IF(VLOOKUP(City!B1271,miasta,4,0)=\"\",\"\",VLOOKUP(City!B1271,miasta,4,0)))","v":""},null,null,null,"","","","","","","","","","","",""]
[null,null,null,null,"",{"$f":"IF(ISERROR(VLOOKUP(City!B1272,miasta,4,0)),\"\",IF(VLOOKUP(City!B1272,miasta,4,0)=\"\",\"\",VLOOKUP(City!B1272,miasta,4,0)))","v":""},null,null,null,"","","",{"$f":"IF($J1272=COLUMN(M1272)-10,$E1272,\"\")","v":""},"","","","","","","",""]
[null,null,null,null,"",{"$f":"IF(ISERROR(VLOOKUP(City!B1273,miasta,4,0)),\"\",IF(VLOOKUP(City!B1273,miasta,4,0)=\"\",\"\",VLOOKUP(City!B1273,miasta,4,0)))","v":""},null,null,null,"",{"$f":"IF($J1273=COLUMN(K1273)-10,$E1273,\"\")","v":""},"","","","","","","","","",""]
[null,null,null,null,"",{"$f":"IF(ISERROR(VLOOKUP(City!B1274,miasta,4,0)),\"\",IF(VLOOKUP(City!B1274,miasta,4,0)=\"\",\"\",VLOOKUP(City!B1274,miasta,4,0)))","v":""},null,null,null,"","","","","","","","","","","",""]
[null,null,null,null,"",{"$f":"IF(ISERROR(VLOOKUP(City!B1275,miasta,4,0)),\"\",IF(VLOOKUP(City!B1275,miasta,4,0)=\"\",\"\",VLOOKUP(City!B1275,miasta,4,0)))","v":""},null,null,null,"","","","","","","","","","","",""]
[null,null,null,null,"",{"$f":"IF(ISERROR(VLOOKUP(City!B1276,miasta,4,0)),\"\",IF(VLOOKUP(City!B1276,miasta,4,0)=\"\",\"\",VLOOKUP(City!B1276,miasta,4,0)))","v":""},null,null,null,"","","","","","","","","","","",""]
[null,null,null,null,"",{"$f":"IF(ISERROR(VLOOKUP(City!B1277,miasta,4,0)),\"\",IF(VLOOKUP(City!B1277,miasta,4,0)=\"\",\"\",VLOOKUP(City!B1277,miasta,4,0)))","v":""},null,null,null,"","","","","","","","","","","",""]
[null,null,null,null,"",{"$f":"IF(ISERROR(VLOOKUP(City!B1278,miasta,4,0)),\"\",IF(VLOOKUP(City!B1278,miasta,4,0)=\"\",\"\",VLOOKUP(City!B1278,miasta,4,0)))","v":""},null,null,null,"","","","","","","","","","","",""]
[null,null,null,null,"",{"$f":"IF(ISERROR(VLOOKUP(City!B1279,miasta,4,0)),\"\",IF(VLOOKUP(City!B1279,miasta,4,0)=\"\",\"\",VLOOKUP(City!B1279,miasta,4,0)))","v":""},null,null,null,"","","","","","","","","","","",""]
[null,null,null,null,"",{"$f":"IF(ISERROR(VLOOKUP(City!B1280,miasta,4,0)),\"\",IF(VLOOKUP(City!B1280,miasta,4,0)=\"\",\"\",VLOOKUP(City!B1280,miasta,4,0)))","v":""},null,null,null,"","","","","","","","","","","",""]
[null,null,null,null,"",{"$f":"IF(ISERROR(VLOOKUP(City!B1281,miasta,4,0)),\"\",IF(VLOOKUP(City!B1281,miasta,4,0)=\"\",\"\",VLOOKUP(City!B1281,miasta,4,0)))","v":""},null,null,null,"","","","","","","","","","","",""]
[null,null,null,null,{"$f":"IF(ISERROR(VLOOKUP(B1282,miasta,3,0)),\"\",VLOOKUP(B1282,miasta,3,0))","v":""},{"$f":"IF(ISERROR(VLOOKUP(City!B1282,miasta,4,0)),\"\",IF(VLOOKUP(City!B1282,miasta,4,0)=\"\",\"\",VLOOKUP(City!B1282,miasta,4,0)))","v":""},null,null,null,"","","","","","","","","","","",""]
[null,null,null,null,"",{"$f":"IF(ISERROR(VLOOKUP(City!B1283,miasta,4,0)),\"\",IF(VLOOKUP(City!B1283,miasta,4,0)=\"\",\"\",VLOOKUP(City!B1283,miasta,4,0)))","v":""},null,null,null,{"$f":"IF(ISERROR(VLOOKUP(F1283,$G$2:$I$12,3,1)),\"\",VLOOKUP(F1283,$G$2:$I$12,3,1))","v":""},"","","","","","","","","","",""]
[null,null,null,null,"",{"$f":"IF(ISERROR(VLOOKUP(City!B1284,miasta,4,0)),\"\",IF(VLOOKUP(City!B1284,miasta,4,0)=\"\",\"\",VLOOKUP(City!B1284,miasta,4,0)))","v":""},null,null,null,"","","","","","","","","","","",""]
[null,null,null,null,"",{"$f":"IF(ISERROR(VLOOKUP(City!B1285,miasta,4,0)),\"\",IF(VLOOKUP(City!B1285,miasta,4,0)=\"\",\"\",VLOOKUP(City!B1285,miasta,4,0)))","v":""},null,null,null,"","","","","","","","","","","",""]
[null,null,null,null,"",{"$f":"IF(ISERROR(VLOOKUP(City!B1286,miasta,4,0)),\"\",IF(VLOOKUP(City!B1286,miasta,4,0)=\"\",\"\",VLOOKUP(City!B1286,miasta,4,0)))","v":""},null,null,null,"","","","","","","","","","","",""]
[null,null,null,null,"",{"$f":"IF(ISERROR(VLOOKUP(City!B1287,miasta,4,0)),\"\",IF(VLOOKUP(City!B1287,miasta,4,0)=\"\",\"\",VLOOKUP(City!B1287,miasta,4,0)))","v":""},null,null,null,"","","","","","","","","","","",""]
[null,null,null,null,"",{"$f":"IF(ISERROR(VLOOKUP(City!B1288,miasta,4,0)),\"\",IF(VLOOKUP(City!B1288,miasta,4,0)=\"\",\"\",VLOOKUP(City!B1288,miasta,4,0)))","v":""},null,null,null,"","","","","","","","","","","",""]
[null,null,null,null,"",{"$f":"IF(ISERROR(VLOOKUP(City!B1289,miasta,4,0)),\"\",IF(VLOOKUP(City!B1289,miasta,4,0)=\"\",\"\",VLOOKUP(City!B1289,miasta,4,0)))","v":""},null,null,null,"","","","","","","","","","","",""]
[null,null,null,null,"",{"$f":"IF(ISERROR(VLOOKUP(City!B1290,miasta,4,0)),\"\",IF(VLOOKUP(City!B1290,miasta,4,0)=\"\",\"\",VLOOKUP(City!B1290,miasta,4,0)))","v":""},null,null,null,"","","","","","","","","","","",""]
[null,null,null,null,"",{"$f":"IF(ISERROR(VLOOKUP(City!B1291,miasta,4,0)),\"\",IF(VLOOKUP(City!B1291,miasta,4,0)=\"\",\"\",VLOOKUP(City!B1291,miasta,4,0)))","v":""},null,null,null,"","","","","","","","","","","",""]
[null,null,null,null,"",{"$f":"IF(ISERROR(VLOOKUP(City!B1292,miasta,4,0)),\"\",IF(VLOOKUP(City!B1292,miasta,4,0)=\"\",\"\",VLOOKUP(City!B1292,miasta,4,0)))","v":""},null,null,null,"","","","","","","","","","","",""]
[null,null,null,null,"",{"$f":"IF(ISERROR(VLOOKUP(City!B1293,miasta,4,0)),\"\",IF(VLOOKUP(City!B1293,miasta,4,0)=\"\",\"\",VLOOKUP(City!B1293,miasta,4,0)))","v":""},null,null,null,"","","","","","","","","","","",""]
[null,null,null,null,"",{"$f":"IF(ISERROR(VLOOKUP(City!B1294,miasta,4,0)),\"\",IF(VLOOKUP(City!B1294,miasta,4,0)=\"\",\"\",VLOOKUP(City!B1294,miasta,4,0)))","v":""},null,null,null,"","","","","","","","","","","",""]
[null,null,null,null,"",{"$f":"IF(ISERROR(VLOOKUP(City!B1295,miasta,4,0)),\"\",IF(VLOOKUP(City!B1295,miasta,4,0)=\"\",\"\",VLOOKUP(City!B1295,miasta,4,0)))","v":""},null,null,null,"","","","","","","","","","","",""]
[null,null,null,null,"",{"$f":"IF(ISERROR(VLOOKUP(City!B1296,miasta,4,0)),\"\",IF(VLOOKUP(City!B1296,miasta,4,0)=\"\",\"\",VLOOKUP(City!B1296,miasta,4,0)))","v":""},null,null,null,"","","","","","","","","","","",""]
[null,null,null,null,"",{"$f":"IF(ISERROR(VLOOKUP(City!B1297,miasta,4,0)),\"\",IF(VLOOKUP(City!B1297,miasta,4,0)=\"\",\"\",VLOOKUP(City!B1297,miasta,4,0)))","v":""},null,null,null,"","","","","","","","","","","",""]
[null,null,null,null,"",{"$f":"IF(ISERROR(VLOOKUP(City!B1298,miasta,4,0)),\"\",IF(VLOOKUP(City!B1298,miasta,4,0)=\"\",\"\",VLOOKUP(City!B1298,miasta,4,0)))","v":""},null,null,null,"","","","","","","","","","","",""]
[null,null,null,null,"",{"$f":"IF(ISERROR(VLOOKUP(City!B1299,miasta,4,0)),\"\",IF(VLOOKUP(City!B1299,miasta,4,0)=\"\",\"\",VLOOKUP(City!B1299,miasta,4,0)))","v":""},null,null,null,"","","","","","","","","","","",""]
[null,null,null,null,"",{"$f":"IF(ISERROR(VLOOKUP(City!B1300,miasta,4,0)),\"\",IF(VLOOKUP(City!B1300,miasta,4,0)=\"\",\"\",VLOOKUP(City!B1300,miasta,4,0)))","v":""},null,null,null,"","","","","","",{"$f":"IF($J1300=COLUMN(P1300)-10,$E1300,\"\")","v":""},"","","","",""]
[null,null,null,null,"",{"$f":"IF(ISERROR(VLOOKUP(City!B1301,miasta,4,0)),\"\",IF(VLOOKUP(City!B1301,miasta,4,0)=\"\",\"\",VLOOKUP(City!B1301,miasta,4,0)))","v":""},null,null,null,"","","","","","","","","","","",""]
[null,null,null,null,"",{"$f":"IF(ISERROR(VLOOKUP(City!B1302,miasta,4,0)),\"\",IF(VLOOKUP(City!B1302,miasta,4,0)=\"\",\"\",VLOOKUP(City!B1302,miasta,4,0)))","v":""},null,null,null,"","","","","","","","","","","",""]
[null,null,null,null,"",{"$f":"IF(ISERROR(VLOOKUP(City!B1303,miasta,4,0)),\"\",IF(VLOOKUP(City!B1303,miasta,4,0)=\"\",\"\",VLOOKUP(City!B1303,miasta,4,0)))","v":""},null,null,null,"","","","","","","","","","","",""]
[null,null,null,null,"",{"$f":"IF(ISERROR(VLOOKUP(City!B1304,miasta,4,0)),\"\",IF(VLOOKUP(City!B1304,miasta,4,0)=\"\",\"\",VLOOKUP(City!B1304,miasta,4,0)))","v":""},null,null,null,"","","","","","","","","","","",""]
[null,null,null,null,"",{"$f":"IF(ISERROR(VLOOKUP(City!B1305,miasta,4,0)),\"\",IF(VLOOKUP(City!B1305,miasta,4,0)=\"\",\"\",VLOOKUP(City!B1305,miasta,4,0)))","v":""},null,null,null,"","","","","","","","","","","",""]
[null,null,null,null,"",{"$f":"IF(ISERROR(VLOOKUP(City!B1306,miasta,4,0)),\"\",IF(VLOOKUP(City!B1306,miasta,4,0)=\"\",\"\",VLOOKUP(City!B1306,miasta,4,0)))","v":""},null,null,null,"","","","","","","","","","","",""]
[null,null,null,null,"",{"$f":"IF(ISERROR(VLOOKUP(City!B1307,miasta,4,0)),\"\",IF(VLOOKUP(City!B1307,miasta,4,0)=\"\",\"\",VLOOKUP(City!B1307,miasta,4,0)))","v":""},null,null,null,"","","","","","","","","","","",""]
[null,null,null,null,"",{"$f":"IF(ISERROR(VLOOKUP(City!B1308,miasta,4,0)),\"\",IF(VLOOKUP(City!B1308,miasta,4,0)=\"\",\"\",VLOOKUP(City!B1308,miasta,4,0)))","v":""},null,null,null,"","","","","","","","","","","",""]
[null,null,null,null,"",{"$f":"IF(ISERROR(VLOOKUP(City!B1309,miasta,4,0)),\"\",IF(VLOOKUP(City!B1309,miasta,4,0)=\"\",\"\",VLOOKUP(City!B1309,miasta,4,0)))","v":""},null,null,null,"","","","","","","","","","","",""]
[null,null,null,null,"",{"$f":"IF(ISERROR(VLOOKUP(City!B1310,miasta,4,0)),\"\",IF(VLOOKUP(City!B1310,miasta,4,0)=\"\",\"\",VLOOKUP(City!B1310,miasta,4,0)))","v":""},null,null,null,"","","","","","","","","","","",""]
[null,null,null,null,"",{"$f":"IF(ISERROR(VLOOKUP(City!B1311,miasta,4,0)),\"\",IF(VLOOKUP(City!B1311,miasta,4,0)=\"\",\"\",VLOOKUP(City!B1311,miasta,4,0)))","v":""},null,null,null,"","","","","","","","","","","",""]
[null,null,null,null,"",{"$f":"IF(ISERROR(VLOOKUP(City!B1312,miasta,4,0)),\"\",IF(VLOOKUP(City!B1312,miasta,4,0)=\"\",\"\",VLOOKUP(City!B1312,miasta,4,0)))","v":""},null,null,null,"","","","","","","","","","","",""]
[null,null,null,null,"",{"$f":"IF(ISERROR(VLOOKUP(City!B1313,miasta,4,0)),\"\",IF(VLOOKUP(City!B1313,miasta,4,0)=\"\",\"\",VLOOKUP(City!B1313,miasta,4,0)))","v":""},null,null,null,"","","","","","","","","","","",""]
[null,null,null,null,"",{"$f":"IF(ISERROR(VLOOKUP(City!B1314,miasta,4,0)),\"\",IF(VLOOKUP(City!B1314,miasta,4,0)=\"\",\"\",VLOOKUP(City!B1314,miasta,4,0)))","v":""},null,null,null,"","","","","","","","","","","",""]
[null,null,null,null,"",{"$f":"IF(ISERROR(VLOOKUP(City!B1315,miasta,4,0)),\"\",IF(VLOOKUP(City!B1315,miasta,4,0)=\"\",\"\",VLOOKUP(City!B1315,miasta,4,0)))","v":""},null,null,null,"","","","","","","","","","","",""]
[null,null,null,null,"",{"$f":"IF(ISERROR(VLOOKUP(City!B1316,miasta,4,0)),\"\",IF(VLOOKUP(City!B1316,miasta,4,0)=\"\",\"\",VLOOKUP(City!B1316,miasta,4,0)))","v":""},null,null,null,"","","","","","","","","","","",""]
[null,null,null,null,"",{"$f":"IF(ISERROR(VLOOKUP(City!B1317,miasta,4,0)),\"\",IF(VLOOKUP(City!B1317,miasta,4,0)=\"\",\"\",VLOOKUP(City!B1317,miasta,4,0)))","v":""},null,null,null,"","","","","","","","","","","",""]
[null,null,null,null,"",{"$f":"IF(ISERROR(VLOOKUP(City!B1318,miasta,4,0)),\"\",IF(VLOOKUP(City!B1318,miasta,4,0)=\"\",\"\",VLOOKUP(City!B1318,miasta,4,0)))","v":""},null,null,null,"","","","","","","","","","","",""]
[null,null,null,null,"",{"$f":"IF(ISERROR(VLOOKUP(City!B1319,miasta,4,0)),\"\",IF(VLOOKUP(City!B1319,miasta,4,0)=\"\",\"\",VLOOKUP(City!B1319,miasta,4,0)))","v":""},null,null,null,"","","","","","","","","","","",""]
[null,null,null,null,"",{"$f":"IF(ISERROR(VLOOKUP(City!B1320,miasta,4,0)),\"\",IF(VLOOKUP(City!B1320,miasta,4,0)=\"\",\"\",VLOOKUP(City!B1320,miasta,4,0)))","v":""},null,null,null,"","","","","","","","","","","",""]
[null,null,null,null,"",{"$f":"IF(ISERROR(VLOOKUP(City!B1321,miasta,4,0)),\"\",IF(VLOOKUP(City!B1321,miasta,4,0)=\"\",\"\",VLOOKUP(City!B1321,miasta,4,0)))","v":""},null,null,null,"","","","","","","","","","","",""]
[null,null,null,null,"",{"$f":"IF(ISERROR(VLOOKUP(City!B1322,miasta,4,0)),\"\",IF(VLOOKUP(City!B1322,miasta,4,0)=\"\",\"\",VLOOKUP(City!B1322,miasta,4,0)))","v":""},null,null,null,"","","","","","","","","","","",""]
[null,null,null,null,"",{"$f":"IF(ISERROR(VLOOKUP(City!B1323,miasta,4,0)),\"\",IF(VLOOKUP(City!B1323,miasta,4,0)=\"\",\"\",VLOOKUP(City!B1323,miasta,4,0)))","v":""},null,null,null,"","","","","","","","","","","",""]
[null,null,null,null,"",{"$f":"IF(ISERROR(VLOOKUP(City!B1324,miasta,4,0)),\"\",IF(VLOOKUP(City!B1324,miasta,4,0)=\"\",\"\",VLOOKUP(City!B1324,miasta,4,0)))","v":""},null,null,null,"","","","","","","","","","","",""]
[null,null,null,null,"",{"$f":"IF(ISERROR(VLOOKUP(City!B1325,miasta,4,0)),\"\",IF(VLOOKUP(City!B1325,miasta,4,0)=\"\",\"\",VLOOKUP(City!B1325,miasta,4,0)))","v":""},null,null,null,"","","","","","","","","","","",""]
[null,null,null,null,"",{"$f":"IF(ISERROR(VLOOKUP(City!B1326,miasta,4,0)),\"\",IF(VLOOKUP(City!B1326,miasta,4,0)=\"\",\"\",VLOOKUP(City!B1326,miasta,4,0)))","v":""},null,null,null,"","","","","","","","","","","",""]
[null,null,null,null,"",{"$f":"IF(ISERROR(VLOOKUP(City!B1327,miasta,4,0)),\"\",IF(VLOOKUP(City!B1327,miasta,4,0)=\"\",\"\",VLOOKUP(City!B1327,miasta,4,0)))","v":""},null,null,null,"","","","","","","","","","","",""]
[null,null,null,null,"",{"$f":"IF(ISERROR(VLOOKUP(City!B1328,miasta,4,0)),\"\",IF(VLOOKUP(City!B1328,miasta,4,0)=\"\",\"\",VLOOKUP(City!B1328,miasta,4,0)))","v":""},null,null,null,"","","","","","","","","","","",""]
[null,null,null,null,"",{"$f":"IF(ISERROR(VLOOKUP(City!B1329,miasta,4,0)),\"\",IF(VLOOKUP(City!B1329,miasta,4,0)=\"\",\"\",VLOOKUP(City!B1329,miasta,4,0)))","v":""},null,null,null,"","","","","","","","","","","",""]
[null,null,null,null,"",{"$f":"IF(ISERROR(VLOOKUP(City!B1330,miasta,4,0)),\"\",IF(VLOOKUP(City!B1330,miasta,4,0)=\"\",\"\",VLOOKUP(City!B1330,miasta,4,0)))","v":""},null,null,null,"","","","","","","","","","","",""]
[null,null,null,null,"",{"$f":"IF(ISERROR(VLOOKUP(City!B1331,miasta,4,0)),\"\",IF(VLOOKUP(City!B1331,miasta,4,0)=\"\",\"\",VLOOKUP(City!B1331,miasta,4,0)))","v":""},null,null,null,"","","","","","","","","","","",""]
[null,null,null,null,"",{"$f":"IF(ISERROR(VLOOKUP(City!B1332,miasta,4,0)),\"\",IF(VLOOKUP(City!B1332,miasta,4,0)=\"\",\"\",VLOOKUP(City!B1332,miasta,4,0)))","v":""},null,null,null,"","","","","","","","","","","",""]
[null,null,null,null,"",{"$f":"IF(ISERROR(VLOOKUP(City!B1333,miasta,4,0)),\"\",IF(VLOOKUP(City!B1333,miasta,4,0)=\"\",\"\",VLOOKUP(City!B1333,miasta,4,0)))","v":""},null,null,null,"","","","","","","","","","","",""]
[null,null,null,null,"",{"$f":"IF(ISERROR(VLOOKUP(City!B1334,miasta,4,0)),\"\",IF(VLOOKUP(City!B1334,miasta,4,0)=\"\",\"\",VLOOKUP(City!B1334,miasta,4,0)))","v":""},null,null,null,"","","","","","","","","","","",""]
[null,null,null,null,"",{"$f":"IF(ISERROR(VLOOKUP(City!B1335,miasta,4,0)),\"\",IF(VLOOKUP(City!B1335,miasta,4,0)=\"\",\"\",VLOOKUP(City!B1335,miasta,4,0)))","v":""},null,null,null,"","","","","","","","","","","",""]
[null,null,null,null,"",{"$f":"IF(ISERROR(VLOOKUP(City!B1336,miasta,4,0)),\"\",IF(VLOOKUP(City!B1336,miasta,4,0)=\"\",\"\",VLOOKUP(City!B1336,miasta,4,0)))","v":""},null,null,null,"","","","","","","","","","","",""]
[null,null,null,null,"",{"$f":"IF(ISERROR(VLOOKUP(City!B1337,miasta,4,0)),\"\",IF(VLOOKUP(City!B1337,miasta,4,0)=\"\",\"\",VLOOKUP(City!B1337,miasta,4,0)))","v":""},null,null,null,"",{"$f":"IF($J1337=COLUMN(K1337)-10,$E1337,\"\")","v":""},"","","","","","","","","",""]
[null,null,null,null,"",{"$f":"IF(ISERROR(VLOOKUP(City!B1338,miasta,4,0)),\"\",IF(VLOOKUP(City!B1338,miasta,4,0)=\"\",\"\",VLOOKUP(City!B1338,miasta,4,0)))","v":""},null,null,null,"","","","","","","","","","","",""]
[null,null,null,null,"",{"$f":"IF(ISERROR(VLOOKUP(City!B1339,miasta,4,0)),\"\",IF(VLOOKUP(City!B1339,miasta,4,0)=\"\",\"\",VLOOKUP(City!B1339,miasta,4,0)))","v":""},null,null,null,"","","","","","","","","","","",""]
[null,null,null,null,"",{"$f":"IF(ISERROR(VLOOKUP(City!B1340,miasta,4,0)),\"\",IF(VLOOKUP(City!B1340,miasta,4,0)=\"\",\"\",VLOOKUP(City!B1340,miasta,4,0)))","v":""},null,null,null,"","","","","","","","","","","",""]
[null,null,null,null,"",{"$f":"IF(ISERROR(VLOOKUP(City!B1341,miasta,4,0)),\"\",IF(VLOOKUP(City!B1341,miasta,4,0)=\"\",\"\",VLOOKUP(City!B1341,miasta,4,0)))","v":""},null,null,null,"","","","","","","","","","","",""]
[null,null,null,null,"",{"$f":"IF(ISERROR(VLOOKUP(City!B1342,miasta,4,0)),\"\",IF(VLOOKUP(City!B1342,miasta,4,0)=\"\",\"\",VLOOKUP(City!B1342,miasta,4,0)))","v":""},null,null,null,"","","","","","","","","",{"$f":"IF($J1342=COLUMN(S1342)-10,$E1342,\"\")","v":""},"",""]
[null,null,null,null,"",{"$f":"IF(ISERROR(VLOOKUP(City!B1343,miasta,4,0)),\"\",IF(VLOOKUP(City!B1343,miasta,4,0)=\"\",\"\",VLOOKUP(City!B1343,miasta,4,0)))","v":""},null,null,null,"","","","","","","","","","","",""]
[null,null,null,null,"",{"$f":"IF(ISERROR(VLOOKUP(City!B1344,miasta,4,0)),\"\",IF(VLOOKUP(City!B1344,miasta,4,0)=\"\",\"\",VLOOKUP(City!B1344,miasta,4,0)))","v":""},null,null,null,"","","","","","","","","","","",""]
[null,null,null,null,"",{"$f":"IF(ISERROR(VLOOKUP(City!B1345,miasta,4,0)),\"\",IF(VLOOKUP(City!B1345,miasta,4,0)=\"\",\"\",VLOOKUP(City!B1345,miasta,4,0)))","v":""},null,null,null,"","","","","","","","","","","",""]
[null,null,null,null,{"$f":"IF(ISERROR(VLOOKUP(B1346,miasta,3,0)),\"\",VLOOKUP(B1346,miasta,3,0))","v":""},{"$f":"IF(ISERROR(VLOOKUP(City!B1346,miasta,4,0)),\"\",IF(VLOOKUP(City!B1346,miasta,4,0)=\"\",\"\",VLOOKUP(City!B1346,miasta,4,0)))","v":""},null,null,null,"","","","","","","","","","","",""]
[null,null,null,null,"",{"$f":"IF(ISERROR(VLOOKUP(City!B1347,miasta,4,0)),\"\",IF(VLOOKUP(City!B1347,miasta,4,0)=\"\",\"\",VLOOKUP(City!B1347,miasta,4,0)))","v":""},null,null,null,{"$f":"IF(ISERROR(VLOOKUP(F1347,$G$2:$I$12,3,1)),\"\",VLOOKUP(F1347,$G$2:$I$12,3,1))","v":""},"","","","","","","","","","",""]
[null,null,null,null,"",{"$f":"IF(ISERROR(VLOOKUP(City!B1348,miasta,4,0)),\"\",IF(VLOOKUP(City!B1348,miasta,4,0)=\"\",\"\",VLOOKUP(City!B1348,miasta,4,0)))","v":""},null,null,null,"","","","","","","","","","","",""]
[null,null,null,null,"",{"$f":"IF(ISERROR(VLOOKUP(City!B1349,miasta,4,0)),\"\",IF(VLOOKUP(City!B1349,miasta,4,0)=\"\",\"\",VLOOKUP(City!B1349,miasta,4,0)))","v":""},null,null,null,"","","","","","","","","","","",""]
[null,null,null,null,"",{"$f":"IF(ISERROR(VLOOKUP(City!B1350,miasta,4,0)),\"\",IF(VLOOKUP(City!B1350,miasta,4,0)=\"\",\"\",VLOOKUP(City!B1350,miasta,4,0)))","v":""},null,null,null,"","","","","","","","","","","",""]
[null,null,null,null,"",{"$f":"IF(ISERROR(VLOOKUP(City!B1351,miasta,4,0)),\"\",IF(VLOOKUP(City!B1351,miasta,4,0)=\"\",\"\",VLOOKUP(City!B1351,miasta,4,0)))","v":""},null,null,null,"","","","","","","","","","","",""]
[null,null,null,null,"",{"$f":"IF(ISERROR(VLOOKUP(City!B1352,miasta,4,0)),\"\",IF(VLOOKUP(City!B1352,miasta,4,0)=\"\",\"\",VLOOKUP(City!B1352,miasta,4,0)))","v":""},null,null,null,"","","","","","","","","","","",""]
[null,null,null,null,"",{"$f":"IF(ISERROR(VLOOKUP(City!B1353,miasta,4,0)),\"\",IF(VLOOKUP(City!B1353,miasta,4,0)=\"\",\"\",VLOOKUP(City!B1353,miasta,4,0)))","v":""},null,null,null,"","","","","","","","","","","",""]
[null,null,null,null,"",{"$f":"IF(ISERROR(VLOOKUP(City!B1354,miasta,4,0)),\"\",IF(VLOOKUP(City!B1354,miasta,4,0)=\"\",\"\",VLOOKUP(City!B1354,miasta,4,0)))","v":""},null,null,null,"","","","","","","","","","","",""]
[null,null,null,null,"",{"$f":"IF(ISERROR(VLOOKUP(City!B1355,miasta,4,0)),\"\",IF(VLOOKUP(City!B1355,miasta,4,0)=\"\",\"\",VLOOKUP(City!B1355,miasta,4,0)))","v":""},null,null,null,"","","","","","","","","","","",""]
[null,null,null,null,"",{"$f":"IF(ISERROR(VLOOKUP(City!B1356,miasta,4,0)),\"\",IF(VLOOKUP(City!B1356,miasta,4,0)=\"\",\"\",VLOOKUP(City!B1356,miasta,4,0)))","v":""},null,null,null,"","","","","","","","","","","",""]
[null,null,null,null,"",{"$f":"IF(ISERROR(VLOOKUP(City!B1357,miasta,4,0)),\"\",IF(VLOOKUP(City!B1357,miasta,4,0)=\"\",\"\",VLOOKUP(City!B1357,miasta,4,0)))","v":""},null,null,null,"","","","","","","","","","","",""]
[null,null,null,null,"",{"$f":"IF(ISERROR(VLOOKUP(City!B1358,miasta,4,0)),\"\",IF(VLOOKUP(City!B1358,miasta,4,0)=\"\",\"\",VLOOKUP(City!B1358,miasta,4,0)))","v":""},null,null,null,"","","","","","","","","","","",""]
[null,null,null,null,"",{"$f":"IF(ISERROR(VLOOKUP(City!B1359,miasta,4,0)),\"\",IF(VLOOKUP(City!B1359,miasta,4,0)=\"\",\"\",VLOOKUP(City!B1359,miasta,4,0)))","v":""},null,null,null,"","","","","","","","","","","",""]
[null,null,null,null,"",{"$f":"IF(ISERROR(VLOOKUP(City!B1360,miasta,4,0)),\"\",IF(VLOOKUP(City!B1360,miasta,4,0)=\"\",\"\",VLOOKUP(City!B1360,miasta,4,0)))","v":""},null,null,null,"","","","","","","","","","","",""]
[null,null,null,null,"",{"$f":"IF(ISERROR(VLOOKUP(City!B1361,miasta,4,0)),\"\",IF(VLOOKUP(City!B1361,miasta,4,0)=\"\",\"\",VLOOKUP(City!B1361,miasta,4,0)))","v":""},null,null,null,"","","","","","","","","","","",""]
[null,null,null,null,"",{"$f":"IF(ISERROR(VLOOKUP(City!B1362,miasta,4,0)),\"\",IF(VLOOKUP(City!B1362,miasta,4,0)=\"\",\"\",VLOOKUP(City!B1362,miasta,4,0)))","v":""},null,null,null,"","","","","","","","","","","",""]
[null,null,null,null,"",{"$f":"IF(ISERROR(VLOOKUP(City!B1363,miasta,4,0)),\"\",IF(VLOOKUP(City!B1363,miasta,4,0)=\"\",\"\",VLOOKUP(City!B1363,miasta,4,0)))","v":""},null,null,null,"","","","","","","","","","","",""]
[null,null,null,null,"",{"$f":"IF(ISERROR(VLOOKUP(City!B1364,miasta,4,0)),\"\",IF(VLOOKUP(City!B1364,miasta,4,0)=\"\",\"\",VLOOKUP(City!B1364,miasta,4,0)))","v":""},null,null,null,"","","","","","","","","","","",""]
[null,null,null,null,"",{"$f":"IF(ISERROR(VLOOKUP(City!B1365,miasta,4,0)),\"\",IF(VLOOKUP(City!B1365,miasta,4,0)=\"\",\"\",VLOOKUP(City!B1365,miasta,4,0)))","v":""},null,null,null,"","","","","","","","","","","",""]
[null,null,null,null,"",{"$f":"IF(ISERROR(VLOOKUP(City!B1366,miasta,4,0)),\"\",IF(VLOOKUP(City!B1366,miasta,4,0)=\"\",\"\",VLOOKUP(City!B1366,miasta,4,0)))","v":""},null,null,null,"","","","","","","","","","","",""]
[null,null,null,null,"",{"$f":"IF(ISERROR(VLOOKUP(City!B1367,miasta,4,0)),\"\",IF(VLOOKUP(City!B1367,miasta,4,0)=\"\",\"\",VLOOKUP(City!B1367,miasta,4,0)))","v":""},null,null,null,"","","","","","","","","","","",""]
[null,null,null,null,"",{"$f":"IF(ISERROR(VLOOKUP(City!B1368,miasta,4,0)),\"\",IF(VLOOKUP(City!B1368,miasta,4,0)=\"\",\"\",VLOOKUP(City!B1368,miasta,4,0)))","v":""},null,null,null,"","","","","","","","","","","",""]
[null,null,null,null,"",{"$f":"IF(ISERROR(VLOOKUP(City!B1369,miasta,4,0)),\"\",IF(VLOOKUP(City!B1369,miasta,4,0)=\"\",\"\",VLOOKUP(City!B1369,miasta,4,0)))","v":""},null,null,null,"","","","","","","","","","","",""]
[null,null,null,null,"",{"$f":"IF(ISERROR(VLOOKUP(City!B1370,miasta,4,0)),\"\",IF(VLOOKUP(City!B1370,miasta,4,0)=\"\",\"\",VLOOKUP(City!B1370,miasta,4,0)))","v":""},null,null,null,"","","","","","","","","","","",""]
[null,null,null,null,"",{"$f":"IF(ISERROR(VLOOKUP(City!B1371,miasta,4,0)),\"\",IF(VLOOKUP(City!B1371,miasta,4,0)=\"\",\"\",VLOOKUP(City!B1371,miasta,4,0)))","v":""},null,null,null,"","",{"$f":"IF($J1371=COLUMN(L1371)-10,$E1371,\"\")","v":""},"","","","","","","","",""]
[null,null,null,null,"",{"$f":"IF(ISERROR(VLOOKUP(City!B1372,miasta,4,0)),\"\",IF(VLOOKUP(City!B1372,miasta,4,0)=\"\",\"\",VLOOKUP(City!B1372,miasta,4,0)))","v":""},null,null,null,"",{"$f":"IF($J1372=COLUMN(K1372)-10,$E1372,\"\")","v":""},"","","","","","","","","",""]
[null,null,null,null,"",{"$f":"IF(ISERROR(VLOOKUP(City!B1373,miasta,4,0)),\"\",IF(VLOOKUP(City!B1373,miasta,4,0)=\"\",\"\",VLOOKUP(City!B1373,miasta,4,0)))","v":""},null,null,null,"","","","","","","","","","","",""]
[null,null,null,null,"",{"$f":"IF(ISERROR(VLOOKUP(City!B1374,miasta,4,0)),\"\",IF(VLOOKUP(City!B1374,miasta,4,0)=\"\",\"\",VLOOKUP(City!B1374,miasta,4,0)))","v":""},null,null,null,"","","","","","","","","","","",""]
[null,null,null,null,"",{"$f":"IF(ISERROR(VLOOKUP(City!B1375,miasta,4,0)),\"\",IF(VLOOKUP(City!B1375,miasta,4,0)=\"\",\"\",VLOOKUP(City!B1375,miasta,4,0)))","v":""},null,null,null,"","","","","","","","","","","",""]
[null,null,null,null,"",{"$f":"IF(ISERROR(VLOOKUP(City!B1376,miasta,4,0)),\"\",IF(VLOOKUP(City!B1376,miasta,4,0)=\"\",\"\",VLOOKUP(City!B1376,miasta,4,0)))","v":""},null,null,null,"","","","","","","","","","","",""]
[null,null,null,null,"",{"$f":"IF(ISERROR(VLOOKUP(City!B1377,miasta,4,0)),\"\",IF(VLOOKUP(City!B1377,miasta,4,0)=\"\",\"\",VLOOKUP(City!B1377,miasta,4,0)))","v":""},null,null,null,"","","","","","","","","","","",""]
[null,null,null,null,"",{"$f":"IF(ISERROR(VLOOKUP(City!B1378,miasta,4,0)),\"\",IF(VLOOKUP(City!B1378,miasta,4,0)=\"\",\"\",VLOOKUP(City!B1378,miasta,4,0)))","v":""},null,null,null,"","","","","","","","","","","",""]
[null,null,null,null,"",{"$f":"IF(ISERROR(VLOOKUP(City!B1379,miasta,4,0)),\"\",IF(VLOOKUP(City!B1379,miasta,4,0)=\"\",\"\",VLOOKUP(City!B1379,miasta,4,0)))","v":""},null,null,null,"","","","","","","","","","","",""]
[null,null,null,null,"",{"$f":"IF(ISERROR(VLOOKUP(City!B1380,miasta,4,0)),\"\",IF(VLOOKUP(City!B1380,miasta,4,0)=\"\",\"\",VLOOKUP(City!B1380,miasta,4,0)))","v":""},null,null,null,"","","","","","","","","","","",""]
[null,null,null,null,"",{"$f":"IF(ISERROR(VLOOKUP(City!B1381,miasta,4,0)),\"\",IF(VLOOKUP(City!B1381,miasta,4,0)=\"\",\"\",VLOOKUP(City!B1381,miasta,4,0)))","v":""},null,null,null,"","","","","","","","","","","",""]
[null,null,null,null,"",{"$f":"IF(ISERROR(VLOOKUP(City!B1382,miasta,4,0)),\"\",IF(VLOOKUP(City!B1382,miasta,4,0)=\"\",\"\",VLOOKUP(City!B1382,miasta,4,0)))","v":""},null,null,null,"","","","","","","","","","","",""]
[null,null,null,null,"",{"$f":"IF(ISERROR(VLOOKUP(City!B1383,miasta,4,0)),\"\",IF(VLOOKUP(City!B1383,miasta,4,0)=\"\",\"\",VLOOKUP(City!B1383,miasta,4,0)))","v":""},null,null,null,"","","","","","","","","","","",""]
[null,null,null,null,"",{"$f":"IF(ISERROR(VLOOKUP(City!B1384,miasta,4,0)),\"\",IF(VLOOKUP(City!B1384,miasta,4,0)=\"\",\"\",VLOOKUP(City!B1384,miasta,4,0)))","v":""},null,null,null,"","","","","","","","","","","",""]
[null,null,null,null,"",{"$f":"IF(ISERROR(VLOOKUP(City!B1385,miasta,4,0)),\"\",IF(VLOOKUP(City!B1385,miasta,4,0)=\"\",\"\",VLOOKUP(City!B1385,miasta,4,0)))","v":""},null,null,null,"","","","","","","","","","","",""]
[null,null,null,null,"",{"$f":"IF(ISERROR(VLOOKUP(City!B1386,miasta,4,0)),\"\",IF(VLOOKUP(City!B1386,miasta,4,0)=\"\",\"\",VLOOKUP(City!B1386,miasta,4,0)))","v":""},null,null,null,"","","","","","","","","","","",""]
[null,null,null,null,"",{"$f":"IF(ISERROR(VLOOKUP(City!B1387,miasta,4,0)),\"\",IF(VLOOKUP(City!B1387,miasta,4,0)=\"\",\"\",VLOOKUP(City!B1387,miasta,4,0)))","v":""},null,null,null,"","","","","","","","","","","",""]
[null,null,null,null,"",{"$f":"IF(ISERROR(VLOOKUP(City!B1388,miasta,4,0)),\"\",IF(VLOOKUP(City!B1388,miasta,4,0)=\"\",\"\",VLOOKUP(City!B1388,miasta,4,0)))","v":""},null,null,null,"","","","","","","","","","","",""]
[null,null,null,null,"",{"$f":"IF(ISERROR(VLOOKUP(City!B1389,miasta,4,0)),\"\",IF(VLOOKUP(City!B1389,miasta,4,0)=\"\",\"\",VLOOKUP(City!B1389,miasta,4,0)))","v":""},null,null,null,"","","","","","","","","","","",""]
[null,null,null,null,"",{"$f":"IF(ISERROR(VLOOKUP(City!B1390,miasta,4,0)),\"\",IF(VLOOKUP(City!B1390,miasta,4,0)=\"\",\"\",VLOOKUP(City!B1390,miasta,4,0)))","v":""},null,null,null,"","","","","","","","","","","",""]
[null,null,null,null,"",{"$f":"IF(ISERROR(VLOOKUP(City!B1391,miasta,4,0)),\"\",IF(VLOOKUP(City!B1391,miasta,4,0)=\"\",\"\",VLOOKUP(City!B1391,miasta,4,0)))","v":""},null,null,null,"","","","","","","","","","","",""]
[null,null,null,null,"",{"$f":"IF(ISERROR(VLOOKUP(City!B1392,miasta,4,0)),\"\",IF(VLOOKUP(City!B1392,miasta,4,0)=\"\",\"\",VLOOKUP(City!B1392,miasta,4,0)))","v":""},null,null,null,"","","","","","","","","","","",""]
[null,null,null,null,"",{"$f":"IF(ISERROR(VLOOKUP(City!B1393,miasta,4,0)),\"\",IF(VLOOKUP(City!B1393,miasta,4,0)=\"\",\"\",VLOOKUP(City!B1393,miasta,4,0)))","v":""},null,null,null,"","","","","","","","","","","",""]
[null,null,null,null,"",{"$f":"IF(ISERROR(VLOOKUP(City!B1394,miasta,4,0)),\"\",IF(VLOOKUP(City!B1394,miasta,4,0)=\"\",\"\",VLOOKUP(City!B1394,miasta,4,0)))","v":""},null,null,null,"","","","","","","","","","","",""]
[null,null,null,null,"",{"$f":"IF(ISERROR(VLOOKUP(City!B1395,miasta,4,0)),\"\",IF(VLOOKUP(City!B1395,miasta,4,0)=\"\",\"\",VLOOKUP(City!B1395,miasta,4,0)))","v":""},null,null,null,"","","","","","","","","","","",""]
[null,null,null,null,"",{"$f":"IF(ISERROR(VLOOKUP(City!B1396,miasta,4,0)),\"\",IF(VLOOKUP(City!B1396,miasta,4,0)=\"\",\"\",VLOOKUP(City!B1396,miasta,4,0)))","v":""},null,null,null,"","","","","","","","","","","",""]
[null,null,null,null,"",{"$f":"IF(ISERROR(VLOOKUP(City!B1397,miasta,4,0)),\"\",IF(VLOOKUP(City!B1397,miasta,4,0)=\"\",\"\",VLOOKUP(City!B1397,miasta,4,0)))","v":""},null,null,null,"","","","","","","","","","","",""]
[null,null,null,null,"",{"$f":"IF(ISERROR(VLOOKUP(City!B1398,miasta,4,0)),\"\",IF(VLOOKUP(City!B1398,miasta,4,0)=\"\",\"\",VLOOKUP(City!B1398,miasta,4,0)))","v":""},null,null,null,"","","","","","","","","","","",""]
[null,null,null,null,"",{"$f":"IF(ISERROR(VLOOKUP(City!B1399,miasta,4,0)),\"\",IF(VLOOKUP(City!B1399,miasta,4,0)=\"\",\"\",VLOOKUP(City!B1399,miasta,4,0)))","v":""},null,null,null,"","","","","","","","","","","",""]
[null,null,null,null,"",{"$f":"IF(ISERROR(VLOOKUP(City!B1400,miasta,4,0)),\"\",IF(VLOOKUP(City!B1400,miasta,4,0)=\"\",\"\",VLOOKUP(City!B1400,miasta,4,0)))","v":""},null,null,null,"","","","","","","","","","","",""]
[null,null,null,null,"",{"$f":"IF(ISERROR(VLOOKUP(City!B1401,miasta,4,0)),\"\",IF(VLOOKUP(City!B1401,miasta,4,0)=\"\",\"\",VLOOKUP(City!B1401,miasta,4,0)))","v":""},null,null,null,"","","","","","","","","","","",""]
[null,null,null,null,"",{"$f":"IF(ISERROR(VLOOKUP(City!B1402,miasta,4,0)),\"\",IF(VLOOKUP(City!B1402,miasta,4,0)=\"\",\"\",VLOOKUP(City!B1402,miasta,4,0)))","v":""},null,null,null,"","","","","","","","","","","",""]
[null,null,null,null,"",{"$f":"IF(ISERROR(VLOOKUP(City!B1403,miasta,4,0)),\"\",IF(VLOOKUP(City!B1403,miasta,4,0)=\"\",\"\",VLOOKUP(City!B1403,miasta,4,0)))","v":""},null,null,null,"","","","","","","","","","","",""]
[null,null,null,null,"",{"$f":"IF(ISERROR(VLOOKUP(City!B1404,miasta,4,0)),\"\",IF(VLOOKUP(City!B1404,miasta,4,0)=\"\",\"\",VLOOKUP(City!B1404,miasta,4,0)))","v":""},null,null,null,"","","","","","","","","","","",""]
[null,null,null,null,"",{"$f":"IF(ISERROR(VLOOKUP(City!B1405,miasta,4,0)),\"\",IF(VLOOKUP(City!B1405,miasta,4,0)=\"\",\"\",VLOOKUP(City!B1405,miasta,4,0)))","v":""},null,null,null,"","","","","","","","","","","",""]
[null,null,null,null,"",{"$f":"IF(ISERROR(VLOOKUP(City!B1406,miasta,4,0)),\"\",IF(VLOOKUP(City!B1406,miasta,4,0)=\"\",\"\",VLOOKUP(City!B1406,miasta,4,0)))","v":""},null,null,null,"","","","","","","","","","","",""]
[null,null,null,null,"",{"$f":"IF(ISERROR(VLOOKUP(City!B1407,miasta,4,0)),\"\",IF(VLOOKUP(City!B1407,miasta,4,0)=\"\",\"\",VLOOKUP(City!B1407,miasta,4,0)))","v":""},null,null,null,"","","","","","","","","","","",""]
[null,null,null,null,"",{"$f":"IF(ISERROR(VLOOKUP(City!B1408,miasta,4,0)),\"\",IF(VLOOKUP(City!B1408,miasta,4,0)=\"\",\"\",VLOOKUP(City!B1408,miasta,4,0)))","v":""},null,null,null,"","","","","","","","","","","",""]
[null,null,null,null,"",{"$f":"IF(ISERROR(VLOOKUP(City!B1409,miasta,4,0)),\"\",IF(VLOOKUP(City!B1409,miasta,4,0)=\"\",\"\",VLOOKUP(City!B1409,miasta,4,0)))","v":""},null,null,null,"","","","","","","","","","","",""]
[null,null,null,null,{"$f":"IF(ISERROR(VLOOKUP(B1410,miasta,3,0)),\"\",VLOOKUP(B1410,miasta,3,0))","v":""},{"$f":"IF(ISERROR(VLOOKUP(City!B1410,miasta,4,0)),\"\",IF(VLOOKUP(City!B1410,miasta,4,0)=\"\",\"\",VLOOKUP(City!B1410,miasta,4,0)))","v":""},null,null,null,"","","","","","","","","","","",""]
[null,null,null,null,"",{"$f":"IF(ISERROR(VLOOKUP(City!B1411,miasta,4,0)),\"\",IF(VLOOKUP(City!B1411,miasta,4,0)=\"\",\"\",VLOOKUP(City!B1411,miasta,4,0)))","v":""},null,null,null,{"$f":"IF(ISERROR(VLOOKUP(F1411,$G$2:$I$12,3,1)),\"\",VLOOKUP(F1411,$G$2:$I$12,3,1))","v":""},"","","","","","","","","","",""]
[null,null,null,null,"",{"$f":"IF(ISERROR(VLOOKUP(City!B1412,miasta,4,0)),\"\",IF(VLOOKUP(City!B1412,miasta,4,0)=\"\",\"\",VLOOKUP(City!B1412,miasta,4,0)))","v":""},null,null,null,"","","","","","","","","","","",""]
[null,null,null,null,"",{"$f":"IF(ISERROR(VLOOKUP(City!B1413,miasta,4,0)),\"\",IF(VLOOKUP(City!B1413,miasta,4,0)=\"\",\"\",VLOOKUP(City!B1413,miasta,4,0)))","v":""},null,null,null,"","","","","","","","","","","",""]
[null,null,null,null,"",{"$f":"IF(ISERROR(VLOOKUP(City!B1414,miasta,4,0)),\"\",IF(VLOOKUP(City!B1414,miasta,4,0)=\"\",\"\",VLOOKUP(City!B1414,miasta,4,0)))","v":""},null,null,null,"","","","","","","","","","","",""]
[null,null,null,null,"",{"$f":"IF(ISERROR(VLOOKUP(City!B1415,miasta,4,0)),\"\",IF(VLOOKUP(City!B1415,miasta,4,0)=\"\",\"\",VLOOKUP(City!B1415,miasta,4,0)))","v":""},null,null,null,"","","","","","","","","","","",""]
[null,null,null,null,"",{"$f":"IF(ISERROR(VLOOKUP(City!B1416,miasta,4,0)),\"\",IF(VLOOKUP(City!B1416,miasta,4,0)=\"\",\"\",VLOOKUP(City!B1416,miasta,4,0)))","v":""},null,null,null,"","","","","","","","","","","",""]
[null,null,null,null,"",{"$f":"IF(ISERROR(VLOOKUP(City!B1417,miasta,4,0)),\"\",IF(VLOOKUP(City!B1417,miasta,4,0)=\"\",\"\",VLOOKUP(City!B1417,miasta,4,0)))","v":""},null,null,null,"","","","","","","","","","","",""]
[null,null,null,null,"",{"$f":"IF(ISERROR(VLOOKUP(City!B1418,miasta,4,0)),\"\",IF(VLOOKUP(City!B1418,miasta,4,0)=\"\",\"\",VLOOKUP(City!B1418,miasta,4,0)))","v":""},null,null,null,"","","","","","","","","","","",""]
[null,null,null,null,"",{"$f":"IF(ISERROR(VLOOKUP(City!B1419,miasta,4,0)),\"\",IF(VLOOKUP(City!B1419,miasta,4,0)=\"\",\"\",VLOOKUP(City!B1419,miasta,4,0)))","v":""},null,null,null,"","","","","","","","","","","",""]
[null,null,null,null,"",{"$f":"IF(ISERROR(VLOOKUP(City!B1420,miasta,4,0)),\"\",IF(VLOOKUP(City!B1420,miasta,4,0)=\"\",\"\",VLOOKUP(City!B1420,miasta,4,0)))","v":""},null,null,null,"","","","","","","","","","","",""]
[null,null,null,null,"",{"$f":"IF(ISERROR(VLOOKUP(City!B1421,miasta,4,0)),\"\",IF(VLOOKUP(City!B1421,miasta,4,0)=\"\",\"\",VLOOKUP(City!B1421,miasta,4,0)))","v":""},null,null,null,"","","","","","","","","","","",""]
[null,null,null,null,"",{"$f":"IF(ISERROR(VLOOKUP(City!B1422,miasta,4,0)),\"\",IF(VLOOKUP(City!B1422,miasta,4,0)=\"\",\"\",VLOOKUP(City!B1422,miasta,4,0)))","v":""},null,null,null,"","","","","","","","","","","",""]
[null,null,null,null,"",{"$f":"IF(ISERROR(VLOOKUP(City!B1423,miasta,4,0)),\"\",IF(VLOOKUP(City!B1423,miasta,4,0)=\"\",\"\",VLOOKUP(City!B1423,miasta,4,0)))","v":""},null,null,null,"","","","","","","","","","","",""]
[null,null,null,null,"",{"$f":"IF(ISERROR(VLOOKUP(City!B1424,miasta,4,0)),\"\",IF(VLOOKUP(City!B1424,miasta,4,0)=\"\",\"\",VLOOKUP(City!B1424,miasta,4,0)))","v":""},null,null,null,"","","","","","","","","","","",""]
[null,null,null,null,"",{"$f":"IF(ISERROR(VLOOKUP(City!B1425,miasta,4,0)),\"\",IF(VLOOKUP(City!B1425,miasta,4,0)=\"\",\"\",VLOOKUP(City!B1425,miasta,4,0)))","v":""},null,null,null,"","","","","","","","","","","",""]
[null,null,null,null,"",{"$f":"IF(ISERROR(VLOOKUP(City!B1426,miasta,4,0)),\"\",IF(VLOOKUP(City!B1426,miasta,4,0)=\"\",\"\",VLOOKUP(City!B1426,miasta,4,0)))","v":""},null,null,null,"","","","","","","","","","","",""]
[null,null,null,null,"",{"$f":"IF(ISERROR(VLOOKUP(City!B1427,miasta,4,0)),\"\",IF(VLOOKUP(City!B1427,miasta,4,0)=\"\",\"\",VLOOKUP(City!B1427,miasta,4,0)))","v":""},null,null,null,"",{"$f":"IF($J1427=COLUMN(K1427)-10,$E1427,\"\")","v":""},"","","","","","","","","",""]
[null,null,null,null,"",{"$f":"IF(ISERROR(VLOOKUP(City!B1428,miasta,4,0)),\"\",IF(VLOOKUP(City!B1428,miasta,4,0)=\"\",\"\",VLOOKUP(City!B1428,miasta,4,0)))","v":""},null,null,null,"","","","","","","","","","","",""]
[null,null,null,null,"",{"$f":"IF(ISERROR(VLOOKUP(City!B1429,miasta,4,0)),\"\",IF(VLOOKUP(City!B1429,miasta,4,0)=\"\",\"\",VLOOKUP(City!B1429,miasta,4,0)))","v":""},null,null,null,"","","","","","","","","","","",""]
[null,null,null,null,"",{"$f":"IF(ISERROR(VLOOKUP(City!B1430,miasta,4,0)),\"\",IF(VLOOKUP(City!B1430,miasta,4,0)=\"\",\"\",VLOOKUP(City!B1430,miasta,4,0)))","v":""},null,null,null,"","","","","","","","","","","",""]
[null,null,null,null,"",{"$f":"IF(ISERROR(VLOOKUP(City!B1431,miasta,4,0)),\"\",IF(VLOOKUP(City!B1431,miasta,4,0)=\"\",\"\",VLOOKUP(City!B1431,miasta,4,0)))","v":""},null,null,null,"","","","","","","","","","","",""]
[null,null,null,null,"",{"$f":"IF(ISERROR(VLOOKUP(City!B1432,miasta,4,0)),\"\",IF(VLOOKUP(City!B1432,miasta,4,0)=\"\",\"\",VLOOKUP(City!B1432,miasta,4,0)))","v":""},null,null,null,"","","","","","","","","","","",""]
[null,null,null,null,"",{"$f":"IF(ISERROR(VLOOKUP(City!B1433,miasta,4,0)),\"\",IF(VLOOKUP(City!B1433,miasta,4,0)=\"\",\"\",VLOOKUP(City!B1433,miasta,4,0)))","v":""},null,null,null,"","","","","","","","","","","",""]
[null,null,null,null,"",{"$f":"IF(ISERROR(VLOOKUP(City!B1434,miasta,4,0)),\"\",IF(VLOOKUP(City!B1434,miasta,4,0)=\"\",\"\",VLOOKUP(City!B1434,miasta,4,0)))","v":""},null,null,null,"","","","","","","","","","","",""]
[null,null,null,null,"",{"$f":"IF(ISERROR(VLOOKUP(City!B1435,miasta,4,0)),\"\",IF(VLOOKUP(City!B1435,miasta,4,0)=\"\",\"\",VLOOKUP(City!B1435,miasta,4,0)))","v":""},null,null,null,"","","","","","","","","","","",""]
[null,null,null,null,"",{"$f":"IF(ISERROR(VLOOKUP(City!B1436,miasta,4,0)),\"\",IF(VLOOKUP(City!B1436,miasta,4,0)=\"\",\"\",VLOOKUP(City!B1436,miasta,4,0)))","v":""},null,null,null,"","","","","","","","","","","",""]
[null,null,null,null,"",{"$f":"IF(ISERROR(VLOOKUP(City!B1437,miasta,4,0)),\"\",IF(VLOOKUP(City!B1437,miasta,4,0)=\"\",\"\",VLOOKUP(City!B1437,miasta,4,0)))","v":""},null,null,null,"","","","","","","","","","","",""]
[null,null,null,null,"",{"$f":"IF(ISERROR(VLOOKUP(City!B1438,miasta,4,0)),\"\",IF(VLOOKUP(City!B1438,miasta,4,0)=\"\",\"\",VLOOKUP(City!B1438,miasta,4,0)))","v":""},null,null,null,"","","","","","","","","","","",""]
[null,null,null,null,"",{"$f":"IF(ISERROR(VLOOKUP(City!B1439,miasta,4,0)),\"\",IF(VLOOKUP(City!B1439,miasta,4,0)=\"\",\"\",VLOOKUP(City!B1439,miasta,4,0)))","v":""},null,null,null,"","","","","","","","","","","",""]
[null,null,null,null,"",{"$f":"IF(ISERROR(VLOOKUP(City!B1440,miasta,4,0)),\"\",IF(VLOOKUP(City!B1440,miasta,4,0)=\"\",\"\",VLOOKUP(City!B1440,miasta,4,0)))","v":""},null,null,null,"","","","","","","","","","","",""]
[null,null,null,null,"",{"$f":"IF(ISERROR(VLOOKUP(City!B1441,miasta,4,0)),\"\",IF(VLOOKUP(City!B1441,miasta,4,0)=\"\",\"\",VLOOKUP(City!B1441,miasta,4,0)))","v":""},null,null,null,"","","","","","","","","","","",""]
[null,null,null,null,"",{"$f":"IF(ISERROR(VLOOKUP(City!B1442,miasta,4,0)),\"\",IF(VLOOKUP(City!B1442,miasta,4,0)=\"\",\"\",VLOOKUP(City!B1442,miasta,4,0)))","v":""},null,null,null,"","","","","","","","","","","",""]
[null,null,null,null,"",{"$f":"IF(ISERROR(VLOOKUP(City!B1443,miasta,4,0)),\"\",IF(VLOOKUP(City!B1443,miasta,4,0)=\"\",\"\",VLOOKUP(City!B1443,miasta,4,0)))","v":""},null,null,null,"","","","","","","","","","","",""]
[null,null,null,null,"",{"$f":"IF(ISERROR(VLOOKUP(City!B1444,miasta,4,0)),\"\",IF(VLOOKUP(City!B1444,miasta,4,0)=\"\",\"\",VLOOKUP(City!B1444,miasta,4,0)))","v":""},null,null,null,"","","","","","","","","","","",""]
[null,null,null,null,"",{"$f":"IF(ISERROR(VLOOKUP(City!B1445,miasta,4,0)),\"\",IF(VLOOKUP(City!B1445,miasta,4,0)=\"\",\"\",VLOOKUP(City!B1445,miasta,4,0)))","v":""},null,null,null,"","","","","","","","","","","",""]
[null,null,null,null,"",{"$f":"IF(ISERROR(VLOOKUP(City!B1446,miasta,4,0)),\"\",IF(VLOOKUP(City!B1446,miasta,4,0)=\"\",\"\",VLOOKUP(City!B1446,miasta,4,0)))","v":""},null,null,null,"","","","","","","","","","","",""]
[null,null,null,null,"",{"$f":"IF(ISERROR(VLOOKUP(City!B1447,miasta,4,0)),\"\",IF(VLOOKUP(City!B1447,miasta,4,0)=\"\",\"\",VLOOKUP(City!B1447,miasta,4,0)))","v":""},null,null,null,"","","","","","","","","","","",""]
[null,null,null,null,"",{"$f":"IF(ISERROR(VLOOKUP(City!B1448,miasta,4,0)),\"\",IF(VLOOKUP(City!B1448,miasta,4,0)=\"\",\"\",VLOOKUP(City!B1448,miasta,4,0)))","v":""},null,null,null,"","","","","","","","","","","",""]
[null,null,null,null,"",{"$f":"IF(ISERROR(VLOOKUP(City!B1449,miasta,4,0)),\"\",IF(VLOOKUP(City!B1449,miasta,4,0)=\"\",\"\",VLOOKUP(City!B1449,miasta,4,0)))","v":""},null,null,null,"","","","","","","","","","","",""]
[null,null,null,null,"",{"$f":"IF(ISERROR(VLOOKUP(City!B1450,miasta,4,0)),\"\",IF(VLOOKUP(City!B1450,miasta,4,0)=\"\",\"\",VLOOKUP(City!B1450,miasta,4,0)))","v":""},null,null,null,"","","",{"$f":"IF($J1450=COLUMN(M1450)-10,$E1450,\"\")","v":""},"","","","","","","",""]
[null,null,null,null,"",{"$f":"IF(ISERROR(VLOOKUP(City!B1451,miasta,4,0)),\"\",IF(VLOOKUP(City!B1451,miasta,4,0)=\"\",\"\",VLOOKUP(City!B1451,miasta,4,0)))","v":""},null,null,null,"",{"$f":"IF($J1451=COLUMN(K1451)-10,$E1451,\"\")","v":""},"","","","","","","","","",""]
[null,null,null,null,"",{"$f":"IF(ISERROR(VLOOKUP(City!B1452,miasta,4,0)),\"\",IF(VLOOKUP(City!B1452,miasta,4,0)=\"\",\"\",VLOOKUP(City!B1452,miasta,4,0)))","v":""},null,null,null,"","","","","","","","","","","",""]
[null,null,null,null,"",{"$f":"IF(ISERROR(VLOOKUP(City!B1453,miasta,4,0)),\"\",IF(VLOOKUP(City!B1453,miasta,4,0)=\"\",\"\",VLOOKUP(City!B1453,miasta,4,0)))","v":""},null,null,null,"","","","","","","","","","","",""]
[null,null,null,null,"",{"$f":"IF(ISERROR(VLOOKUP(City!B1454,miasta,4,0)),\"\",IF(VLOOKUP(City!B1454,miasta,4,0)=\"\",\"\",VLOOKUP(City!B1454,miasta,4,0)))","v":""},null,null,null,"","","","","","","","","","","",""]
[null,null,null,null,"",{"$f":"IF(ISERROR(VLOOKUP(City!B1455,miasta,4,0)),\"\",IF(VLOOKUP(City!B1455,miasta,4,0)=\"\",\"\",VLOOKUP(City!B1455,miasta,4,0)))","v":""},null,null,null,"","","","","","","","","","","",""]
[null,null,null,null,"",{"$f":"IF(ISERROR(VLOOKUP(City!B1456,miasta,4,0)),\"\",IF(VLOOKUP(City!B1456,miasta,4,0)=\"\",\"\",VLOOKUP(City!B1456,miasta,4,0)))","v":""},null,null,null,"","","","","","","","","","","",""]
[null,null,null,null,"",{"$f":"IF(ISERROR(VLOOKUP(City!B1457,miasta,4,0)),\"\",IF(VLOOKUP(City!B1457,miasta,4,0)=\"\",\"\",VLOOKUP(City!B1457,miasta,4,0)))","v":""},null,null,null,"","","","","","","","","","","",""]
[null,null,null,null,"",{"$f":"IF(ISERROR(VLOOKUP(City!B1458,miasta,4,0)),\"\",IF(VLOOKUP(City!B1458,miasta,4,0)=\"\",\"\",VLOOKUP(City!B1458,miasta,4,0)))","v":""},null,null,null,"","","","","","","","","","","",""]
[null,null,null,null,"",{"$f":"IF(ISERROR(VLOOKUP(City!B1459,miasta,4,0)),\"\",IF(VLOOKUP(City!B1459,miasta,4,0)=\"\",\"\",VLOOKUP(City!B1459,miasta,4,0)))","v":""},null,null,null,"","","","","","","","","","","",""]
[null,null,null,null,"",{"$f":"IF(ISERROR(VLOOKUP(City!B1460,miasta,4,0)),\"\",IF(VLOOKUP(City!B1460,miasta,4,0)=\"\",\"\",VLOOKUP(City!B1460,miasta,4,0)))","v":""},null,null,null,"","","","","","","","","","","",""]
[null,null,null,null,"",{"$f":"IF(ISERROR(VLOOKUP(City!B1461,miasta,4,0)),\"\",IF(VLOOKUP(City!B1461,miasta,4,0)=\"\",\"\",VLOOKUP(City!B1461,miasta,4,0)))","v":""},null,null,null,"","","","","","","","","","","",""]
[null,null,null,null,"",{"$f":"IF(ISERROR(VLOOKUP(City!B1462,miasta,4,0)),\"\",IF(VLOOKUP(City!B1462,miasta,4,0)=\"\",\"\",VLOOKUP(City!B1462,miasta,4,0)))","v":""},null,null,null,"","","","","","","","","","","",""]
[null,null,null,null,"",{"$f":"IF(ISERROR(VLOOKUP(City!B1463,miasta,4,0)),\"\",IF(VLOOKUP(City!B1463,miasta,4,0)=\"\",\"\",VLOOKUP(City!B1463,miasta,4,0)))","v":""},null,null,null,"","","","","","","","","","","",""]
[null,null,null,null,"",{"$f":"IF(ISERROR(VLOOKUP(City!B1464,miasta,4,0)),\"\",IF(VLOOKUP(City!B1464,miasta,4,0)=\"\",\"\",VLOOKUP(City!B1464,miasta,4,0)))","v":""},null,null,null,"","","","","","","","","","","",""]
[null,null,null,null,"",{"$f":"IF(ISERROR(VLOOKUP(City!B1465,miasta,4,0)),\"\",IF(VLOOKUP(City!B1465,miasta,4,0)=\"\",\"\",VLOOKUP(City!B1465,miasta,4,0)))","v":""},null,null,null,"","","","","","","","","","","",""]
[null,null,null,null,"",{"$f":"IF(ISERROR(VLOOKUP(City!B1466,miasta,4,0)),\"\",IF(VLOOKUP(City!B1466,miasta,4,0)=\"\",\"\",VLOOKUP(City!B1466,miasta,4,0)))","v":""},null,null,null,"","","","","","","","","","","",""]
[null,null,null,null,"",{"$f":"IF(ISERROR(VLOOKUP(City!B1467,miasta,4,0)),\"\",IF(VLOOKUP(City!B1467,miasta,4,0)=\"\",\"\",VLOOKUP(City!B1467,miasta,4,0)))","v":""},null,null,null,"","","","","","","","","","","",""]
[null,null,null,null,"",{"$f":"IF(ISERROR(VLOOKUP(City!B1468,miasta,4,0)),\"\",IF(VLOOKUP(City!B1468,miasta,4,0)=\"\",\"\",VLOOKUP(City!B1468,miasta,4,0)))","v":""},null,null,null,"","","","","","","","","","","",""]
[null,null,null,null,"",{"$f":"IF(ISERROR(VLOOKUP(City!B1469,miasta,4,0)),\"\",IF(VLOOKUP(City!B1469,miasta,4,0)=\"\",\"\",VLOOKUP(City!B1469,miasta,4,0)))","v":""},null,null,null,"","","","","","","","","","","",""]
[null,null,null,null,"",{"$f":"IF(ISERROR(VLOOKUP(City!B1470,miasta,4,0)),\"\",IF(VLOOKUP(City!B1470,miasta,4,0)=\"\",\"\",VLOOKUP(City!B1470,miasta,4,0)))","v":""},null,null,null,"","","","","","","","","","","",""]
[null,null,null,null,"",{"$f":"IF(ISERROR(VLOOKUP(City!B1471,miasta,4,0)),\"\",IF(VLOOKUP(City!B1471,miasta,4,0)=\"\",\"\",VLOOKUP(City!B1471,miasta,4,0)))","v":""},null,null,null,"","","","","","","","","","","",""]
[null,null,null,null,"",{"$f":"IF(ISERROR(VLOOKUP(City!B1472,miasta,4,0)),\"\",IF(VLOOKUP(City!B1472,miasta,4,0)=\"\",\"\",VLOOKUP(City!B1472,miasta,4,0)))","v":""},null,null,null,"","","","","","","","","","","",""]
[null,null,null,null,"",{"$f":"IF(ISERROR(VLOOKUP(City!B1473,miasta,4,0)),\"\",IF(VLOOKUP(City!B1473,miasta,4,0)=\"\",\"\",VLOOKUP(City!B1473,miasta,4,0)))","v":""},null,null,null,"","","","","","","","","","","",""]
[null,null,null,null,{"$f":"IF(ISERROR(VLOOKUP(B1474,miasta,3,0)),\"\",VLOOKUP(B1474,miasta,3,0))","v":""},{"$f":"IF(ISERROR(VLOOKUP(City!B1474,miasta,4,0)),\"\",IF(VLOOKUP(City!B1474,miasta,4,0)=\"\",\"\",VLOOKUP(City!B1474,miasta,4,0)))","v":""},null,null,null,"","","","","","","","","","","",""]
[null,null,null,null,"",{"$f":"IF(ISERROR(VLOOKUP(City!B1475,miasta,4,0)),\"\",IF(VLOOKUP(City!B1475,miasta,4,0)=\"\",\"\",VLOOKUP(City!B1475,miasta,4,0)))","v":""},null,null,null,{"$f":"IF(ISERROR(VLOOKUP(F1475,$G$2:$I$12,3,1)),\"\",VLOOKUP(F1475,$G$2:$I$12,3,1))","v":""},"","","","","","","","","","",""]
[null,null,null,null,"",{"$f":"IF(ISERROR(VLOOKUP(City!B1476,miasta,4,0)),\"\",IF(VLOOKUP(City!B1476,miasta,4,0)=\"\",\"\",VLOOKUP(City!B1476,miasta,4,0)))","v":""},null,null,null,"","","","","","","","","","","",""]
[null,null,null,null,"",{"$f":"IF(ISERROR(VLOOKUP(City!B1477,miasta,4,0)),\"\",IF(VLOOKUP(City!B1477,miasta,4,0)=\"\",\"\",VLOOKUP(City!B1477,miasta,4,0)))","v":""},null,null,null,"","","","","","","","","","","",""]
[null,null,null,null,"",{"$f":"IF(ISERROR(VLOOKUP(City!B1478,miasta,4,0)),\"\",IF(VLOOKUP(City!B1478,miasta,4,0)=\"\",\"\",VLOOKUP(City!B1478,miasta,4,0)))","v":""},null,null,null,"","","","","","",{"$f":"IF($J1478=COLUMN(P1478)-10,$E1478,\"\")","v":""},"","","","",""]
[null,null,null,null,"",{"$f":"IF(ISERROR(VLOOKUP(City!B1479,miasta,4,0)),\"\",IF(VLOOKUP(City!B1479,miasta,4,0)=\"\",\"\",VLOOKUP(City!B1479,miasta,4,0)))","v":""},null,null,null,"","","","","","","","","","","",""]
[null,null,null,null,"",{"$f":"IF(ISERROR(VLOOKUP(City!B1480,miasta,4,0)),\"\",IF(VLOOKUP(City!B1480,miasta,4,0)=\"\",\"\",VLOOKUP(City!B1480,miasta,4,0)))","v":""},null,null,null,"","","","","","","","","","","",""]
[null,null,null,null,"",{"$f":"IF(ISERROR(VLOOKUP(City!B1481,miasta,4,0)),\"\",IF(VLOOKUP(City!B1481,miasta,4,0)=\"\",\"\",VLOOKUP(City!B1481,miasta,4,0)))","v":""},null,null,null,"","","","","","","","","","","",""]
[null,null,null,null,"",{"$f":"IF(ISERROR(VLOOKUP(City!B1482,miasta,4,0)),\"\",IF(VLOOKUP(City!B1482,miasta,4,0)=\"\",\"\",VLOOKUP(City!B1482,miasta,4,0)))","v":""},null,null,null,"","","","","","","","","","","",""]
[null,null,null,null,"",{"$f":"IF(ISERROR(VLOOKUP(City!B1483,miasta,4,0)),\"\",IF(VLOOKUP(City!B1483,miasta,4,0)=\"\",\"\",VLOOKUP(City!B1483,miasta,4,0)))","v":""},null,null,null,"","","","","","","","","","","",""]
[null,null,null,null,"",{"$f":"IF(ISERROR(VLOOKUP(City!B1484,miasta,4,0)),\"\",IF(VLOOKUP(City!B1484,miasta,4,0)=\"\",\"\",VLOOKUP(City!B1484,miasta,4,0)))","v":""},null,null,null,"","","","","","","","","","","",""]
[null,null,null,null,"",{"$f":"IF(ISERROR(VLOOKUP(City!B1485,miasta,4,0)),\"\",IF(VLOOKUP(City!B1485,miasta,4,0)=\"\",\"\",VLOOKUP(City!B1485,miasta,4,0)))","v":""},null,null,null,"","","","","","","","","","","",""]
[null,null,null,null,"",{"$f":"IF(ISERROR(VLOOKUP(City!B1486,miasta,4,0)),\"\",IF(VLOOKUP(City!B1486,miasta,4,0)=\"\",\"\",VLOOKUP(City!B1486,miasta,4,0)))","v":""},null,null,null,"","","","","","","","","","","",""]
[null,null,null,null,"",{"$f":"IF(ISERROR(VLOOKUP(City!B1487,miasta,4,0)),\"\",IF(VLOOKUP(City!B1487,miasta,4,0)=\"\",\"\",VLOOKUP(City!B1487,miasta,4,0)))","v":""},null,null,null,"","","","","","","","","","","",""]
[null,null,null,null,"",{"$f":"IF(ISERROR(VLOOKUP(City!B1488,miasta,4,0)),\"\",IF(VLOOKUP(City!B1488,miasta,4,0)=\"\",\"\",VLOOKUP(City!B1488,miasta,4,0)))","v":""},null,null,null,"","","","","","","","","","","",""]
[null,null,null,null,"",{"$f":"IF(ISERROR(VLOOKUP(City!B1489,miasta,4,0)),\"\",IF(VLOOKUP(City!B1489,miasta,4,0)=\"\",\"\",VLOOKUP(City!B1489,miasta,4,0)))","v":""},null,null,null,"","","","","","","","","","","",""]
[null,null,null,null,"",{"$f":"IF(ISERROR(VLOOKUP(City!B1490,miasta,4,0)),\"\",IF(VLOOKUP(City!B1490,miasta,4,0)=\"\",\"\",VLOOKUP(City!B1490,miasta,4,0)))","v":""},null,null,null,"","","","","","","","","","","",""]
[null,null,null,null,"",{"$f":"IF(ISERROR(VLOOKUP(City!B1491,miasta,4,0)),\"\",IF(VLOOKUP(City!B1491,miasta,4,0)=\"\",\"\",VLOOKUP(City!B1491,miasta,4,0)))","v":""},null,null,null,"","","","","","","","","","","",""]
[null,null,null,null,"",{"$f":"IF(ISERROR(VLOOKUP(City!B1492,miasta,4,0)),\"\",IF(VLOOKUP(City!B1492,miasta,4,0)=\"\",\"\",VLOOKUP(City!B1492,miasta,4,0)))","v":""},null,null,null,"","","","","","","","","","","",""]
[null,null,null,null,"",{"$f":"IF(ISERROR(VLOOKUP(City!B1493,miasta,4,0)),\"\",IF(VLOOKUP(City!B1493,miasta,4,0)=\"\",\"\",VLOOKUP(City!B1493,miasta,4,0)))","v":""},null,null,null,"","","","","","","","","","","",""]
[null,null,null,null,"",{"$f":"IF(ISERROR(VLOOKUP(City!B1494,miasta,4,0)),\"\",IF(VLOOKUP(City!B1494,miasta,4,0)=\"\",\"\",VLOOKUP(City!B1494,miasta,4,0)))","v":""},null,null,null,"","","","","","","","","","","",""]
[null,null,null,null,"",{"$f":"IF(ISERROR(VLOOKUP(City!B1495,miasta,4,0)),\"\",IF(VLOOKUP(City!B1495,miasta,4,0)=\"\",\"\",VLOOKUP(City!B1495,miasta,4,0)))","v":""},null,null,null,"","","","","","","","","","","",""]
[null,null,null,null,"",{"$f":"IF(ISERROR(VLOOKUP(City!B1496,miasta,4,0)),\"\",IF(VLOOKUP(City!B1496,miasta,4,0)=\"\",\"\",VLOOKUP(City!B1496,miasta,4,0)))","v":""},null,null,null,"","","","","","","","","","","",""]
[null,null,null,null,"",{"$f":"IF(ISERROR(VLOOKUP(City!B1497,miasta,4,0)),\"\",IF(VLOOKUP(City!B1497,miasta,4,0)=\"\",\"\",VLOOKUP(City!B1497,miasta,4,0)))","v":""},null,null,null,"","","","","","","","","","","",""]
[null,null,null,null,"",{"$f":"IF(ISERROR(VLOOKUP(City!B1498,miasta,4,0)),\"\",IF(VLOOKUP(City!B1498,miasta,4,0)=\"\",\"\",VLOOKUP(City!B1498,miasta,4,0)))","v":""},null,null,null,"","","","","","","","","","","",""]
[null,null,null,null,"",{"$f":"IF(ISERROR(VLOOKUP(City!B1499,miasta,4,0)),\"\",IF(VLOOKUP(City!B1499,miasta,4,0)=\"\",\"\",VLOOKUP(City!B1499,miasta,4,0)))","v":""},null,null,null,"","","","","","","","","","","",""]
[null,null,null,null,"",{"$f":"IF(ISERROR(VLOOKUP(City!B1500,miasta,4,0)),\"\",IF(VLOOKUP(City!B1500,miasta,4,0)=\"\",\"\",VLOOKUP(City!B1500,miasta,4,0)))","v":""},null,null,null,"","","","","","","","","","","",""]
[null,null,null,null,"",{"$f":"IF(ISERROR(VLOOKUP(City!B1501,miasta,4,0)),\"\",IF(VLOOKUP(City!B1501,miasta,4,0)=\"\",\"\",VLOOKUP(City!B1501,miasta,4,0)))","v":""},null,null,null,"","","","","","","","","","","",""]
[null,null,null,null,"",{"$f":"IF(ISERROR(VLOOKUP(City!B1502,miasta,4,0)),\"\",IF(VLOOKUP(City!B1502,miasta,4,0)=\"\",\"\",VLOOKUP(City!B1502,miasta,4,0)))","v":""},null,null,null,"","","","","","","","","","","",""]
[null,null,null,null,"",{"$f":"IF(ISERROR(VLOOKUP(City!B1503,miasta,4,0)),\"\",IF(VLOOKUP(City!B1503,miasta,4,0)=\"\",\"\",VLOOKUP(City!B1503,miasta,4,0)))","v":""},null,null,null,"","","","","","","","","","","",""]
[null,null,null,null,"",{"$f":"IF(ISERROR(VLOOKUP(City!B1504,miasta,4,0)),\"\",IF(VLOOKUP(City!B1504,miasta,4,0)=\"\",\"\",VLOOKUP(City!B1504,miasta,4,0)))","v":""},null,null,null,"","","","","","","","","","","",""]
[null,null,null,null,"",{"$f":"IF(ISERROR(VLOOKUP(City!B1505,miasta,4,0)),\"\",IF(VLOOKUP(City!B1505,miasta,4,0)=\"\",\"\",VLOOKUP(City!B1505,miasta,4,0)))","v":""},null,null,null,"","","","","","","","","","","",""]
[null,null,null,null,"",{"$f":"IF(ISERROR(VLOOKUP(City!B1506,miasta,4,0)),\"\",IF(VLOOKUP(City!B1506,miasta,4,0)=\"\",\"\",VLOOKUP(City!B1506,miasta,4,0)))","v":""},null,null,null,"","","","","","","","","","","",""]
[null,null,null,null,"",{"$f":"IF(ISERROR(VLOOKUP(City!B1507,miasta,4,0)),\"\",IF(VLOOKUP(City!B1507,miasta,4,0)=\"\",\"\",VLOOKUP(City!B1507,miasta,4,0)))","v":""},null,null,null,"","","","","","","","","","","",""]
[null,null,null,null,"",{"$f":"IF(ISERROR(VLOOKUP(City!B1508,miasta,4,0)),\"\",IF(VLOOKUP(City!B1508,miasta,4,0)=\"\",\"\",VLOOKUP(City!B1508,miasta,4,0)))","v":""},null,null,null,"","","","","","","","","","","",""]
[null,null,null,null,"",{"$f":"IF(ISERROR(VLOOKUP(City!B1509,miasta,4,0)),\"\",IF(VLOOKUP(City!B1509,miasta,4,0)=\"\",\"\",VLOOKUP(City!B1509,miasta,4,0)))","v":""},null,null,null,"","","","","","","","","","","",""]
[null,null,null,null,"",{"$f":"IF(ISERROR(VLOOKUP(City!B1510,miasta,4,0)),\"\",IF(VLOOKUP(City!B1510,miasta,4,0)=\"\",\"\",VLOOKUP(City!B1510,miasta,4,0)))","v":""},null,null,null,"","","","","","","","","","","",""]
[null,null,null,null,"",{"$f":"IF(ISERROR(VLOOKUP(City!B1511,miasta,4,0)),\"\",IF(VLOOKUP(City!B1511,miasta,4,0)=\"\",\"\",VLOOKUP(City!B1511,miasta,4,0)))","v":""},null,null,null,"","","","","","","","","","","",""]
[null,null,null,null,"",{"$f":"IF(ISERROR(VLOOKUP(City!B1512,miasta,4,0)),\"\",IF(VLOOKUP(City!B1512,miasta,4,0)=\"\",\"\",VLOOKUP(City!B1512,miasta,4,0)))","v":""},null,null,null,"","","","","","","","","","","",""]
[null,null,null,null,"",{"$f":"IF(ISERROR(VLOOKUP(City!B1513,miasta,4,0)),\"\",IF(VLOOKUP(City!B1513,miasta,4,0)=\"\",\"\",VLOOKUP(City!B1513,miasta,4,0)))","v":""},null,null,null,"","","","","","","","","","","",""]
[null,null,null,null,"",{"$f":"IF(ISERROR(VLOOKUP(City!B1514,miasta,4,0)),\"\",IF(VLOOKUP(City!B1514,miasta,4,0)=\"\",\"\",VLOOKUP(City!B1514,miasta,4,0)))","v":""},null,null,null,"","","","","","","","","","","",""]
[null,null,null,null,"",{"$f":"IF(ISERROR(VLOOKUP(City!B1515,miasta,4,0)),\"\",IF(VLOOKUP(City!B1515,miasta,4,0)=\"\",\"\",VLOOKUP(City!B1515,miasta,4,0)))","v":""},null,null,null,"",{"$f":"IF($J1515=COLUMN(K1515)-10,$E1515,\"\")","v":""},"","","","","","","","","",""]
[null,null,null,null,"",{"$f":"IF(ISERROR(VLOOKUP(City!B1516,miasta,4,0)),\"\",IF(VLOOKUP(City!B1516,miasta,4,0)=\"\",\"\",VLOOKUP(City!B1516,miasta,4,0)))","v":""},null,null,null,"","","","","","","","","","","",""]
[null,null,null,null,"",{"$f":"IF(ISERROR(VLOOKUP(City!B1517,miasta,4,0)),\"\",IF(VLOOKUP(City!B1517,miasta,4,0)=\"\",\"\",VLOOKUP(City!B1517,miasta,4,0)))","v":""},null,null,null,"","","","","","","","","","","",""]
[null,null,null,null,"",{"$f":"IF(ISERROR(VLOOKUP(City!B1518,miasta,4,0)),\"\",IF(VLOOKUP(City!B1518,miasta,4,0)=\"\",\"\",VLOOKUP(City!B1518,miasta,4,0)))","v":""},null,null,null,"","","","","","","","","","","",""]
[null,null,null,null,"",{"$f":"IF(ISERROR(VLOOKUP(City!B1519,miasta,4,0)),\"\",IF(VLOOKUP(City!B1519,miasta,4,0)=\"\",\"\",VLOOKUP(City!B1519,miasta,4,0)))","v":""},null,null,null,"","","","","","","","","","","",""]
[null,null,null,null,"",{"$f":"IF(ISERROR(VLOOKUP(City!B1520,miasta,4,0)),\"\",IF(VLOOKUP(City!B1520,miasta,4,0)=\"\",\"\",VLOOKUP(City!B1520,miasta,4,0)))","v":""},null,null,null,"","","","","","","","","",{"$f":"IF($J1520=COLUMN(S1520)-10,$E1520,\"\")","v":""},"",""]
[null,null,null,null,"",{"$f":"IF(ISERROR(VLOOKUP(City!B1521,miasta,4,0)),\"\",IF(VLOOKUP(City!B1521,miasta,4,0)=\"\",\"\",VLOOKUP(City!B1521,miasta,4,0)))","v":""},null,null,null,"","","","","","","","","","","",""]
[null,null,null,null,"",{"$f":"IF(ISERROR(VLOOKUP(City!B1522,miasta,4,0)),\"\",IF(VLOOKUP(City!B1522,miasta,4,0)=\"\",\"\",VLOOKUP(City!B1522,miasta,4,0)))","v":""},null,null,null,"","","","","","","","","","","",""]
[null,null,null,null,"",{"$f":"IF(ISERROR(VLOOKUP(City!B1523,miasta,4,0)),\"\",IF(VLOOKUP(City!B1523,miasta,4,0)=\"\",\"\",VLOOKUP(City!B1523,miasta,4,0)))","v":""},null,null,null,"","","","","","","","","","","",""]
[null,null,null,null,"",{"$f":"IF(ISERROR(VLOOKUP(City!B1524,miasta,4,0)),\"\",IF(VLOOKUP(City!B1524,miasta,4,0)=\"\",\"\",VLOOKUP(City!B1524,miasta,4,0)))","v":""},null,null,null,"","","","","","","","","","","",""]
[null,null,null,null,"",{"$f":"IF(ISERROR(VLOOKUP(City!B1525,miasta,4,0)),\"\",IF(VLOOKUP(City!B1525,miasta,4,0)=\"\",\"\",VLOOKUP(City!B1525,miasta,4,0)))","v":""},null,null,null,"","","","","","","","","","","",""]
[null,null,null,null,"",{"$f":"IF(ISERROR(VLOOKUP(City!B1526,miasta,4,0)),\"\",IF(VLOOKUP(City!B1526,miasta,4,0)=\"\",\"\",VLOOKUP(City!B1526,miasta,4,0)))","v":""},null,null,null,"","","","","","","","","","","",""]
[null,null,null,null,"",{"$f":"IF(ISERROR(VLOOKUP(City!B1527,miasta,4,0)),\"\",IF(VLOOKUP(City!B1527,miasta,4,0)=\"\",\"\",VLOOKUP(City!B1527,miasta,4,0)))","v":""},null,null,null,"","","","","","","","","","","",""]
[null,null,null,null,"",{"$f":"IF(ISERROR(VLOOKUP(City!B1528,miasta,4,0)),\"\",IF(VLOOKUP(City!B1528,miasta,4,0)=\"\",\"\",VLOOKUP(City!B1528,miasta,4,0)))","v":""},null,null,null,"","","","","","","","","","","",""]
[null,null,null,null,"",{"$f":"IF(ISERROR(VLOOKUP(City!B1529,miasta,4,0)),\"\",IF(VLOOKUP(City!B1529,miasta,4,0)=\"\",\"\",VLOOKUP(City!B1529,miasta,4,0)))","v":""},null,null,null,"","","","","","","","","","","",""]
[null,null,null,null,"",{"$f":"IF(ISERROR(VLOOKUP(City!B1530,miasta,4,0)),\"\",IF(VLOOKUP(City!B1530,miasta,4,0)=\"\",\"\",VLOOKUP(City!B1530,miasta,4,0)))","v":""},null,null,null,"","","","","","","","","","","",""]
[null,null,null,null,"",{"$f":"IF(ISERROR(VLOOKUP(City!B1531,miasta,4,0)),\"\",IF(VLOOKUP(City!B1531,miasta,4,0)=\"\",\"\",VLOOKUP(City!B1531,miasta,4,0)))","v":""},null,null,null,"","","","","","","","","","","",""]
[null,null,null,null,"",{"$f":"IF(ISERROR(VLOOKUP(City!B1532,miasta,4,0)),\"\",IF(VLOOKUP(City!B1532,miasta,4,0)=\"\",\"\",VLOOKUP(City!B1532,miasta,4,0)))","v":""},null,null,null,"","","","","","","","","","","",""]
[null,null,null,null,"",{"$f":"IF(ISERROR(VLOOKUP(City!B1533,miasta,4,0)),\"\",IF(VLOOKUP(City!B1533,miasta,4,0)=\"\",\"\",VLOOKUP(City!B1533,miasta,4,0)))","v":""},null,null,null,"","","","","","","","","","","",""]
[null,null,null,null,"",{"$f":"IF(ISERROR(VLOOKUP(City!B1534,miasta,4,0)),\"\",IF(VLOOKUP(City!B1534,miasta,4,0)=\"\",\"\",VLOOKUP(City!B1534,miasta,4,0)))","v":""},null,null,null,"","","","","","","","","","","",""]
[null,null,null,null,"",{"$f":"IF(ISERROR(VLOOKUP(City!B1535,miasta,4,0)),\"\",IF(VLOOKUP(City!B1535,miasta,4,0)=\"\",\"\",VLOOKUP(City!B1535,miasta,4,0)))","v":""},null,null,null,"","","","","","","","","","","",""]
[null,null,null,null,"",{"$f":"IF(ISERROR(VLOOKUP(City!B1536,miasta,4,0)),\"\",IF(VLOOKUP(City!B1536,miasta,4,0)=\"\",\"\",VLOOKUP(City!B1536,miasta,4,0)))","v":""},null,null,null,"","","","","","","","","","","",""]
[null,null,null,null,"",{"$f":"IF(ISERROR(VLOOKUP(City!B1537,miasta,4,0)),\"\",IF(VLOOKUP(City!B1537,miasta,4,0)=\"\",\"\",VLOOKUP(City!B1537,miasta,4,0)))","v":""},null,null,null,"","","","","","","","","","","",""]
[null,null,null,null,{"$f":"IF(ISERROR(VLOOKUP(B1538,miasta,3,0)),\"\",VLOOKUP(B1538,miasta,3,0))","v":""},{"$f":"IF(ISERROR(VLOOKUP(City!B1538,miasta,4,0)),\"\",IF(VLOOKUP(City!B1538,miasta,4,0)=\"\",\"\",VLOOKUP(City!B1538,miasta,4,0)))","v":""},null,null,null,"","","","","","","","","","","",""]
[null,null,null,null,"",{"$f":"IF(ISERROR(VLOOKUP(City!B1539,miasta,4,0)),\"\",IF(VLOOKUP(City!B1539,miasta,4,0)=\"\",\"\",VLOOKUP(City!B1539,miasta,4,0)))","v":""},null,null,null,{"$f":"IF(ISERROR(VLOOKUP(F1539,$G$2:$I$12,3,1)),\"\",VLOOKUP(F1539,$G$2:$I$12,3,1))","v":""},"","","","","","","","","","",""]
[null,null,null,null,"",{"$f":"IF(ISERROR(VLOOKUP(City!B1540,miasta,4,0)),\"\",IF(VLOOKUP(City!B1540,miasta,4,0)=\"\",\"\",VLOOKUP(City!B1540,miasta,4,0)))","v":""},null,null,null,"","","","","","","","","","","",""]
[null,null,null,null,"",{"$f":"IF(ISERROR(VLOOKUP(City!B1541,miasta,4,0)),\"\",IF(VLOOKUP(City!B1541,miasta,4,0)=\"\",\"\",VLOOKUP(City!B1541,miasta,4,0)))","v":""},null,null,null,"","","","","","","","","","","",""]
[null,null,null,null,"",{"$f":"IF(ISERROR(VLOOKUP(City!B1542,miasta,4,0)),\"\",IF(VLOOKUP(City!B1542,miasta,4,0)=\"\",\"\",VLOOKUP(City!B1542,miasta,4,0)))","v":""},null,null,null,"","","","","","","","","","","",""]
[null,null,null,null,"",{"$f":"IF(ISERROR(VLOOKUP(City!B1543,miasta,4,0)),\"\",IF(VLOOKUP(City!B1543,miasta,4,0)=\"\",\"\",VLOOKUP(City!B1543,miasta,4,0)))","v":""},null,null,null,"","","","","","","","","","","",""]
[null,null,null,null,"",{"$f":"IF(ISERROR(VLOOKUP(City!B1544,miasta,4,0)),\"\",IF(VLOOKUP(City!B1544,miasta,4,0)=\"\",\"\",VLOOKUP(City!B1544,miasta,4,0)))","v":""},null,null,null,"","","","","","","","","","","",""]
[null,null,null,null,"",{"$f":"IF(ISERROR(VLOOKUP(City!B1545,miasta,4,0)),\"\",IF(VLOOKUP(City!B1545,miasta,4,0)=\"\",\"\",VLOOKUP(City!B1545,miasta,4,0)))","v":""},null,null,null,"","","","","","","","","","","",""]
[null,null,null,null,"",{"$f":"IF(ISERROR(VLOOKUP(City!B1546,miasta,4,0)),\"\",IF(VLOOKUP(City!B1546,miasta,4,0)=\"\",\"\",VLOOKUP(City!B1546,miasta,4,0)))","v":""},null,null,null,"","","","","","","","","","","",""]
[null,null,null,null,"",{"$f":"IF(ISERROR(VLOOKUP(City!B1547,miasta,4,0)),\"\",IF(VLOOKUP(City!B1547,miasta,4,0)=\"\",\"\",VLOOKUP(City!B1547,miasta,4,0)))","v":""},null,null,null,"","","","","","","","","","","",""]
[null,null,null,null,"",{"$f":"IF(ISERROR(VLOOKUP(City!B1548,miasta,4,0)),\"\",IF(VLOOKUP(City!B1548,miasta,4,0)=\"\",\"\",VLOOKUP(City!B1548,miasta,4,0)))","v":""},null,null,null,"","","","","","","","","","","",""]
[null,null,null,null,"",{"$f":"IF(ISERROR(VLOOKUP(City!B1549,miasta,4,0)),\"\",IF(VLOOKUP(City!B1549,miasta,4,0)=\"\",\"\",VLOOKUP(City!B1549,miasta,4,0)))","v":""},null,null,null,"","",{"$f":"IF($J1549=COLUMN(L1549)-10,$E1549,\"\")","v":""},"","","","","","","","",""]
[null,null,null,null,"",{"$f":"IF(ISERROR(VLOOKUP(City!B1550,miasta,4,0)),\"\",IF(VLOOKUP(City!B1550,miasta,4,0)=\"\",\"\",VLOOKUP(City!B1550,miasta,4,0)))","v":""},null,null,null,"",{"$f":"IF($J1550=COLUMN(K1550)-10,$E1550,\"\")","v":""},"","","","","","","","","",""]
[null,null,null,null,"",{"$f":"IF(ISERROR(VLOOKUP(City!B1551,miasta,4,0)),\"\",IF(VLOOKUP(City!B1551,miasta,4,0)=\"\",\"\",VLOOKUP(City!B1551,miasta,4,0)))","v":""},null,null,null,"","","","","","","","","","","",""]
[null,null,null,null,"",{"$f":"IF(ISERROR(VLOOKUP(City!B1552,miasta,4,0)),\"\",IF(VLOOKUP(City!B1552,miasta,4,0)=\"\",\"\",VLOOKUP(City!B1552,miasta,4,0)))","v":""},null,null,null,"","","","","","","","","","","",""]
[null,null,null,null,"",{"$f":"IF(ISERROR(VLOOKUP(City!B1553,miasta,4,0)),\"\",IF(VLOOKUP(City!B1553,miasta,4,0)=\"\",\"\",VLOOKUP(City!B1553,miasta,4,0)))","v":""},null,null,null,"","","","","","","","","","","",""]
[null,null,null,null,"",{"$f":"IF(ISERROR(VLOOKUP(City!B1554,miasta,4,0)),\"\",IF(VLOOKUP(City!B1554,miasta,4,0)=\"\",\"\",VLOOKUP(City!B1554,miasta,4,0)))","v":""},null,null,null,"","","","","","","","","","","",""]
[null,null,null,null,"",{"$f":"IF(ISERROR(VLOOKUP(City!B1555,miasta,4,0)),\"\",IF(VLOOKUP(City!B1555,miasta,4,0)=\"\",\"\",VLOOKUP(City!B1555,miasta,4,0)))","v":""},null,null,null,"","","","","","","","","","","",""]
[null,null,null,null,"",{"$f":"IF(ISERROR(VLOOKUP(City!B1556,miasta,4,0)),\"\",IF(VLOOKUP(City!B1556,miasta,4,0)=\"\",\"\",VLOOKUP(City!B1556,miasta,4,0)))","v":""},null,null,null,"","","","","","","","","","","",""]
[null,null,null,null,"",{"$f":"IF(ISERROR(VLOOKUP(City!B1557,miasta,4,0)),\"\",IF(VLOOKUP(City!B1557,miasta,4,0)=\"\",\"\",VLOOKUP(City!B1557,miasta,4,0)))","v":""},null,null,null,"","","","","","","","","","","",""]
[null,null,null,null,"",{"$f":"IF(ISERROR(VLOOKUP(City!B1558,miasta,4,0)),\"\",IF(VLOOKUP(City!B1558,miasta,4,0)=\"\",\"\",VLOOKUP(City!B1558,miasta,4,0)))","v":""},null,null,null,"","","","","","","","","","","",""]
[null,null,null,null,"",{"$f":"IF(ISERROR(VLOOKUP(City!B1559,miasta,4,0)),\"\",IF(VLOOKUP(City!B1559,miasta,4,0)=\"\",\"\",VLOOKUP(City!B1559,miasta,4,0)))","v":""},null,null,null,"","","","","","","","","","","",""]
[null,null,null,null,"",{"$f":"IF(ISERROR(VLOOKUP(City!B1560,miasta,4,0)),\"\",IF(VLOOKUP(City!B1560,miasta,4,0)=\"\",\"\",VLOOKUP(City!B1560,miasta,4,0)))","v":""},null,null,null,"","","","","","","","","","","",""]
[null,null,null,null,"",{"$f":"IF(ISERROR(VLOOKUP(City!B1561,miasta,4,0)),\"\",IF(VLOOKUP(City!B1561,miasta,4,0)=\"\",\"\",VLOOKUP(City!B1561,miasta,4,0)))","v":""},null,null,null,"","","","","","","","","","","",""]
[null,null,null,null,"",{"$f":"IF(ISERROR(VLOOKUP(City!B1562,miasta,4,0)),\"\",IF(VLOOKUP(City!B1562,miasta,4,0)=\"\",\"\",VLOOKUP(City!B1562,miasta,4,0)))","v":""},null,null,null,"","","","","","","","","","","",""]
[null,null,null,null,"",{"$f":"IF(ISERROR(VLOOKUP(City!B1563,miasta,4,0)),\"\",IF(VLOOKUP(City!B1563,miasta,4,0)=\"\",\"\",VLOOKUP(City!B1563,miasta,4,0)))","v":""},null,null,null,"","","","","","","","","","","",""]
[null,null,null,null,"",{"$f":"IF(ISERROR(VLOOKUP(City!B1564,miasta,4,0)),\"\",IF(VLOOKUP(City!B1564,miasta,4,0)=\"\",\"\",VLOOKUP(City!B1564,miasta,4,0)))","v":""},null,null,null,"","","","","","","","","","","",""]
[null,null,null,null,"",{"$f":"IF(ISERROR(VLOOKUP(City!B1565,miasta,4,0)),\"\",IF(VLOOKUP(City!B1565,miasta,4,0)=\"\",\"\",VLOOKUP(City!B1565,miasta,4,0)))","v":""},null,null,null,"","","","","","","","","","","",""]
[null,null,null,null,"",{"$f":"IF(ISERROR(VLOOKUP(City!B1566,miasta,4,0)),\"\",IF(VLOOKUP(City!B1566,miasta,4,0)=\"\",\"\",VLOOKUP(City!B1566,miasta,4,0)))","v":""},null,null,null,"","","","","","","","","","","",""]
[null,null,null,null,"",{"$f":"IF(ISERROR(VLOOKUP(City!B1567,miasta,4,0)),\"\",IF(VLOOKUP(City!B1567,miasta,4,0)=\"\",\"\",VLOOKUP(City!B1567,miasta,4,0)))","v":""},null,null,null,"","","","","","","","","","","",""]
[null,null,null,null,"",{"$f":"IF(ISERROR(VLOOKUP(City!B1568,miasta,4,0)),\"\",IF(VLOOKUP(City!B1568,miasta,4,0)=\"\",\"\",VLOOKUP(City!B1568,miasta,4,0)))","v":""},null,null,null,"","","","","","","","","","","",""]
[null,null,null,null,"",{"$f":"IF(ISERROR(VLOOKUP(City!B1569,miasta,4,0)),\"\",IF(VLOOKUP(City!B1569,miasta,4,0)=\"\",\"\",VLOOKUP(City!B1569,miasta,4,0)))","v":""},null,null,null,"","","","","","","","","","","",""]
[null,null,null,null,"",{"$f":"IF(ISERROR(VLOOKUP(City!B1570,miasta,4,0)),\"\",IF(VLOOKUP(City!B1570,miasta,4,0)=\"\",\"\",VLOOKUP(City!B1570,miasta,4,0)))","v":""},null,null,null,"","","","","","","","","","","",""]
[null,null,null,null,"",{"$f":"IF(ISERROR(VLOOKUP(City!B1571,miasta,4,0)),\"\",IF(VLOOKUP(City!B1571,miasta,4,0)=\"\",\"\",VLOOKUP(City!B1571,miasta,4,0)))","v":""},null,null,null,"","","","","","","","","","","",""]
[null,null,null,null,"",{"$f":"IF(ISERROR(VLOOKUP(City!B1572,miasta,4,0)),\"\",IF(VLOOKUP(City!B1572,miasta,4,0)=\"\",\"\",VLOOKUP(City!B1572,miasta,4,0)))","v":""},null,null,null,"","","","","","","","","","","",""]
[null,null,null,null,"",{"$f":"IF(ISERROR(VLOOKUP(City!B1573,miasta,4,0)),\"\",IF(VLOOKUP(City!B1573,miasta,4,0)=\"\",\"\",VLOOKUP(City!B1573,miasta,4,0)))","v":""},null,null,null,"","","","","","","","","","","",""]
[null,null,null,null,"",{"$f":"IF(ISERROR(VLOOKUP(City!B1574,miasta,4,0)),\"\",IF(VLOOKUP(City!B1574,miasta,4,0)=\"\",\"\",VLOOKUP(City!B1574,miasta,4,0)))","v":""},null,null,null,"","","","","","","","","","","",""]
[null,null,null,null,"",{"$f":"IF(ISERROR(VLOOKUP(City!B1575,miasta,4,0)),\"\",IF(VLOOKUP(City!B1575,miasta,4,0)=\"\",\"\",VLOOKUP(City!B1575,miasta,4,0)))","v":""},null,null,null,"","","","","","","","","","","",""]
[null,null,null,null,"",{"$f":"IF(ISERROR(VLOOKUP(City!B1576,miasta,4,0)),\"\",IF(VLOOKUP(City!B1576,miasta,4,0)=\"\",\"\",VLOOKUP(City!B1576,miasta,4,0)))","v":""},null,null,null,"","","","","","","","","","","",""]
[null,null,null,null,"",{"$f":"IF(ISERROR(VLOOKUP(City!B1577,miasta,4,0)),\"\",IF(VLOOKUP(City!B1577,miasta,4,0)=\"\",\"\",VLOOKUP(City!B1577,miasta,4,0)))","v":""},null,null,null,"","","","","","","","","","","",""]
[null,null,null,null,"",{"$f":"IF(ISERROR(VLOOKUP(City!B1578,miasta,4,0)),\"\",IF(VLOOKUP(City!B1578,miasta,4,0)=\"\",\"\",VLOOKUP(City!B1578,miasta,4,0)))","v":""},null,null,null,"","","","","","","","","","","",""]
[null,null,null,null,"",{"$f":"IF(ISERROR(VLOOKUP(City!B1579,miasta,4,0)),\"\",IF(VLOOKUP(City!B1579,miasta,4,0)=\"\",\"\",VLOOKUP(City!B1579,miasta,4,0)))","v":""},null,null,null,"","","","","","","","","","","",""]
[null,null,null,null,"",{"$f":"IF(ISERROR(VLOOKUP(City!B1580,miasta,4,0)),\"\",IF(VLOOKUP(City!B1580,miasta,4,0)=\"\",\"\",VLOOKUP(City!B1580,miasta,4,0)))","v":""},null,null,null,"","","","","","","","","","","",""]
[null,null,null,null,"",{"$f":"IF(ISERROR(VLOOKUP(City!B1581,miasta,4,0)),\"\",IF(VLOOKUP(City!B1581,miasta,4,0)=\"\",\"\",VLOOKUP(City!B1581,miasta,4,0)))","v":""},null,null,null,"","","","","","","","","","","",""]
[null,null,null,null,"",{"$f":"IF(ISERROR(VLOOKUP(City!B1582,miasta,4,0)),\"\",IF(VLOOKUP(City!B1582,miasta,4,0)=\"\",\"\",VLOOKUP(City!B1582,miasta,4,0)))","v":""},null,null,null,"","","","","","","","","","","",""]
[null,null,null,null,"",{"$f":"IF(ISERROR(VLOOKUP(City!B1583,miasta,4,0)),\"\",IF(VLOOKUP(City!B1583,miasta,4,0)=\"\",\"\",VLOOKUP(City!B1583,miasta,4,0)))","v":""},null,null,null,"","","","","","","","","","","",""]
[null,null,null,null,"",{"$f":"IF(ISERROR(VLOOKUP(City!B1584,miasta,4,0)),\"\",IF(VLOOKUP(City!B1584,miasta,4,0)=\"\",\"\",VLOOKUP(City!B1584,miasta,4,0)))","v":""},null,null,null,"","","","","","","","","","","",""]
[null,null,null,null,"",{"$f":"IF(ISERROR(VLOOKUP(City!B1585,miasta,4,0)),\"\",IF(VLOOKUP(City!B1585,miasta,4,0)=\"\",\"\",VLOOKUP(City!B1585,miasta,4,0)))","v":""},null,null,null,"","","","","","","","","","","",""]
[null,null,null,null,"",{"$f":"IF(ISERROR(VLOOKUP(City!B1586,miasta,4,0)),\"\",IF(VLOOKUP(City!B1586,miasta,4,0)=\"\",\"\",VLOOKUP(City!B1586,miasta,4,0)))","v":""},null,null,null,"","","","","","","","","","","",""]
[null,null,null,null,"",{"$f":"IF(ISERROR(VLOOKUP(City!B1587,miasta,4,0)),\"\",IF(VLOOKUP(City!B1587,miasta,4,0)=\"\",\"\",VLOOKUP(City!B1587,miasta,4,0)))","v":""},null,null,null,"","","","","","","","","","","",""]
[null,null,null,null,"",{"$f":"IF(ISERROR(VLOOKUP(City!B1588,miasta,4,0)),\"\",IF(VLOOKUP(City!B1588,miasta,4,0)=\"\",\"\",VLOOKUP(City!B1588,miasta,4,0)))","v":""},null,null,null,"","","","","","","","","","","",""]
[null,null,null,null,"",{"$f":"IF(ISERROR(VLOOKUP(City!B1589,miasta,4,0)),\"\",IF(VLOOKUP(City!B1589,miasta,4,0)=\"\",\"\",VLOOKUP(City!B1589,miasta,4,0)))","v":""},null,null,null,"","","","","","","","","","","",""]
[null,null,null,null,"",{"$f":"IF(ISERROR(VLOOKUP(City!B1590,miasta,4,0)),\"\",IF(VLOOKUP(City!B1590,miasta,4,0)=\"\",\"\",VLOOKUP(City!B1590,miasta,4,0)))","v":""},null,null,null,"","","","","","","","","","","",""]
[null,null,null,null,"",{"$f":"IF(ISERROR(VLOOKUP(City!B1591,miasta,4,0)),\"\",IF(VLOOKUP(City!B1591,miasta,4,0)=\"\",\"\",VLOOKUP(City!B1591,miasta,4,0)))","v":""},null,null,null,"","","","","","","","","","","",""]
[null,null,null,null,"",{"$f":"IF(ISERROR(VLOOKUP(City!B1592,miasta,4,0)),\"\",IF(VLOOKUP(City!B1592,miasta,4,0)=\"\",\"\",VLOOKUP(City!B1592,miasta,4,0)))","v":""},null,null,null,"","","","","","","","","","","",""]
[null,null,null,null,"",{"$f":"IF(ISERROR(VLOOKUP(City!B1593,miasta,4,0)),\"\",IF(VLOOKUP(City!B1593,miasta,4,0)=\"\",\"\",VLOOKUP(City!B1593,miasta,4,0)))","v":""},null,null,null,"","","","","","","","","","","",""]
[null,null,null,null,"",{"$f":"IF(ISERROR(VLOOKUP(City!B1594,miasta,4,0)),\"\",IF(VLOOKUP(City!B1594,miasta,4,0)=\"\",\"\",VLOOKUP(City!B1594,miasta,4,0)))","v":""},null,null,null,"","","","","","","","","","","",""]
[null,null,null,null,"",{"$f":"IF(ISERROR(VLOOKUP(City!B1595,miasta,4,0)),\"\",IF(VLOOKUP(City!B1595,miasta,4,0)=\"\",\"\",VLOOKUP(City!B1595,miasta,4,0)))","v":""},null,null,null,"","","","","","","","","","","",""]
[null,null,null,null,"",{"$f":"IF(ISERROR(VLOOKUP(City!B1596,miasta,4,0)),\"\",IF(VLOOKUP(City!B1596,miasta,4,0)=\"\",\"\",VLOOKUP(City!B1596,miasta,4,0)))","v":""},null,null,null,"","","","","","","","","","","",""]
[null,null,null,null,"",{"$f":"IF(ISERROR(VLOOKUP(City!B1597,miasta,4,0)),\"\",IF(VLOOKUP(City!B1597,miasta,4,0)=\"\",\"\",VLOOKUP(City!B1597,miasta,4,0)))","v":""},null,null,null,"","","","","","","","","","","",""]
[null,null,null,null,"",{"$f":"IF(ISERROR(VLOOKUP(City!B1598,miasta,4,0)),\"\",IF(VLOOKUP(City!B1598,miasta,4,0)=\"\",\"\",VLOOKUP(City!B1598,miasta,4,0)))","v":""},null,null,null,"","","","","","","","","","","",""]
[null,null,null,null,"",{"$f":"IF(ISERROR(VLOOKUP(City!B1599,miasta,4,0)),\"\",IF(VLOOKUP(City!B1599,miasta,4,0)=\"\",\"\",VLOOKUP(City!B1599,miasta,4,0)))","v":""},null,null,null,"","","","","","","","","","","",""]
[null,null,null,null,"",{"$f":"IF(ISERROR(VLOOKUP(City!B1600,miasta,4,0)),\"\",IF(VLOOKUP(City!B1600,miasta,4,0)=\"\",\"\",VLOOKUP(City!B1600,miasta,4,0)))","v":""},null,null,null,"","","","","","","","","","","",""]
[null,null,null,null,"",{"$f":"IF(ISERROR(VLOOKUP(City!B1601,miasta,4,0)),\"\",IF(VLOOKUP(City!B1601,miasta,4,0)=\"\",\"\",VLOOKUP(City!B1601,miasta,4,0)))","v":""},null,null,null,"","","","","","","","","","","",""]
[null,null,null,null,{"$f":"IF(ISERROR(VLOOKUP(B1602,miasta,3,0)),\"\",VLOOKUP(B1602,miasta,3,0))","v":""},{"$f":"IF(ISERROR(VLOOKUP(City!B1602,miasta,4,0)),\"\",IF(VLOOKUP(City!B1602,miasta,4,0)=\"\",\"\",VLOOKUP(City!B1602,miasta,4,0)))","v":""},null,null,null,"","","","","","","","","","","",""]
[null,null,null,null,"",{"$f":"IF(ISERROR(VLOOKUP(City!B1603,miasta,4,0)),\"\",IF(VLOOKUP(City!B1603,miasta,4,0)=\"\",\"\",VLOOKUP(City!B1603,miasta,4,0)))","v":""},null,null,null,{"$f":"IF(ISERROR(VLOOKUP(F1603,$G$2:$I$12,3,1)),\"\",VLOOKUP(F1603,$G$2:$I$12,3,1))","v":""},"","","","","","","","","","",""]
[null,null,null,null,"",{"$f":"IF(ISERROR(VLOOKUP(City!B1604,miasta,4,0)),\"\",IF(VLOOKUP(City!B1604,miasta,4,0)=\"\",\"\",VLOOKUP(City!B1604,miasta,4,0)))","v":""},null,null,null,"","","","","","","","","","","",""]
[null,null,null,null,"",{"$f":"IF(ISERROR(VLOOKUP(City!B1605,miasta,4,0)),\"\",IF(VLOOKUP(City!B1605,miasta,4,0)=\"\",\"\",VLOOKUP(City!B1605,miasta,4,0)))","v":""},null,null,null,"",{"$f":"IF($J1605=COLUMN(K1605)-10,$E1605,\"\")","v":""},"","","","","","","","","",""]
[null,null,null,null,"",{"$f":"IF(ISERROR(VLOOKUP(City!B1606,miasta,4,0)),\"\",IF(VLOOKUP(City!B1606,miasta,4,0)=\"\",\"\",VLOOKUP(City!B1606,miasta,4,0)))","v":""},null,null,null,"","","","","","","","","","","",""]
[null,null,null,null,"",{"$f":"IF(ISERROR(VLOOKUP(City!B1607,miasta,4,0)),\"\",IF(VLOOKUP(City!B1607,miasta,4,0)=\"\",\"\",VLOOKUP(City!B1607,miasta,4,0)))","v":""},null,null,null,"","","","","","","","","","","",""]
[null,null,null,null,"",{"$f":"IF(ISERROR(VLOOKUP(City!B1608,miasta,4,0)),\"\",IF(VLOOKUP(City!B1608,miasta,4,0)=\"\",\"\",VLOOKUP(City!B1608,miasta,4,0)))","v":""},null,null,null,"","","","","","","","","","","",""]
[null,null,null,null,"",{"$f":"IF(ISERROR(VLOOKUP(City!B1609,miasta,4,0)),\"\",IF(VLOOKUP(City!B1609,miasta,4,0)=\"\",\"\",VLOOKUP(City!B1609,miasta,4,0)))","v":""},null,null,null,"","","","","","","","","","","",""]
[null,null,null,null,"",{"$f":"IF(ISERROR(VLOOKUP(City!B1610,miasta,4,0)),\"\",IF(VLOOKUP(City!B1610,miasta,4,0)=\"\",\"\",VLOOKUP(City!B1610,miasta,4,0)))","v":""},null,null,null,"","","","","","","","","","","",""]
[null,null,null,null,"",{"$f":"IF(ISERROR(VLOOKUP(City!B1611,miasta,4,0)),\"\",IF(VLOOKUP(City!B1611,miasta,4,0)=\"\",\"\",VLOOKUP(City!B1611,miasta,4,0)))","v":""},null,null,null,"","","","","","","","","","","",""]
[null,null,null,null,"",{"$f":"IF(ISERROR(VLOOKUP(City!B1612,miasta,4,0)),\"\",IF(VLOOKUP(City!B1612,miasta,4,0)=\"\",\"\",VLOOKUP(City!B1612,miasta,4,0)))","v":""},null,null,null,"","","","","","","","","","","",""]
[null,null,null,null,"",{"$f":"IF(ISERROR(VLOOKUP(City!B1613,miasta,4,0)),\"\",IF(VLOOKUP(City!B1613,miasta,4,0)=\"\",\"\",VLOOKUP(City!B1613,miasta,4,0)))","v":""},null,null,null,"","","","","","","","","","","",""]
[null,null,null,null,"",{"$f":"IF(ISERROR(VLOOKUP(City!B1614,miasta,4,0)),\"\",IF(VLOOKUP(City!B1614,miasta,4,0)=\"\",\"\",VLOOKUP(City!B1614,miasta,4,0)))","v":""},null,null,null,"","","","","","","","","","","",""]
[null,null,null,null,"",{"$f":"IF(ISERROR(VLOOKUP(City!B1615,miasta,4,0)),\"\",IF(VLOOKUP(City!B1615,miasta,4,0)=\"\",\"\",VLOOKUP(City!B1615,miasta,4,0)))","v":""},null,null,null,"","","","","","","","","","","",""]
[null,null,null,null,"",{"$f":"IF(ISERROR(VLOOKUP(City!B1616,miasta,4,0)),\"\",IF(VLOOKUP(City!B1616,miasta,4,0)=\"\",\"\",VLOOKUP(City!B1616,miasta,4,0)))","v":""},null,null,null,"","","","","","","","","","","",""]
[null,null,null,null,"",{"$f":"IF(ISERROR(VLOOKUP(City!B1617,miasta,4,0)),\"\",IF(VLOOKUP(City!B1617,miasta,4,0)=\"\",\"\",VLOOKUP(City!B1617,miasta,4,0)))","v":""},null,null,null,"","","","","","","","","","","",""]
[null,null,null,null,"",{"$f":"IF(ISERROR(VLOOKUP(City!B1618,miasta,4,0)),\"\",IF(VLOOKUP(City!B1618,miasta,4,0)=\"\",\"\",VLOOKUP(City!B1618,miasta,4,0)))","v":""},null,null,null,"","","","","","","","","","","",""]
[null,null,null,null,"",{"$f":"IF(ISERROR(VLOOKUP(City!B1619,miasta,4,0)),\"\",IF(VLOOKUP(City!B1619,miasta,4,0)=\"\",\"\",VLOOKUP(City!B1619,miasta,4,0)))","v":""},null,null,null,"","","","","","","","","","","",""]
[null,null,null,null,"",{"$f":"IF(ISERROR(VLOOKUP(City!B1620,miasta,4,0)),\"\",IF(VLOOKUP(City!B1620,miasta,4,0)=\"\",\"\",VLOOKUP(City!B1620,miasta,4,0)))","v":""},null,null,null,"","","","","","","","","","","",""]
[null,null,null,null,"",{"$f":"IF(ISERROR(VLOOKUP(City!B1621,miasta,4,0)),\"\",IF(VLOOKUP(City!B1621,miasta,4,0)=\"\",\"\",VLOOKUP(City!B1621,miasta,4,0)))","v":""},null,null,null,"","","","","","","","","","","",""]
[null,null,null,null,"",{"$f":"IF(ISERROR(VLOOKUP(City!B1622,miasta,4,0)),\"\",IF(VLOOKUP(City!B1622,miasta,4,0)=\"\",\"\",VLOOKUP(City!B1622,miasta,4,0)))","v":""},null,null,null,"","","","","","","","","","","",""]
[null,null,null,null,"",{"$f":"IF(ISERROR(VLOOKUP(City!B1623,miasta,4,0)),\"\",IF(VLOOKUP(City!B1623,miasta,4,0)=\"\",\"\",VLOOKUP(City!B1623,miasta,4,0)))","v":""},null,null,null,"","","","","","","","","","","",""]
[null,null,null,null,"",{"$f":"IF(ISERROR(VLOOKUP(City!B1624,miasta,4,0)),\"\",IF(VLOOKUP(City!B1624,miasta,4,0)=\"\",\"\",VLOOKUP(City!B1624,miasta,4,0)))","v":""},null,null,null,"","","","","","","","","","","",""]
[null,null,null,null,"",{"$f":"IF(ISERROR(VLOOKUP(City!B1625,miasta,4,0)),\"\",IF(VLOOKUP(City!B1625,miasta,4,0)=\"\",\"\",VLOOKUP(City!B1625,miasta,4,0)))","v":""},null,null,null,"","","","","","","","","","","",""]
[null,null,null,null,"",{"$f":"IF(ISERROR(VLOOKUP(City!B1626,miasta,4,0)),\"\",IF(VLOOKUP(City!B1626,miasta,4,0)=\"\",\"\",VLOOKUP(City!B1626,miasta,4,0)))","v":""},null,null,null,"","","","","","","","","","","",""]
[null,null,null,null,"",{"$f":"IF(ISERROR(VLOOKUP(City!B1627,miasta,4,0)),\"\",IF(VLOOKUP(City!B1627,miasta,4,0)=\"\",\"\",VLOOKUP(City!B1627,miasta,4,0)))","v":""},null,null,null,"","","","","","","","","","","",""]
[null,null,null,null,"",{"$f":"IF(ISERROR(VLOOKUP(City!B1628,miasta,4,0)),\"\",IF(VLOOKUP(City!B1628,miasta,4,0)=\"\",\"\",VLOOKUP(City!B1628,miasta,4,0)))","v":""},null,null,null,"","","",{"$f":"IF($J1628=COLUMN(M1628)-10,$E1628,\"\")","v":""},"","","","","","","",""]
[null,null,null,null,"",{"$f":"IF(ISERROR(VLOOKUP(City!B1629,miasta,4,0)),\"\",IF(VLOOKUP(City!B1629,miasta,4,0)=\"\",\"\",VLOOKUP(City!B1629,miasta,4,0)))","v":""},null,null,null,"",{"$f":"IF($J1629=COLUMN(K1629)-10,$E1629,\"\")","v":""},"","","","","","","","","",""]
[null,null,null,null,"",{"$f":"IF(ISERROR(VLOOKUP(City!B1630,miasta,4,0)),\"\",IF(VLOOKUP(City!B1630,miasta,4,0)=\"\",\"\",VLOOKUP(City!B1630,miasta,4,0)))","v":""},null,null,null,"","","","","","","","","","","",""]
[null,null,null,null,"",{"$f":"IF(ISERROR(VLOOKUP(City!B1631,miasta,4,0)),\"\",IF(VLOOKUP(City!B1631,miasta,4,0)=\"\",\"\",VLOOKUP(City!B1631,miasta,4,0)))","v":""},null,null,null,"","","","","","","","","","","",""]
[null,null,null,null,"",{"$f":"IF(ISERROR(VLOOKUP(City!B1632,miasta,4,0)),\"\",IF(VLOOKUP(City!B1632,miasta,4,0)=\"\",\"\",VLOOKUP(City!B1632,miasta,4,0)))","v":""},null,null,null,"","","","","","","","","","","",""]
[null,null,null,null,"",{"$f":"IF(ISERROR(VLOOKUP(City!B1633,miasta,4,0)),\"\",IF(VLOOKUP(City!B1633,miasta,4,0)=\"\",\"\",VLOOKUP(City!B1633,miasta,4,0)))","v":""},null,null,null,"","","","","","","","","","","",""]
[null,null,null,null,"",{"$f":"IF(ISERROR(VLOOKUP(City!B1634,miasta,4,0)),\"\",IF(VLOOKUP(City!B1634,miasta,4,0)=\"\",\"\",VLOOKUP(City!B1634,miasta,4,0)))","v":""},null,null,null,"","","","","","","","","","","",""]
[null,null,null,null,"",{"$f":"IF(ISERROR(VLOOKUP(City!B1635,miasta,4,0)),\"\",IF(VLOOKUP(City!B1635,miasta,4,0)=\"\",\"\",VLOOKUP(City!B1635,miasta,4,0)))","v":""},null,null,null,"","","","","","","","","","","",""]
[null,null,null,null,"",{"$f":"IF(ISERROR(VLOOKUP(City!B1636,miasta,4,0)),\"\",IF(VLOOKUP(City!B1636,miasta,4,0)=\"\",\"\",VLOOKUP(City!B1636,miasta,4,0)))","v":""},null,null,null,"","","","","","","","","","","",""]
[null,null,null,null,"",{"$f":"IF(ISERROR(VLOOKUP(City!B1637,miasta,4,0)),\"\",IF(VLOOKUP(City!B1637,miasta,4,0)=\"\",\"\",VLOOKUP(City!B1637,miasta,4,0)))","v":""},null,null,null,"","","","","","","","","","","",""]
[null,null,null,null,"",{"$f":"IF(ISERROR(VLOOKUP(City!B1638,miasta,4,0)),\"\",IF(VLOOKUP(City!B1638,miasta,4,0)=\"\",\"\",VLOOKUP(City!B1638,miasta,4,0)))","v":""},null,null,null,"","","","","","","","","","","",""]
[null,null,null,null,"",{"$f":"IF(ISERROR(VLOOKUP(City!B1639,miasta,4,0)),\"\",IF(VLOOKUP(City!B1639,miasta,4,0)=\"\",\"\",VLOOKUP(City!B1639,miasta,4,0)))","v":""},null,null,null,"","","","","","","","","","","",""]
[null,null,null,null,"",{"$f":"IF(ISERROR(VLOOKUP(City!B1640,miasta,4,0)),\"\",IF(VLOOKUP(City!B1640,miasta,4,0)=\"\",\"\",VLOOKUP(City!B1640,miasta,4,0)))","v":""},null,null,null,"","","","","","","","","","","",""]
[null,null,null,null,"",{"$f":"IF(ISERROR(VLOOKUP(City!B1641,miasta,4,0)),\"\",IF(VLOOKUP(City!B1641,miasta,4,0)=\"\",\"\",VLOOKUP(City!B1641,miasta,4,0)))","v":""},null,null,null,"","","","","","","","","","","",""]
[null,null,null,null,"",{"$f":"IF(ISERROR(VLOOKUP(City!B1642,miasta,4,0)),\"\",IF(VLOOKUP(City!B1642,miasta,4,0)=\"\",\"\",VLOOKUP(City!B1642,miasta,4,0)))","v":""},null,null,null,"","","","","","","","","","","",""]
[null,null,null,null,"",{"$f":"IF(ISERROR(VLOOKUP(City!B1643,miasta,4,0)),\"\",IF(VLOOKUP(City!B1643,miasta,4,0)=\"\",\"\",VLOOKUP(City!B1643,miasta,4,0)))","v":""},null,null,null,"","","","","","","","","","","",""]
[null,null,null,null,"",{"$f":"IF(ISERROR(VLOOKUP(City!B1644,miasta,4,0)),\"\",IF(VLOOKUP(City!B1644,miasta,4,0)=\"\",\"\",VLOOKUP(City!B1644,miasta,4,0)))","v":""},null,null,null,"","","","","","","","","","","",""]
[null,null,null,null,"",{"$f":"IF(ISERROR(VLOOKUP(City!B1645,miasta,4,0)),\"\",IF(VLOOKUP(City!B1645,miasta,4,0)=\"\",\"\",VLOOKUP(City!B1645,miasta,4,0)))","v":""},null,null,null,"","","","","","","","","","","",""]
[null,null,null,null,"",{"$f":"IF(ISERROR(VLOOKUP(City!B1646,miasta,4,0)),\"\",IF(VLOOKUP(City!B1646,miasta,4,0)=\"\",\"\",VLOOKUP(City!B1646,miasta,4,0)))","v":""},null,null,null,"","","","","","","","","","","",""]
[null,null,null,null,"",{"$f":"IF(ISERROR(VLOOKUP(City!B1647,miasta,4,0)),\"\",IF(VLOOKUP(City!B1647,miasta,4,0)=\"\",\"\",VLOOKUP(City!B1647,miasta,4,0)))","v":""},null,null,null,"","","","","","","","","","","",""]
[null,null,null,null,"",{"$f":"IF(ISERROR(VLOOKUP(City!B1648,miasta,4,0)),\"\",IF(VLOOKUP(City!B1648,miasta,4,0)=\"\",\"\",VLOOKUP(City!B1648,miasta,4,0)))","v":""},null,null,null,"","","","","","","","","","","",""]
[null,null,null,null,"",{"$f":"IF(ISERROR(VLOOKUP(City!B1649,miasta,4,0)),\"\",IF(VLOOKUP(City!B1649,miasta,4,0)=\"\",\"\",VLOOKUP(City!B1649,miasta,4,0)))","v":""},null,null,null,"","","","","","","","","","","",""]
[null,null,null,null,"",{"$f":"IF(ISERROR(VLOOKUP(City!B1650,miasta,4,0)),\"\",IF(VLOOKUP(City!B1650,miasta,4,0)=\"\",\"\",VLOOKUP(City!B1650,miasta,4,0)))","v":""},null,null,null,"","","","","","","","","","","",""]
[null,null,null,null,"",{"$f":"IF(ISERROR(VLOOKUP(City!B1651,miasta,4,0)),\"\",IF(VLOOKUP(City!B1651,miasta,4,0)=\"\",\"\",VLOOKUP(City!B1651,miasta,4,0)))","v":""},null,null,null,"","","","","","","","","","","",""]
[null,null,null,null,"",{"$f":"IF(ISERROR(VLOOKUP(City!B1652,miasta,4,0)),\"\",IF(VLOOKUP(City!B1652,miasta,4,0)=\"\",\"\",VLOOKUP(City!B1652,miasta,4,0)))","v":""},null,null,null,"","","","","","","","","","","",""]
[null,null,null,null,"",{"$f":"IF(ISERROR(VLOOKUP(City!B1653,miasta,4,0)),\"\",IF(VLOOKUP(City!B1653,miasta,4,0)=\"\",\"\",VLOOKUP(City!B1653,miasta,4,0)))","v":""},null,null,null,"","","","","","","","","","","",""]
[null,null,null,null,"",{"$f":"IF(ISERROR(VLOOKUP(City!B1654,miasta,4,0)),\"\",IF(VLOOKUP(City!B1654,miasta,4,0)=\"\",\"\",VLOOKUP(City!B1654,miasta,4,0)))","v":""},null,null,null,"","","","","","","","","","","",""]
[null,null,null,null,"",{"$f":"IF(ISERROR(VLOOKUP(City!B1655,miasta,4,0)),\"\",IF(VLOOKUP(City!B1655,miasta,4,0)=\"\",\"\",VLOOKUP(City!B1655,miasta,4,0)))","v":""},null,null,null,"","","","","","","","","","","",""]
[null,null,null,null,"",{"$f":"IF(ISERROR(VLOOKUP(City!B1656,miasta,4,0)),\"\",IF(VLOOKUP(City!B1656,miasta,4,0)=\"\",\"\",VLOOKUP(City!B1656,miasta,4,0)))","v":""},null,null,null,"","","","","","",{"$f":"IF($J1656=COLUMN(P1656)-10,$E1656,\"\")","v":""},"","","","",""]
[null,null,null,null,"",{"$f":"IF(ISERROR(VLOOKUP(City!B1657,miasta,4,0)),\"\",IF(VLOOKUP(City!B1657,miasta,4,0)=\"\",\"\",VLOOKUP(City!B1657,miasta,4,0)))","v":""},null,null,null,"","","","","","","","","","","",""]
[null,null,null,null,"",{"$f":"IF(ISERROR(VLOOKUP(City!B1658,miasta,4,0)),\"\",IF(VLOOKUP(City!B1658,miasta,4,0)=\"\",\"\",VLOOKUP(City!B1658,miasta,4,0)))","v":""},null,null,null,"","","","","","","","","","","",""]
[null,null,null,null,"",{"$f":"IF(ISERROR(VLOOKUP(City!B1659,miasta,4,0)),\"\",IF(VLOOKUP(City!B1659,miasta,4,0)=\"\",\"\",VLOOKUP(City!B1659,miasta,4,0)))","v":""},null,null,null,"","","","","","","","","","","",""]
[null,null,null,null,"",{"$f":"IF(ISERROR(VLOOKUP(City!B1660,miasta,4,0)),\"\",IF(VLOOKUP(City!B1660,miasta,4,0)=\"\",\"\",VLOOKUP(City!B1660,miasta,4,0)))","v":""},null,null,null,"","","","","","","","","","","",""]
[null,null,null,null,"",{"$f":"IF(ISERROR(VLOOKUP(City!B1661,miasta,4,0)),\"\",IF(VLOOKUP(City!B1661,miasta,4,0)=\"\",\"\",VLOOKUP(City!B1661,miasta,4,0)))","v":""},null,null,null,"","","","","","","","","","","",""]
[null,null,null,null,"",{"$f":"IF(ISERROR(VLOOKUP(City!B1662,miasta,4,0)),\"\",IF(VLOOKUP(City!B1662,miasta,4,0)=\"\",\"\",VLOOKUP(City!B1662,miasta,4,0)))","v":""},null,null,null,"","","","","","","","","","","",""]
[null,null,null,null,"",{"$f":"IF(ISERROR(VLOOKUP(City!B1663,miasta,4,0)),\"\",IF(VLOOKUP(City!B1663,miasta,4,0)=\"\",\"\",VLOOKUP(City!B1663,miasta,4,0)))","v":""},null,null,null,"","","","","","","","","","","",""]
[null,null,null,null,"",{"$f":"IF(ISERROR(VLOOKUP(City!B1664,miasta,4,0)),\"\",IF(VLOOKUP(City!B1664,miasta,4,0)=\"\",\"\",VLOOKUP(City!B1664,miasta,4,0)))","v":""},null,null,null,"","","","","","","","","","","",""]
[null,null,null,null,"",{"$f":"IF(ISERROR(VLOOKUP(City!B1665,miasta,4,0)),\"\",IF(VLOOKUP(City!B1665,miasta,4,0)=\"\",\"\",VLOOKUP(City!B1665,miasta,4,0)))","v":""},null,null,null,"","","","","","","","","","","",""]
[null,null,null,null,{"$f":"IF(ISERROR(VLOOKUP(B1666,miasta,3,0)),\"\",VLOOKUP(B1666,miasta,3,0))","v":""},{"$f":"IF(ISERROR(VLOOKUP(City!B1666,miasta,4,0)),\"\",IF(VLOOKUP(City!B1666,miasta,4,0)=\"\",\"\",VLOOKUP(City!B1666,miasta,4,0)))","v":""},null,null,null,"","","","","","","","","","","",""]
[null,null,null,null,"",{"$f":"IF(ISERROR(VLOOKUP(City!B1667,miasta,4,0)),\"\",IF(VLOOKUP(City!B1667,miasta,4,0)=\"\",\"\",VLOOKUP(City!B1667,miasta,4,0)))","v":""},null,null,null,{"$f":"IF(ISERROR(VLOOKUP(F1667,$G$2:$I$12,3,1)),\"\",VLOOKUP(F1667,$G$2:$I$12,3,1))","v":""},"","","","","","","","","","",""]
[null,null,null,null,"",{"$f":"IF(ISERROR(VLOOKUP(City!B1668,miasta,4,0)),\"\",IF(VLOOKUP(City!B1668,miasta,4,0)=\"\",\"\",VLOOKUP(City!B1668,miasta,4,0)))","v":""},null,null,null,"","","","","","","","","","","",""]
[null,null,null,null,"",{"$f":"IF(ISERROR(VLOOKUP(City!B1669,miasta,4,0)),\"\",IF(VLOOKUP(City!B1669,miasta,4,0)=\"\",\"\",VLOOKUP(City!B1669,miasta,4,0)))","v":""},null,null,null,"","","","","","","","","","","",""]
[null,null,null,null,"",{"$f":"IF(ISERROR(VLOOKUP(City!B1670,miasta,4,0)),\"\",IF(VLOOKUP(City!B1670,miasta,4,0)=\"\",\"\",VLOOKUP(City!B1670,miasta,4,0)))","v":""},null,null,null,"","","","","","","","","","","",""]
[null,null,null,null,"",{"$f":"IF(ISERROR(VLOOKUP(City!B1671,miasta,4,0)),\"\",IF(VLOOKUP(City!B1671,miasta,4,0)=\"\",\"\",VLOOKUP(City!B1671,miasta,4,0)))","v":""},null,null,null,"","","","","","","","","","","",""]
[null,null,null,null,"",{"$f":"IF(ISERROR(VLOOKUP(City!B1672,miasta,4,0)),\"\",IF(VLOOKUP(City!B1672,miasta,4,0)=\"\",\"\",VLOOKUP(City!B1672,miasta,4,0)))","v":""},null,null,null,"","","","","","","","","","","",""]
[null,null,null,null,"",{"$f":"IF(ISERROR(VLOOKUP(City!B1673,miasta,4,0)),\"\",IF(VLOOKUP(City!B1673,miasta,4,0)=\"\",\"\",VLOOKUP(City!B1673,miasta,4,0)))","v":""},null,null,null,"","","","","","","","","","","",""]
[null,null,null,null,"",{"$f":"IF(ISERROR(VLOOKUP(City!B1674,miasta,4,0)),\"\",IF(VLOOKUP(City!B1674,miasta,4,0)=\"\",\"\",VLOOKUP(City!B1674,miasta,4,0)))","v":""},null,null,null,"","","","","","","","","","","",""]
[null,null,null,null,"",{"$f":"IF(ISERROR(VLOOKUP(City!B1675,miasta,4,0)),\"\",IF(VLOOKUP(City!B1675,miasta,4,0)=\"\",\"\",VLOOKUP(City!B1675,miasta,4,0)))","v":""},null,null,null,"","","","","","","","","","","",""]
[null,null,null,null,"",{"$f":"IF(ISERROR(VLOOKUP(City!B1676,miasta,4,0)),\"\",IF(VLOOKUP(City!B1676,miasta,4,0)=\"\",\"\",VLOOKUP(City!B1676,miasta,4,0)))","v":""},null,null,null,"","","","","","","","","","","",""]
[null,null,null,null,"",{"$f":"IF(ISERROR(VLOOKUP(City!B1677,miasta,4,0)),\"\",IF(VLOOKUP(City!B1677,miasta,4,0)=\"\",\"\",VLOOKUP(City!B1677,miasta,4,0)))","v":""},null,null,null,"","","","","","","","","","","",""]
[null,null,null,null,"",{"$f":"IF(ISERROR(VLOOKUP(City!B1678,miasta,4,0)),\"\",IF(VLOOKUP(City!B1678,miasta,4,0)=\"\",\"\",VLOOKUP(City!B1678,miasta,4,0)))","v":""},null,null,null,"","","","","","","","","","","",""]
[null,null,null,null,"",{"$f":"IF(ISERROR(VLOOKUP(City!B1679,miasta,4,0)),\"\",IF(VLOOKUP(City!B1679,miasta,4,0)=\"\",\"\",VLOOKUP(City!B1679,miasta,4,0)))","v":""},null,null,null,"","","","","","","","","","","",""]
[null,null,null,null,"",{"$f":"IF(ISERROR(VLOOKUP(City!B1680,miasta,4,0)),\"\",IF(VLOOKUP(City!B1680,miasta,4,0)=\"\",\"\",VLOOKUP(City!B1680,miasta,4,0)))","v":""},null,null,null,"","","","","","","","","","","",""]
[null,null,null,null,"",{"$f":"IF(ISERROR(VLOOKUP(City!B1681,miasta,4,0)),\"\",IF(VLOOKUP(City!B1681,miasta,4,0)=\"\",\"\",VLOOKUP(City!B1681,miasta,4,0)))","v":""},null,null,null,"","","","","","","","","","","",""]
[null,null,null,null,"",{"$f":"IF(ISERROR(VLOOKUP(City!B1682,miasta,4,0)),\"\",IF(VLOOKUP(City!B1682,miasta,4,0)=\"\",\"\",VLOOKUP(City!B1682,miasta,4,0)))","v":""},null,null,null,"","","","","","","","","","","",""]
[null,null,null,null,"",{"$f":"IF(ISERROR(VLOOKUP(City!B1683,miasta,4,0)),\"\",IF(VLOOKUP(City!B1683,miasta,4,0)=\"\",\"\",VLOOKUP(City!B1683,miasta,4,0)))","v":""},null,null,null,"","","","","","","","","","","",""]
[null,null,null,null,"",{"$f":"IF(ISERROR(VLOOKUP(City!B1684,miasta,4,0)),\"\",IF(VLOOKUP(City!B1684,miasta,4,0)=\"\",\"\",VLOOKUP(City!B1684,miasta,4,0)))","v":""},null,null,null,"","","","","","","","","","","",""]
[null,null,null,null,"",{"$f":"IF(ISERROR(VLOOKUP(City!B1685,miasta,4,0)),\"\",IF(VLOOKUP(City!B1685,miasta,4,0)=\"\",\"\",VLOOKUP(City!B1685,miasta,4,0)))","v":""},null,null,null,"","","","","","","","","","","",""]
[null,null,null,null,"",{"$f":"IF(ISERROR(VLOOKUP(City!B1686,miasta,4,0)),\"\",IF(VLOOKUP(City!B1686,miasta,4,0)=\"\",\"\",VLOOKUP(City!B1686,miasta,4,0)))","v":""},null,null,null,"","","","","","","","","","","",""]
[null,null,null,null,"",{"$f":"IF(ISERROR(VLOOKUP(City!B1687,miasta,4,0)),\"\",IF(VLOOKUP(City!B1687,miasta,4,0)=\"\",\"\",VLOOKUP(City!B1687,miasta,4,0)))","v":""},null,null,null,"","","","","","","","","","","",""]
[null,null,null,null,"",{"$f":"IF(ISERROR(VLOOKUP(City!B1688,miasta,4,0)),\"\",IF(VLOOKUP(City!B1688,miasta,4,0)=\"\",\"\",VLOOKUP(City!B1688,miasta,4,0)))","v":""},null,null,null,"","","","","","","","","","","",""]
[null,null,null,null,"",{"$f":"IF(ISERROR(VLOOKUP(City!B1689,miasta,4,0)),\"\",IF(VLOOKUP(City!B1689,miasta,4,0)=\"\",\"\",VLOOKUP(City!B1689,miasta,4,0)))","v":""},null,null,null,"","","","","","","","","","","",""]
[null,null,null,null,"",{"$f":"IF(ISERROR(VLOOKUP(City!B1690,miasta,4,0)),\"\",IF(VLOOKUP(City!B1690,miasta,4,0)=\"\",\"\",VLOOKUP(City!B1690,miasta,4,0)))","v":""},null,null,null,"","","","","","","","","","","",""]
[null,null,null,null,"",{"$f":"IF(ISERROR(VLOOKUP(City!B1691,miasta,4,0)),\"\",IF(VLOOKUP(City!B1691,miasta,4,0)=\"\",\"\",VLOOKUP(City!B1691,miasta,4,0)))","v":""},null,null,null,"","","","","","","","","","","",""]
[null,null,null,null,"",{"$f":"IF(ISERROR(VLOOKUP(City!B1692,miasta,4,0)),\"\",IF(VLOOKUP(City!B1692,miasta,4,0)=\"\",\"\",VLOOKUP(City!B1692,miasta,4,0)))","v":""},null,null,null,"","","","","","","","","","","",""]
[null,null,null,null,"",{"$f":"IF(ISERROR(VLOOKUP(City!B1693,miasta,4,0)),\"\",IF(VLOOKUP(City!B1693,miasta,4,0)=\"\",\"\",VLOOKUP(City!B1693,miasta,4,0)))","v":""},null,null,null,"",{"$f":"IF($J1693=COLUMN(K1693)-10,$E1693,\"\")","v":""},"","","","","","","","","",""]
[null,null,null,null,"",{"$f":"IF(ISERROR(VLOOKUP(City!B1694,miasta,4,0)),\"\",IF(VLOOKUP(City!B1694,miasta,4,0)=\"\",\"\",VLOOKUP(City!B1694,miasta,4,0)))","v":""},null,null,null,"","","","","","","","","","","",""]
[null,null,null,null,"",{"$f":"IF(ISERROR(VLOOKUP(City!B1695,miasta,4,0)),\"\",IF(VLOOKUP(City!B1695,miasta,4,0)=\"\",\"\",VLOOKUP(City!B1695,miasta,4,0)))","v":""},null,null,null,"","","","","","","","","","","",""]
[null,null,null,null,"",{"$f":"IF(ISERROR(VLOOKUP(City!B1696,miasta,4,0)),\"\",IF(VLOOKUP(City!B1696,miasta,4,0)=\"\",\"\",VLOOKUP(City!B1696,miasta,4,0)))","v":""},null,null,null,"","","","","","","","","","","",""]
[null,null,null,null,"",{"$f":"IF(ISERROR(VLOOKUP(City!B1697,miasta,4,0)),\"\",IF(VLOOKUP(City!B1697,miasta,4,0)=\"\",\"\",VLOOKUP(City!B1697,miasta,4,0)))","v":""},null,null,null,"","","","","","","","","","","",""]
[null,null,null,null,"",{"$f":"IF(ISERROR(VLOOKUP(City!B1698,miasta,4,0)),\"\",IF(VLOOKUP(City!B1698,miasta,4,0)=\"\",\"\",VLOOKUP(City!B1698,miasta,4,0)))","v":""},null,null,null,"","","","","","","","","",{"$f":"IF($J1698=COLUMN(S1698)-10,$E1698,\"\")","v":""},"",""]
[null,null,null,null,"",{"$f":"IF(ISERROR(VLOOKUP(City!B1699,miasta,4,0)),\"\",IF(VLOOKUP(City!B1699,miasta,4,0)=\"\",\"\",VLOOKUP(City!B1699,miasta,4,0)))","v":""},null,null,null,"","","","","","","","","","","",""]
[null,null,null,null,"",{"$f":"IF(ISERROR(VLOOKUP(City!B1700,miasta,4,0)),\"\",IF(VLOOKUP(City!B1700,miasta,4,0)=\"\",\"\",VLOOKUP(City!B1700,miasta,4,0)))","v":""},null,null,null,"","","","","","","","","","","",""]
[null,null,null,null,"",{"$f":"IF(ISERROR(VLOOKUP(City!B1701,miasta,4,0)),\"\",IF(VLOOKUP(City!B1701,miasta,4,0)=\"\",\"\",VLOOKUP(City!B1701,miasta,4,0)))","v":""},null,null,null,"","","","","","","","","","","",""]
[null,null,null,null,"",{"$f":"IF(ISERROR(VLOOKUP(City!B1702,miasta,4,0)),\"\",IF(VLOOKUP(City!B1702,miasta,4,0)=\"\",\"\",VLOOKUP(City!B1702,miasta,4,0)))","v":""},null,null,null,"","","","","","","","","","","",""]
[null,null,null,null,"",{"$f":"IF(ISERROR(VLOOKUP(City!B1703,miasta,4,0)),\"\",IF(VLOOKUP(City!B1703,miasta,4,0)=\"\",\"\",VLOOKUP(City!B1703,miasta,4,0)))","v":""},null,null,null,"","","","","","","","","","","",""]
[null,null,null,null,"",{"$f":"IF(ISERROR(VLOOKUP(City!B1704,miasta,4,0)),\"\",IF(VLOOKUP(City!B1704,miasta,4,0)=\"\",\"\",VLOOKUP(City!B1704,miasta,4,0)))","v":""},null,null,null,"","","","","","","","","","","",""]
[null,null,null,null,"",{"$f":"IF(ISERROR(VLOOKUP(City!B1705,miasta,4,0)),\"\",IF(VLOOKUP(City!B1705,miasta,4,0)=\"\",\"\",VLOOKUP(City!B1705,miasta,4,0)))","v":""},null,null,null,"","","","","","","","","","","",""]
[null,null,null,null,"",{"$f":"IF(ISERROR(VLOOKUP(City!B1706,miasta,4,0)),\"\",IF(VLOOKUP(City!B1706,miasta,4,0)=\"\",\"\",VLOOKUP(City!B1706,miasta,4,0)))","v":""},null,null,null,"","","","","","","","","","","",""]
[null,null,null,null,"",{"$f":"IF(ISERROR(VLOOKUP(City!B1707,miasta,4,0)),\"\",IF(VLOOKUP(City!B1707,miasta,4,0)=\"\",\"\",VLOOKUP(City!B1707,miasta,4,0)))","v":""},null,null,null,"","","","","","","","","","","",""]
[null,null,null,null,"",{"$f":"IF(ISERROR(VLOOKUP(City!B1708,miasta,4,0)),\"\",IF(VLOOKUP(City!B1708,miasta,4,0)=\"\",\"\",VLOOKUP(City!B1708,miasta,4,0)))","v":""},null,null,null,"","","","","","","","","","","",""]
[null,null,null,null,"",{"$f":"IF(ISERROR(VLOOKUP(City!B1709,miasta,4,0)),\"\",IF(VLOOKUP(City!B1709,miasta,4,0)=\"\",\"\",VLOOKUP(City!B1709,miasta,4,0)))","v":""},null,null,null,"","","","","","","","","","","",""]
[null,null,null,null,"",{"$f":"IF(ISERROR(VLOOKUP(City!B1710,miasta,4,0)),\"\",IF(VLOOKUP(City!B1710,miasta,4,0)=\"\",\"\",VLOOKUP(City!B1710,miasta,4,0)))","v":""},null,null,null,"","","","","","","","","","","",""]
[null,null,null,null,"",{"$f":"IF(ISERROR(VLOOKUP(City!B1711,miasta,4,0)),\"\",IF(VLOOKUP(City!B1711,miasta,4,0)=\"\",\"\",VLOOKUP(City!B1711,miasta,4,0)))","v":""},null,null,null,"","","","","","","","","","","",""]
[null,null,null,null,"",{"$f":"IF(ISERROR(VLOOKUP(City!B1712,miasta,4,0)),\"\",IF(VLOOKUP(City!B1712,miasta,4,0)=\"\",\"\",VLOOKUP(City!B1712,miasta,4,0)))","v":""},null,null,null,"","","","","","","","","","","",""]
[null,null,null,null,"",{"$f":"IF(ISERROR(VLOOKUP(City!B1713,miasta,4,0)),\"\",IF(VLOOKUP(City!B1713,miasta,4,0)=\"\",\"\",VLOOKUP(City!B1713,miasta,4,0)))","v":""},null,null,null,"","","","","","","","","","","",""]
[null,null,null,null,"",{"$f":"IF(ISERROR(VLOOKUP(City!B1714,miasta,4,0)),\"\",IF(VLOOKUP(City!B1714,miasta,4,0)=\"\",\"\",VLOOKUP(City!B1714,miasta,4,0)))","v":""},null,null,null,"","","","","","","","","","","",""]
[null,null,null,null,"",{"$f":"IF(ISERROR(VLOOKUP(City!B1715,miasta,4,0)),\"\",IF(VLOOKUP(City!B1715,miasta,4,0)=\"\",\"\",VLOOKUP(City!B1715,miasta,4,0)))","v":""},null,null,null,"","","","","","","","","","","",""]
[null,null,null,null,"",{"$f":"IF(ISERROR(VLOOKUP(City!B1716,miasta,4,0)),\"\",IF(VLOOKUP(City!B1716,miasta,4,0)=\"\",\"\",VLOOKUP(City!B1716,miasta,4,0)))","v":""},null,null,null,"","","","","","","","","","","",""]
[null,null,null,null,"",{"$f":"IF(ISERROR(VLOOKUP(City!B1717,miasta,4,0)),\"\",IF(VLOOKUP(City!B1717,miasta,4,0)=\"\",\"\",VLOOKUP(City!B1717,miasta,4,0)))","v":""},null,null,null,"","","","","","","","","","","",""]
[null,null,null,null,"",{"$f":"IF(ISERROR(VLOOKUP(City!B1718,miasta,4,0)),\"\",IF(VLOOKUP(City!B1718,miasta,4,0)=\"\",\"\",VLOOKUP(City!B1718,miasta,4,0)))","v":""},null,null,null,"","","","","","","","","","","",""]
[null,null,null,null,"",{"$f":"IF(ISERROR(VLOOKUP(City!B1719,miasta,4,0)),\"\",IF(VLOOKUP(City!B1719,miasta,4,0)=\"\",\"\",VLOOKUP(City!B1719,miasta,4,0)))","v":""},null,null,null,"","","","","","","","","","","",""]
[null,null,null,null,"",{"$f":"IF(ISERROR(VLOOKUP(City!B1720,miasta,4,0)),\"\",IF(VLOOKUP(City!B1720,miasta,4,0)=\"\",\"\",VLOOKUP(City!B1720,miasta,4,0)))","v":""},null,null,null,"","","","","","","","","","","",""]
[null,null,null,null,"",{"$f":"IF(ISERROR(VLOOKUP(City!B1721,miasta,4,0)),\"\",IF(VLOOKUP(City!B1721,miasta,4,0)=\"\",\"\",VLOOKUP(City!B1721,miasta,4,0)))","v":""},null,null,null,"","","","","","","","","","","",""]
[null,null,null,null,"",{"$f":"IF(ISERROR(VLOOKUP(City!B1722,miasta,4,0)),\"\",IF(VLOOKUP(City!B1722,miasta,4,0)=\"\",\"\",VLOOKUP(City!B1722,miasta,4,0)))","v":""},null,null,null,"","","","","","","","","","","",""]
[null,null,null,null,"",{"$f":"IF(ISERROR(VLOOKUP(City!B1723,miasta,4,0)),\"\",IF(VLOOKUP(City!B1723,miasta,4,0)=\"\",\"\",VLOOKUP(City!B1723,miasta,4,0)))","v":""},null,null,null,"","","","","","","","","","","",""]
[null,null,null,null,"",{"$f":"IF(ISERROR(VLOOKUP(City!B1724,miasta,4,0)),\"\",IF(VLOOKUP(City!B1724,miasta,4,0)=\"\",\"\",VLOOKUP(City!B1724,miasta,4,0)))","v":""},null,null,null,"","","","","","","","","","","",""]
[null,null,null,null,"",{"$f":"IF(ISERROR(VLOOKUP(City!B1725,miasta,4,0)),\"\",IF(VLOOKUP(City!B1725,miasta,4,0)=\"\",\"\",VLOOKUP(City!B1725,miasta,4,0)))","v":""},null,null,null,"","","","","","","","","","","",""]
[null,null,null,null,"",{"$f":"IF(ISERROR(VLOOKUP(City!B1726,miasta,4,0)),\"\",IF(VLOOKUP(City!B1726,miasta,4,0)=\"\",\"\",VLOOKUP(City!B1726,miasta,4,0)))","v":""},null,null,null,"","","","","","","","","","","",""]
[null,null,null,null,"",{"$f":"IF(ISERROR(VLOOKUP(City!B1727,miasta,4,0)),\"\",IF(VLOOKUP(City!B1727,miasta,4,0)=\"\",\"\",VLOOKUP(City!B1727,miasta,4,0)))","v":""},null,null,null,"","",{"$f":"IF($J1727=COLUMN(L1727)-10,$E1727,\"\")","v":""},"","","","","","","","",""]
[null,null,null,null,"",{"$f":"IF(ISERROR(VLOOKUP(City!B1728,miasta,4,0)),\"\",IF(VLOOKUP(City!B1728,miasta,4,0)=\"\",\"\",VLOOKUP(City!B1728,miasta,4,0)))","v":""},null,null,null,"",{"$f":"IF($J1728=COLUMN(K1728)-10,$E1728,\"\")","v":""},"","","","","","","","","",""]
[null,null,null,null,"",{"$f":"IF(ISERROR(VLOOKUP(City!B1729,miasta,4,0)),\"\",IF(VLOOKUP(City!B1729,miasta,4,0)=\"\",\"\",VLOOKUP(City!B1729,miasta,4,0)))","v":""},null,null,null,"","","","","","","","","","","",""]
[null,null,null,null,{"$f":"IF(ISERROR(VLOOKUP(B1730,miasta,3,0)),\"\",VLOOKUP(B1730,miasta,3,0))","v":""},{"$f":"IF(ISERROR(VLOOKUP(City!B1730,miasta,4,0)),\"\",IF(VLOOKUP(City!B1730,miasta,4,0)=\"\",\"\",VLOOKUP(City!B1730,miasta,4,0)))","v":""},null,null,null,"","","","","","","","","","","",""]
[null,null,null,null,"",{"$f":"IF(ISERROR(VLOOKUP(City!B1731,miasta,4,0)),\"\",IF(VLOOKUP(City!B1731,miasta,4,0)=\"\",\"\",VLOOKUP(City!B1731,miasta,4,0)))","v":""},null,null,null,{"$f":"IF(ISERROR(VLOOKUP(F1731,$G$2:$I$12,3,1)),\"\",VLOOKUP(F1731,$G$2:$I$12,3,1))","v":""},"","","","","","","","","","",""]
[null,null,null,null,"",{"$f":"IF(ISERROR(VLOOKUP(City!B1732,miasta,4,0)),\"\",IF(VLOOKUP(City!B1732,miasta,4,0)=\"\",\"\",VLOOKUP(City!B1732,miasta,4,0)))","v":""},null,null,null,"","","","","","","","","","","",""]
[null,null,null,null,"",{"$f":"IF(ISERROR(VLOOKUP(City!B1733,miasta,4,0)),\"\",IF(VLOOKUP(City!B1733,miasta,4,0)=\"\",\"\",VLOOKUP(City!B1733,miasta,4,0)))","v":""},null,null,null,"","","","","","","","","","","",""]
[null,null,null,null,"",{"$f":"IF(ISERROR(VLOOKUP(City!B1734,miasta,4,0)),\"\",IF(VLOOKUP(City!B1734,miasta,4,0)=\"\",\"\",VLOOKUP(City!B1734,miasta,4,0)))","v":""},null,null,null,"","","","","","","","","","","",""]
[null,null,null,null,"",{"$f":"IF(ISERROR(VLOOKUP(City!B1735,miasta,4,0)),\"\",IF(VLOOKUP(City!B1735,miasta,4,0)=\"\",\"\",VLOOKUP(City!B1735,miasta,4,0)))","v":""},null,null,null,"","","","","","","","","","","",""]
[null,null,null,null,"",{"$f":"IF(ISERROR(VLOOKUP(City!B1736,miasta,4,0)),\"\",IF(VLOOKUP(City!B1736,miasta,4,0)=\"\",\"\",VLOOKUP(City!B1736,miasta,4,0)))","v":""},null,null,null,"","","","","","","","","","","",""]
[null,null,null,null,"",{"$f":"IF(ISERROR(VLOOKUP(City!B1737,miasta,4,0)),\"\",IF(VLOOKUP(City!B1737,miasta,4,0)=\"\",\"\",VLOOKUP(City!B1737,miasta,4,0)))","v":""},null,null,null,"","","","","","","","","","","",""]
[null,null,null,null,"",{"$f":"IF(ISERROR(VLOOKUP(City!B1738,miasta,4,0)),\"\",IF(VLOOKUP(City!B1738,miasta,4,0)=\"\",\"\",VLOOKUP(City!B1738,miasta,4,0)))","v":""},null,null,null,"","","","","","","","","","","",""]
[null,null,null,null,"",{"$f":"IF(ISERROR(VLOOKUP(City!B1739,miasta,4,0)),\"\",IF(VLOOKUP(City!B1739,miasta,4,0)=\"\",\"\",VLOOKUP(City!B1739,miasta,4,0)))","v":""},null,null,null,"","","","","","","","","","","",""]
[null,null,null,null,"",{"$f":"IF(ISERROR(VLOOKUP(City!B1740,miasta,4,0)),\"\",IF(VLOOKUP(City!B1740,miasta,4,0)=\"\",\"\",VLOOKUP(City!B1740,miasta,4,0)))","v":""},null,null,null,"","","","","","","","","","","",""]
[null,null,null,null,"",{"$f":"IF(ISERROR(VLOOKUP(City!B1741,miasta,4,0)),\"\",IF(VLOOKUP(City!B1741,miasta,4,0)=\"\",\"\",VLOOKUP(City!B1741,miasta,4,0)))","v":""},null,null,null,"","","","","","","","","","","",""]
[null,null,null,null,"",{"$f":"IF(ISERROR(VLOOKUP(City!B1742,miasta,4,0)),\"\",IF(VLOOKUP(City!B1742,miasta,4,0)=\"\",\"\",VLOOKUP(City!B1742,miasta,4,0)))","v":""},null,null,null,"","","","","","","","","","","",""]
[null,null,null,null,"",{"$f":"IF(ISERROR(VLOOKUP(City!B1743,miasta,4,0)),\"\",IF(VLOOKUP(City!B1743,miasta,4,0)=\"\",\"\",VLOOKUP(City!B1743,miasta,4,0)))","v":""},null,null,null,"","","","","","","","","","","",""]
[null,null,null,null,"",{"$f":"IF(ISERROR(VLOOKUP(City!B1744,miasta,4,0)),\"\",IF(VLOOKUP(City!B1744,miasta,4,0)=\"\",\"\",VLOOKUP(City!B1744,miasta,4,0)))","v":""},null,null,null,"","","","","","","","","","","",""]
[null,null,null,null,"",{"$f":"IF(ISERROR(VLOOKUP(City!B1745,miasta,4,0)),\"\",IF(VLOOKUP(City!B1745,miasta,4,0)=\"\",\"\",VLOOKUP(City!B1745,miasta,4,0)))","v":""},null,null,null,"","","","","","","","","","","",""]
[null,null,null,null,"",{"$f":"IF(ISERROR(VLOOKUP(City!B1746,miasta,4,0)),\"\",IF(VLOOKUP(City!B1746,miasta,4,0)=\"\",\"\",VLOOKUP(City!B1746,miasta,4,0)))","v":""},null,null,null,"","","","","","","","","","","",""]
[null,null,null,null,"",{"$f":"IF(ISERROR(VLOOKUP(City!B1747,miasta,4,0)),\"\",IF(VLOOKUP(City!B1747,miasta,4,0)=\"\",\"\",VLOOKUP(City!B1747,miasta,4,0)))","v":""},null,null,null,"","","","","","","","","","","",""]
[null,null,null,null,"",{"$f":"IF(ISERROR(VLOOKUP(City!B1748,miasta,4,0)),\"\",IF(VLOOKUP(City!B1748,miasta,4,0)=\"\",\"\",VLOOKUP(City!B1748,miasta,4,0)))","v":""},null,null,null,"","","","","","","","","","","",""]
[null,null,null,null,"",{"$f":"IF(ISERROR(VLOOKUP(City!B1749,miasta,4,0)),\"\",IF(VLOOKUP(City!B1749,miasta,4,0)=\"\",\"\",VLOOKUP(City!B1749,miasta,4,0)))","v":""},null,null,null,"","","","","","","","","","","",""]
[null,null,null,null,"",{"$f":"IF(ISERROR(VLOOKUP(City!B1750,miasta,4,0)),\"\",IF(VLOOKUP(City!B1750,miasta,4,0)=\"\",\"\",VLOOKUP(City!B1750,miasta,4,0)))","v":""},null,null,null,"","","","","","","","","","","",""]
[null,null,null,null,"",{"$f":"IF(ISERROR(VLOOKUP(City!B1751,miasta,4,0)),\"\",IF(VLOOKUP(City!B1751,miasta,4,0)=\"\",\"\",VLOOKUP(City!B1751,miasta,4,0)))","v":""},null,null,null,"","","","","","","","","","","",""]
[null,null,null,null,"",{"$f":"IF(ISERROR(VLOOKUP(City!B1752,miasta,4,0)),\"\",IF(VLOOKUP(City!B1752,miasta,4,0)=\"\",\"\",VLOOKUP(City!B1752,miasta,4,0)))","v":""},null,null,null,"","","","","","","","","","","",""]
[null,null,null,null,"",{"$f":"IF(ISERROR(VLOOKUP(City!B1753,miasta,4,0)),\"\",IF(VLOOKUP(City!B1753,miasta,4,0)=\"\",\"\",VLOOKUP(City!B1753,miasta,4,0)))","v":""},null,null,null,"","","","","","","","","","","",""]
[null,null,null,null,"",{"$f":"IF(ISERROR(VLOOKUP(City!B1754,miasta,4,0)),\"\",IF(VLOOKUP(City!B1754,miasta,4,0)=\"\",\"\",VLOOKUP(City!B1754,miasta,4,0)))","v":""},null,null,null,"","","","","","","","","","","",""]
[null,null,null,null,"",{"$f":"IF(ISERROR(VLOOKUP(City!B1755,miasta,4,0)),\"\",IF(VLOOKUP(City!B1755,miasta,4,0)=\"\",\"\",VLOOKUP(City!B1755,miasta,4,0)))","v":""},null,null,null,"","","","","","","","","","","",""]
[null,null,null,null,"",{"$f":"IF(ISERROR(VLOOKUP(City!B1756,miasta,4,0)),\"\",IF(VLOOKUP(City!B1756,miasta,4,0)=\"\",\"\",VLOOKUP(City!B1756,miasta,4,0)))","v":""},null,null,null,"","","","","","","","","","","",""]
[null,null,null,null,"",{"$f":"IF(ISERROR(VLOOKUP(City!B1757,miasta,4,0)),\"\",IF(VLOOKUP(City!B1757,miasta,4,0)=\"\",\"\",VLOOKUP(City!B1757,miasta,4,0)))","v":""},null,null,null,"","","","","","","","","","","",""]
[null,null,null,null,"",{"$f":"IF(ISERROR(VLOOKUP(City!B1758,miasta,4,0)),\"\",IF(VLOOKUP(City!B1758,miasta,4,0)=\"\",\"\",VLOOKUP(City!B1758,miasta,4,0)))","v":""},null,null,null,"","","","","","","","","","","",""]
[null,null,null,null,"",{"$f":"IF(ISERROR(VLOOKUP(City!B1759,miasta,4,0)),\"\",IF(VLOOKUP(City!B1759,miasta,4,0)=\"\",\"\",VLOOKUP(City!B1759,miasta,4,0)))","v":""},null,null,null,"","","","","","","","","","","",""]
[null,null,null,null,"",{"$f":"IF(ISERROR(VLOOKUP(City!B1760,miasta,4,0)),\"\",IF(VLOOKUP(City!B1760,miasta,4,0)=\"\",\"\",VLOOKUP(City!B1760,miasta,4,0)))","v":""},null,null,null,"","","","","","","","","","","",""]
[null,null,null,null,"",{"$f":"IF(ISERROR(VLOOKUP(City!B1761,miasta,4,0)),\"\",IF(VLOOKUP(City!B1761,miasta,4,0)=\"\",\"\",VLOOKUP(City!B1761,miasta,4,0)))","v":""},null,null,null,"","","","","","","","","","","",""]
[null,null,null,null,"",{"$f":"IF(ISERROR(VLOOKUP(City!B1762,miasta,4,0)),\"\",IF(VLOOKUP(City!B1762,miasta,4,0)=\"\",\"\",VLOOKUP(City!B1762,miasta,4,0)))","v":""},null,null,null,"","","","","","","","","","","",""]
[null,null,null,null,"",{"$f":"IF(ISERROR(VLOOKUP(City!B1763,miasta,4,0)),\"\",IF(VLOOKUP(City!B1763,miasta,4,0)=\"\",\"\",VLOOKUP(City!B1763,miasta,4,0)))","v":""},null,null,null,"","","","","","","","","","","",""]
[null,null,null,null,"",{"$f":"IF(ISERROR(VLOOKUP(City!B1764,miasta,4,0)),\"\",IF(VLOOKUP(City!B1764,miasta,4,0)=\"\",\"\",VLOOKUP(City!B1764,miasta,4,0)))","v":""},null,null,null,"","","","","","","","","","","",""]
[null,null,null,null,"",{"$f":"IF(ISERROR(VLOOKUP(City!B1765,miasta,4,0)),\"\",IF(VLOOKUP(City!B1765,miasta,4,0)=\"\",\"\",VLOOKUP(City!B1765,miasta,4,0)))","v":""},null,null,null,"","","","","","","","","","","",""]
[null,null,null,null,"",{"$f":"IF(ISERROR(VLOOKUP(City!B1766,miasta,4,0)),\"\",IF(VLOOKUP(City!B1766,miasta,4,0)=\"\",\"\",VLOOKUP(City!B1766,miasta,4,0)))","v":""},null,null,null,"","","","","","","","","","","",""]
[null,null,null,null,"",{"$f":"IF(ISERROR(VLOOKUP(City!B1767,miasta,4,0)),\"\",IF(VLOOKUP(City!B1767,miasta,4,0)=\"\",\"\",VLOOKUP(City!B1767,miasta,4,0)))","v":""},null,null,null,"","","","","","","","","","","",""]
[null,null,null,null,"",{"$f":"IF(ISERROR(VLOOKUP(City!B1768,miasta,4,0)),\"\",IF(VLOOKUP(City!B1768,miasta,4,0)=\"\",\"\",VLOOKUP(City!B1768,miasta,4,0)))","v":""},null,null,null,"","","","","","","","","","","",""]
[null,null,null,null,"",{"$f":"IF(ISERROR(VLOOKUP(City!B1769,miasta,4,0)),\"\",IF(VLOOKUP(City!B1769,miasta,4,0)=\"\",\"\",VLOOKUP(City!B1769,miasta,4,0)))","v":""},null,null,null,"","","","","","","","","","","",""]
[null,null,null,null,"",{"$f":"IF(ISERROR(VLOOKUP(City!B1770,miasta,4,0)),\"\",IF(VLOOKUP(City!B1770,miasta,4,0)=\"\",\"\",VLOOKUP(City!B1770,miasta,4,0)))","v":""},null,null,null,"","","","","","","","","","","",""]
[null,null,null,null,"",{"$f":"IF(ISERROR(VLOOKUP(City!B1771,miasta,4,0)),\"\",IF(VLOOKUP(City!B1771,miasta,4,0)=\"\",\"\",VLOOKUP(City!B1771,miasta,4,0)))","v":""},null,null,null,"","","","","","","","","","","",""]
[null,null,null,null,"",{"$f":"IF(ISERROR(VLOOKUP(City!B1772,miasta,4,0)),\"\",IF(VLOOKUP(City!B1772,miasta,4,0)=\"\",\"\",VLOOKUP(City!B1772,miasta,4,0)))","v":""},null,null,null,"","","","","","","","","","","",""]
[null,null,null,null,"",{"$f":"IF(ISERROR(VLOOKUP(City!B1773,miasta,4,0)),\"\",IF(VLOOKUP(City!B1773,miasta,4,0)=\"\",\"\",VLOOKUP(City!B1773,miasta,4,0)))","v":""},null,null,null,"","","","","","","","","","","",""]
[null,null,null,null,"",{"$f":"IF(ISERROR(VLOOKUP(City!B1774,miasta,4,0)),\"\",IF(VLOOKUP(City!B1774,miasta,4,0)=\"\",\"\",VLOOKUP(City!B1774,miasta,4,0)))","v":""},null,null,null,"","","","","","","","","","","",""]
[null,null,null,null,"",{"$f":"IF(ISERROR(VLOOKUP(City!B1775,miasta,4,0)),\"\",IF(VLOOKUP(City!B1775,miasta,4,0)=\"\",\"\",VLOOKUP(City!B1775,miasta,4,0)))","v":""},null,null,null,"","","","","","","","","","","",""]
[null,null,null,null,"",{"$f":"IF(ISERROR(VLOOKUP(City!B1776,miasta,4,0)),\"\",IF(VLOOKUP(City!B1776,miasta,4,0)=\"\",\"\",VLOOKUP(City!B1776,miasta,4,0)))","v":""},null,null,null,"","","","","","","","","","","",""]
[null,null,null,null,"",{"$f":"IF(ISERROR(VLOOKUP(City!B1777,miasta,4,0)),\"\",IF(VLOOKUP(City!B1777,miasta,4,0)=\"\",\"\",VLOOKUP(City!B1777,miasta,4,0)))","v":""},null,null,null,"","","","","","","","","","","",""]
[null,null,null,null,"",{"$f":"IF(ISERROR(VLOOKUP(City!B1778,miasta,4,0)),\"\",IF(VLOOKUP(City!B1778,miasta,4,0)=\"\",\"\",VLOOKUP(City!B1778,miasta,4,0)))","v":""},null,null,null,"","","","","","","","","","","",""]
[null,null,null,null,"",{"$f":"IF(ISERROR(VLOOKUP(City!B1779,miasta,4,0)),\"\",IF(VLOOKUP(City!B1779,miasta,4,0)=\"\",\"\",VLOOKUP(City!B1779,miasta,4,0)))","v":""},null,null,null,"","","","","","","","","","","",""]
[null,null,null,null,"",{"$f":"IF(ISERROR(VLOOKUP(City!B1780,miasta,4,0)),\"\",IF(VLOOKUP(City!B1780,miasta,4,0)=\"\",\"\",VLOOKUP(City!B1780,miasta,4,0)))","v":""},null,null,null,"","","","","","","","","","","",""]
[null,null,null,null,"",{"$f":"IF(ISERROR(VLOOKUP(City!B1781,miasta,4,0)),\"\",IF(VLOOKUP(City!B1781,miasta,4,0)=\"\",\"\",VLOOKUP(City!B1781,miasta,4,0)))","v":""},null,null,null,"","","","","","","","","","","",""]
[null,null,null,null,"",{"$f":"IF(ISERROR(VLOOKUP(City!B1782,miasta,4,0)),\"\",IF(VLOOKUP(City!B1782,miasta,4,0)=\"\",\"\",VLOOKUP(City!B1782,miasta,4,0)))","v":""},null,null,null,"","","","","","","","","","","",""]
[null,null,null,null,"",{"$f":"IF(ISERROR(VLOOKUP(City!B1783,miasta,4,0)),\"\",IF(VLOOKUP(City!B1783,miasta,4,0)=\"\",\"\",VLOOKUP(City!B1783,miasta,4,0)))","v":""},null,null,null,"",{"$f":"IF($J1783=COLUMN(K1783)-10,$E1783,\"\")","v":""},"","","","","","","","","",""]
[null,null,null,null,"",{"$f":"IF(ISERROR(VLOOKUP(City!B1784,miasta,4,0)),\"\",IF(VLOOKUP(City!B1784,miasta,4,0)=\"\",\"\",VLOOKUP(City!B1784,miasta,4,0)))","v":""},null,null,null,"","","","","","","","","","","",""]
[null,null,null,null,"",{"$f":"IF(ISERROR(VLOOKUP(City!B1785,miasta,4,0)),\"\",IF(VLOOKUP(City!B1785,miasta,4,0)=\"\",\"\",VLOOKUP(City!B1785,miasta,4,0)))","v":""},null,null,null,"","","","","","","","","","","",""]
[null,null,null,null,"",{"$f":"IF(ISERROR(VLOOKUP(City!B1786,miasta,4,0)),\"\",IF(VLOOKUP(City!B1786,miasta,4,0)=\"\",\"\",VLOOKUP(City!B1786,miasta,4,0)))","v":""},null,null,null,"","","","","","","","","","","",""]
[null,null,null,null,"",{"$f":"IF(ISERROR(VLOOKUP(City!B1787,miasta,4,0)),\"\",IF(VLOOKUP(City!B1787,miasta,4,0)=\"\",\"\",VLOOKUP(City!B1787,miasta,4,0)))","v":""},null,null,null,"","","","","","","","","","","",""]
[null,null,null,null,"",{"$f":"IF(ISERROR(VLOOKUP(City!B1788,miasta,4,0)),\"\",IF(VLOOKUP(City!B1788,miasta,4,0)=\"\",\"\",VLOOKUP(City!B1788,miasta,4,0)))","v":""},null,null,null,"","","","","","","","","","","",""]
[null,null,null,null,"",{"$f":"IF(ISERROR(VLOOKUP(City!B1789,miasta,4,0)),\"\",IF(VLOOKUP(City!B1789,miasta,4,0)=\"\",\"\",VLOOKUP(City!B1789,miasta,4,0)))","v":""},null,null,null,"","","","","","","","","","","",""]
[null,null,null,null,"",{"$f":"IF(ISERROR(VLOOKUP(City!B1790,miasta,4,0)),\"\",IF(VLOOKUP(City!B1790,miasta,4,0)=\"\",\"\",VLOOKUP(City!B1790,miasta,4,0)))","v":""},null,null,null,"","","","","","","","","","","",""]
[null,null,null,null,"",{"$f":"IF(ISERROR(VLOOKUP(City!B1791,miasta,4,0)),\"\",IF(VLOOKUP(City!B1791,miasta,4,0)=\"\",\"\",VLOOKUP(City!B1791,miasta,4,0)))","v":""},null,null,null,"","","","","","","","","","","",""]
[null,null,null,null,"",{"$f":"IF(ISERROR(VLOOKUP(City!B1792,miasta,4,0)),\"\",IF(VLOOKUP(City!B1792,miasta,4,0)=\"\",\"\",VLOOKUP(City!B1792,miasta,4,0)))","v":""},null,null,null,"","","","","","","","","","","",""]
[null,null,null,null,"",{"$f":"IF(ISERROR(VLOOKUP(City!B1793,miasta,4,0)),\"\",IF(VLOOKUP(City!B1793,miasta,4,0)=\"\",\"\",VLOOKUP(City!B1793,miasta,4,0)))","v":""},null,null,null,"","","","","","","","","","","",""]
[null,null,null,null,{"$f":"IF(ISERROR(VLOOKUP(B1794,miasta,3,0)),\"\",VLOOKUP(B1794,miasta,3,0))","v":""},{"$f":"IF(ISERROR(VLOOKUP(City!B1794,miasta,4,0)),\"\",IF(VLOOKUP(City!B1794,miasta,4,0)=\"\",\"\",VLOOKUP(City!B1794,miasta,4,0)))","v":""},null,null,null,"","","","","","","","","","","",""]
[null,null,null,null,"",{"$f":"IF(ISERROR(VLOOKUP(City!B1795,miasta,4,0)),\"\",IF(VLOOKUP(City!B1795,miasta,4,0)=\"\",\"\",VLOOKUP(City!B1795,miasta,4,0)))","v":""},null,null,null,{"$f":"IF(ISERROR(VLOOKUP(F1795,$G$2:$I$12,3,1)),\"\",VLOOKUP(F1795,$G$2:$I$12,3,1))","v":""},"","","","","","","","","","",""]
[null,null,null,null,"",{"$f":"IF(ISERROR(VLOOKUP(City!B1796,miasta,4,0)),\"\",IF(VLOOKUP(City!B1796,miasta,4,0)=\"\",\"\",VLOOKUP(City!B1796,miasta,4,0)))","v":""},null,null,null,"","","","","","","","","","","",""]
[null,null,null,null,"",{"$f":"IF(ISERROR(VLOOKUP(City!B1797,miasta,4,0)),\"\",IF(VLOOKUP(City!B1797,miasta,4,0)=\"\",\"\",VLOOKUP(City!B1797,miasta,4,0)))","v":""},null,null,null,"","","","","","","","","","","",""]
[null,null,null,null,"",{"$f":"IF(ISERROR(VLOOKUP(City!B1798,miasta,4,0)),\"\",IF(VLOOKUP(City!B1798,miasta,4,0)=\"\",\"\",VLOOKUP(City!B1798,miasta,4,0)))","v":""},null,null,null,"","","","","","","","","","","",""]
[null,null,null,null,"",{"$f":"IF(ISERROR(VLOOKUP(City!B1799,miasta,4,0)),\"\",IF(VLOOKUP(City!B1799,miasta,4,0)=\"\",\"\",VLOOKUP(City!B1799,miasta,4,0)))","v":""},null,null,null,"","","","","","","","","","","",""]
[null,null,null,null,"",{"$f":"IF(ISERROR(VLOOKUP(City!B1800,miasta,4,0)),\"\",IF(VLOOKUP(City!B1800,miasta,4,0)=\"\",\"\",VLOOKUP(City!B1800,miasta,4,0)))","v":""},null,null,null,"","","","","","","","","","","",""]
[null,null,null,null,"",{"$f":"IF(ISERROR(VLOOKUP(City!B1801,miasta,4,0)),\"\",IF(VLOOKUP(City!B1801,miasta,4,0)=\"\",\"\",VLOOKUP(City!B1801,miasta,4,0)))","v":""},null,null,null,"","","","","","","","","","","",""]
[null,null,null,null,"",{"$f":"IF(ISERROR(VLOOKUP(City!B1802,miasta,4,0)),\"\",IF(VLOOKUP(City!B1802,miasta,4,0)=\"\",\"\",VLOOKUP(City!B1802,miasta,4,0)))","v":""},null,null,null,"","","","","","","","","","","",""]
[null,null,null,null,"",{"$f":"IF(ISERROR(VLOOKUP(City!B1803,miasta,4,0)),\"\",IF(VLOOKUP(City!B1803,miasta,4,0)=\"\",\"\",VLOOKUP(City!B1803,miasta,4,0)))","v":""},null,null,null,"","","","","","","","","","","",""]
[null,null,null,null,"",{"$f":"IF(ISERROR(VLOOKUP(City!B1804,miasta,4,0)),\"\",IF(VLOOKUP(City!B1804,miasta,4,0)=\"\",\"\",VLOOKUP(City!B1804,miasta,4,0)))","v":""},null,null,null,"","","","","","","","","","","",""]
[null,null,null,null,"",{"$f":"IF(ISERROR(VLOOKUP(City!B1805,miasta,4,0)),\"\",IF(VLOOKUP(City!B1805,miasta,4,0)=\"\",\"\",VLOOKUP(City!B1805,miasta,4,0)))","v":""},null,null,null,"","","","","","","","","","","",""]
[null,null,null,null,"",{"$f":"IF(ISERROR(VLOOKUP(City!B1806,miasta,4,0)),\"\",IF(VLOOKUP(City!B1806,miasta,4,0)=\"\",\"\",VLOOKUP(City!B1806,miasta,4,0)))","v":""},null,null,null,"","","",{"$f":"IF($J1806=COLUMN(M1806)-10,$E1806,\"\")","v":""},"","","","","","","",""]
[null,null,null,null,"",{"$f":"IF(ISERROR(VLOOKUP(City!B1807,miasta,4,0)),\"\",IF(VLOOKUP(City!B1807,miasta,4,0)=\"\",\"\",VLOOKUP(City!B1807,miasta,4,0)))","v":""},null,null,null,"",{"$f":"IF($J1807=COLUMN(K1807)-10,$E1807,\"\")","v":""},"","","","","","","","","",""]
[null,null,null,null,"",{"$f":"IF(ISERROR(VLOOKUP(City!B1808,miasta,4,0)),\"\",IF(VLOOKUP(City!B1808,miasta,4,0)=\"\",\"\",VLOOKUP(City!B1808,miasta,4,0)))","v":""},null,null,null,"","","","","","","","","","","",""]
[null,null,null,null,"",{"$f":"IF(ISERROR(VLOOKUP(City!B1809,miasta,4,0)),\"\",IF(VLOOKUP(City!B1809,miasta,4,0)=\"\",\"\",VLOOKUP(City!B1809,miasta,4,0)))","v":""},null,null,null,"","","","","","","","","","","",""]
[null,null,null,null,"",{"$f":"IF(ISERROR(VLOOKUP(City!B1810,miasta,4,0)),\"\",IF(VLOOKUP(City!B1810,miasta,4,0)=\"\",\"\",VLOOKUP(City!B1810,miasta,4,0)))","v":""},null,null,null,"","","","","","","","","","","",""]
[null,null,null,null,"",{"$f":"IF(ISERROR(VLOOKUP(City!B1811,miasta,4,0)),\"\",IF(VLOOKUP(City!B1811,miasta,4,0)=\"\",\"\",VLOOKUP(City!B1811,miasta,4,0)))","v":""},null,null,null,"","","","","","","","","","","",""]
[null,null,null,null,"",{"$f":"IF(ISERROR(VLOOKUP(City!B1812,miasta,4,0)),\"\",IF(VLOOKUP(City!B1812,miasta,4,0)=\"\",\"\",VLOOKUP(City!B1812,miasta,4,0)))","v":""},null,null,null,"","","","","","","","","","","",""]
[null,null,null,null,"",{"$f":"IF(ISERROR(VLOOKUP(City!B1813,miasta,4,0)),\"\",IF(VLOOKUP(City!B1813,miasta,4,0)=\"\",\"\",VLOOKUP(City!B1813,miasta,4,0)))","v":""},null,null,null,"","","","","","","","","","","",""]
[null,null,null,null,"",{"$f":"IF(ISERROR(VLOOKUP(City!B1814,miasta,4,0)),\"\",IF(VLOOKUP(City!B1814,miasta,4,0)=\"\",\"\",VLOOKUP(City!B1814,miasta,4,0)))","v":""},null,null,null,"","","","","","","","","","","",""]
[null,null,null,null,"",{"$f":"IF(ISERROR(VLOOKUP(City!B1815,miasta,4,0)),\"\",IF(VLOOKUP(City!B1815,miasta,4,0)=\"\",\"\",VLOOKUP(City!B1815,miasta,4,0)))","v":""},null,null,null,"","","","","","","","","","","",""]
[null,null,null,null,"",{"$f":"IF(ISERROR(VLOOKUP(City!B1816,miasta,4,0)),\"\",IF(VLOOKUP(City!B1816,miasta,4,0)=\"\",\"\",VLOOKUP(City!B1816,miasta,4,0)))","v":""},null,null,null,"","","","","","","","","","","",""]
[null,null,null,null,"",{"$f":"IF(ISERROR(VLOOKUP(City!B1817,miasta,4,0)),\"\",IF(VLOOKUP(City!B1817,miasta,4,0)=\"\",\"\",VLOOKUP(City!B1817,miasta,4,0)))","v":""},null,null,null,"","","","","","","","","","","",""]
[null,null,null,null,"",{"$f":"IF(ISERROR(VLOOKUP(City!B1818,miasta,4,0)),\"\",IF(VLOOKUP(City!B1818,miasta,4,0)=\"\",\"\",VLOOKUP(City!B1818,miasta,4,0)))","v":""},null,null,null,"","","","","","","","","","","",""]
[null,null,null,null,"",{"$f":"IF(ISERROR(VLOOKUP(City!B1819,miasta,4,0)),\"\",IF(VLOOKUP(City!B1819,miasta,4,0)=\"\",\"\",VLOOKUP(City!B1819,miasta,4,0)))","v":""},null,null,null,"","","","","","","","","","","",""]
[null,null,null,null,"",{"$f":"IF(ISERROR(VLOOKUP(City!B1820,miasta,4,0)),\"\",IF(VLOOKUP(City!B1820,miasta,4,0)=\"\",\"\",VLOOKUP(City!B1820,miasta,4,0)))","v":""},null,null,null,"","","","","","","","","","","",""]
[null,null,null,null,"",{"$f":"IF(ISERROR(VLOOKUP(City!B1821,miasta,4,0)),\"\",IF(VLOOKUP(City!B1821,miasta,4,0)=\"\",\"\",VLOOKUP(City!B1821,miasta,4,0)))","v":""},null,null,null,"","","","","","","","","","","",""]
[null,null,null,null,"",{"$f":"IF(ISERROR(VLOOKUP(City!B1822,miasta,4,0)),\"\",IF(VLOOKUP(City!B1822,miasta,4,0)=\"\",\"\",VLOOKUP(City!B1822,miasta,4,0)))","v":""},null,null,null,"","","","","","","","","","","",""]
[null,null,null,null,"",{"$f":"IF(ISERROR(VLOOKUP(City!B1823,miasta,4,0)),\"\",IF(VLOOKUP(City!B1823,miasta,4,0)=\"\",\"\",VLOOKUP(City!B1823,miasta,4,0)))","v":""},null,null,null,"","","","","","","","","","","",""]
[null,null,null,null,"",{"$f":"IF(ISERROR(VLOOKUP(City!B1824,miasta,4,0)),\"\",IF(VLOOKUP(City!B1824,miasta,4,0)=\"\",\"\",VLOOKUP(City!B1824,miasta,4,0)))","v":""},null,null,null,"","","","","","","","","","","",""]
[null,null,null,null,"",{"$f":"IF(ISERROR(VLOOKUP(City!B1825,miasta,4,0)),\"\",IF(VLOOKUP(City!B1825,miasta,4,0)=\"\",\"\",VLOOKUP(City!B1825,miasta,4,0)))","v":""},null,null,null,"","","","","","","","","","","",""]
[null,null,null,null,"",{"$f":"IF(ISERROR(VLOOKUP(City!B1826,miasta,4,0)),\"\",IF(VLOOKUP(City!B1826,miasta,4,0)=\"\",\"\",VLOOKUP(City!B1826,miasta,4,0)))","v":""},null,null,null,"","","","","","","","","","","",""]
[null,null,null,null,"",{"$f":"IF(ISERROR(VLOOKUP(City!B1827,miasta,4,0)),\"\",IF(VLOOKUP(City!B1827,miasta,4,0)=\"\",\"\",VLOOKUP(City!B1827,miasta,4,0)))","v":""},null,null,null,"","","","","","","","","","","",""]
[null,null,null,null,"",{"$f":"IF(ISERROR(VLOOKUP(City!B1828,miasta,4,0)),\"\",IF(VLOOKUP(City!B1828,miasta,4,0)=\"\",\"\",VLOOKUP(City!B1828,miasta,4,0)))","v":""},null,null,null,"","","","","","","","","","","",""]
[null,null,null,null,"",{"$f":"IF(ISERROR(VLOOKUP(City!B1829,miasta,4,0)),\"\",IF(VLOOKUP(City!B1829,miasta,4,0)=\"\",\"\",VLOOKUP(City!B1829,miasta,4,0)))","v":""},null,null,null,"","","","","","","","","","","",""]
[null,null,null,null,"",{"$f":"IF(ISERROR(VLOOKUP(City!B1830,miasta,4,0)),\"\",IF(VLOOKUP(City!B1830,miasta,4,0)=\"\",\"\",VLOOKUP(City!B1830,miasta,4,0)))","v":""},null,null,null,"","","","","","","","","","","",""]
[null,null,null,null,"",{"$f":"IF(ISERROR(VLOOKUP(City!B1831,miasta,4,0)),\"\",IF(VLOOKUP(City!B1831,miasta,4,0)=\"\",\"\",VLOOKUP(City!B1831,miasta,4,0)))","v":""},null,null,null,"","","","","","","","","","","",""]
[null,null,null,null,"",{"$f":"IF(ISERROR(VLOOKUP(City!B1832,miasta,4,0)),\"\",IF(VLOOKUP(City!B1832,miasta,4,0)=\"\",\"\",VLOOKUP(City!B1832,miasta,4,0)))","v":""},null,null,null,"","","","","","","","","","","",""]
[null,null,null,null,"",{"$f":"IF(ISERROR(VLOOKUP(City!B1833,miasta,4,0)),\"\",IF(VLOOKUP(City!B1833,miasta,4,0)=\"\",\"\",VLOOKUP(City!B1833,miasta,4,0)))","v":""},null,null,null,"","","","","","","","","","","",""]
[null,null,null,null,"",{"$f":"IF(ISERROR(VLOOKUP(City!B1834,miasta,4,0)),\"\",IF(VLOOKUP(City!B1834,miasta,4,0)=\"\",\"\",VLOOKUP(City!B1834,miasta,4,0)))","v":""},null,null,null,"","","","","","",{"$f":"IF($J1834=COLUMN(P1834)-10,$E1834,\"\")","v":""},"","","","",""]
[null,null,null,null,"",{"$f":"IF(ISERROR(VLOOKUP(City!B1835,miasta,4,0)),\"\",IF(VLOOKUP(City!B1835,miasta,4,0)=\"\",\"\",VLOOKUP(City!B1835,miasta,4,0)))","v":""},null,null,null,"","","","","","","","","","","",""]
[null,null,null,null,"",{"$f":"IF(ISERROR(VLOOKUP(City!B1836,miasta,4,0)),\"\",IF(VLOOKUP(City!B1836,miasta,4,0)=\"\",\"\",VLOOKUP(City!B1836,miasta,4,0)))","v":""},null,null,null,"","","","","","","","","","","",""]
[null,null,null,null,"",{"$f":"IF(ISERROR(VLOOKUP(City!B1837,miasta,4,0)),\"\",IF(VLOOKUP(City!B1837,miasta,4,0)=\"\",\"\",VLOOKUP(City!B1837,miasta,4,0)))","v":""},null,null,null,"","","","","","","","","","","",""]
[null,null,null,null,"",{"$f":"IF(ISERROR(VLOOKUP(City!B1838,miasta,4,0)),\"\",IF(VLOOKUP(City!B1838,miasta,4,0)=\"\",\"\",VLOOKUP(City!B1838,miasta,4,0)))","v":""},null,null,null,"","","","","","","","","","","",""]
[null,null,null,null,"",{"$f":"IF(ISERROR(VLOOKUP(City!B1839,miasta,4,0)),\"\",IF(VLOOKUP(City!B1839,miasta,4,0)=\"\",\"\",VLOOKUP(City!B1839,miasta,4,0)))","v":""},null,null,null,"","","","","","","","","","","",""]
[null,null,null,null,"",{"$f":"IF(ISERROR(VLOOKUP(City!B1840,miasta,4,0)),\"\",IF(VLOOKUP(City!B1840,miasta,4,0)=\"\",\"\",VLOOKUP(City!B1840,miasta,4,0)))","v":""},null,null,null,"","","","","","","","","","","",""]
[null,null,null,null,"",{"$f":"IF(ISERROR(VLOOKUP(City!B1841,miasta,4,0)),\"\",IF(VLOOKUP(City!B1841,miasta,4,0)=\"\",\"\",VLOOKUP(City!B1841,miasta,4,0)))","v":""},null,null,null,"","","","","","","","","","","",""]
[null,null,null,null,"",{"$f":"IF(ISERROR(VLOOKUP(City!B1842,miasta,4,0)),\"\",IF(VLOOKUP(City!B1842,miasta,4,0)=\"\",\"\",VLOOKUP(City!B1842,miasta,4,0)))","v":""},null,null,null,"","","","","","","","","","","",""]
[null,null,null,null,"",{"$f":"IF(ISERROR(VLOOKUP(City!B1843,miasta,4,0)),\"\",IF(VLOOKUP(City!B1843,miasta,4,0)=\"\",\"\",VLOOKUP(City!B1843,miasta,4,0)))","v":""},null,null,null,"","","","","","","","","","","",""]
[null,null,null,null,"",{"$f":"IF(ISERROR(VLOOKUP(City!B1844,miasta,4,0)),\"\",IF(VLOOKUP(City!B1844,miasta,4,0)=\"\",\"\",VLOOKUP(City!B1844,miasta,4,0)))","v":""},null,null,null,"","","","","","","","","","","",""]
[null,null,null,null,"",{"$f":"IF(ISERROR(VLOOKUP(City!B1845,miasta,4,0)),\"\",IF(VLOOKUP(City!B1845,miasta,4,0)=\"\",\"\",VLOOKUP(City!B1845,miasta,4,0)))","v":""},null,null,null,"","","","","","","","","","","",""]
[null,null,null,null,"",{"$f":"IF(ISERROR(VLOOKUP(City!B1846,miasta,4,0)),\"\",IF(VLOOKUP(City!B1846,miasta,4,0)=\"\",\"\",VLOOKUP(City!B1846,miasta,4,0)))","v":""},null,null,null,"","","","","","","","","","","",""]
[null,null,null,null,"",{"$f":"IF(ISERROR(VLOOKUP(City!B1847,miasta,4,0)),\"\",IF(VLOOKUP(City!B1847,miasta,4,0)=\"\",\"\",VLOOKUP(City!B1847,miasta,4,0)))","v":""},null,null,null,"","","","","","","","","","","",""]
[null,null,null,null,"",{"$f":"IF(ISERROR(VLOOKUP(City!B1848,miasta,4,0)),\"\",IF(VLOOKUP(City!B1848,miasta,4,0)=\"\",\"\",VLOOKUP(City!B1848,miasta,4,0)))","v":""},null,null,null,"","","","","","","","","","","",""]
[null,null,null,null,"",{"$f":"IF(ISERROR(VLOOKUP(City!B1849,miasta,4,0)),\"\",IF(VLOOKUP(City!B1849,miasta,4,0)=\"\",\"\",VLOOKUP(City!B1849,miasta,4,0)))","v":""},null,null,null,"","","","","","","","","","","",""]
[null,null,null,null,"",{"$f":"IF(ISERROR(VLOOKUP(City!B1850,miasta,4,0)),\"\",IF(VLOOKUP(City!B1850,miasta,4,0)=\"\",\"\",VLOOKUP(City!B1850,miasta,4,0)))","v":""},null,null,null,"","","","","","","","","","","",""]
[null,null,null,null,"",{"$f":"IF(ISERROR(VLOOKUP(City!B1851,miasta,4,0)),\"\",IF(VLOOKUP(City!B1851,miasta,4,0)=\"\",\"\",VLOOKUP(City!B1851,miasta,4,0)))","v":""},null,null,null,"","","","","","","","","","","",""]
[null,null,null,null,"",{"$f":"IF(ISERROR(VLOOKUP(City!B1852,miasta,4,0)),\"\",IF(VLOOKUP(City!B1852,miasta,4,0)=\"\",\"\",VLOOKUP(City!B1852,miasta,4,0)))","v":""},null,null,null,"","","","","","","","","","","",""]
[null,null,null,null,"",{"$f":"IF(ISERROR(VLOOKUP(City!B1853,miasta,4,0)),\"\",IF(VLOOKUP(City!B1853,miasta,4,0)=\"\",\"\",VLOOKUP(City!B1853,miasta,4,0)))","v":""},null,null,null,"","","","","","","","","","","",""]
[null,null,null,null,"",{"$f":"IF(ISERROR(VLOOKUP(City!B1854,miasta,4,0)),\"\",IF(VLOOKUP(City!B1854,miasta,4,0)=\"\",\"\",VLOOKUP(City!B1854,miasta,4,0)))","v":""},null,null,null,"","","","","","","","","","","",""]
[null,null,null,null,"",{"$f":"IF(ISERROR(VLOOKUP(City!B1855,miasta,4,0)),\"\",IF(VLOOKUP(City!B1855,miasta,4,0)=\"\",\"\",VLOOKUP(City!B1855,miasta,4,0)))","v":""},null,null,null,"","","","","","","","","","","",""]
[null,null,null,null,"",{"$f":"IF(ISERROR(VLOOKUP(City!B1856,miasta,4,0)),\"\",IF(VLOOKUP(City!B1856,miasta,4,0)=\"\",\"\",VLOOKUP(City!B1856,miasta,4,0)))","v":""},null,null,null,"","","","","","","","","","","",""]
[null,null,null,null,"",{"$f":"IF(ISERROR(VLOOKUP(City!B1857,miasta,4,0)),\"\",IF(VLOOKUP(City!B1857,miasta,4,0)=\"\",\"\",VLOOKUP(City!B1857,miasta,4,0)))","v":""},null,null,null,"","","","","","","","","","","",""]
[null,null,null,null,{"$f":"IF(ISERROR(VLOOKUP(B1858,miasta,3,0)),\"\",VLOOKUP(B1858,miasta,3,0))","v":""},{"$f":"IF(ISERROR(VLOOKUP(City!B1858,miasta,4,0)),\"\",IF(VLOOKUP(City!B1858,miasta,4,0)=\"\",\"\",VLOOKUP(City!B1858,miasta,4,0)))","v":""},null,null,null,"","","","","","","","","","","",""]
[null,null,null,null,"",{"$f":"IF(ISERROR(VLOOKUP(City!B1859,miasta,4,0)),\"\",IF(VLOOKUP(City!B1859,miasta,4,0)=\"\",\"\",VLOOKUP(City!B1859,miasta,4,0)))","v":""},null,null,null,{"$f":"IF(ISERROR(VLOOKUP(F1859,$G$2:$I$12,3,1)),\"\",VLOOKUP(F1859,$G$2:$I$12,3,1))","v":""},"","","","","","","","","","",""]
[null,null,null,null,"",{"$f":"IF(ISERROR(VLOOKUP(City!B1860,miasta,4,0)),\"\",IF(VLOOKUP(City!B1860,miasta,4,0)=\"\",\"\",VLOOKUP(City!B1860,miasta,4,0)))","v":""},null,null,null,"","","","","","","","","","","",""]
[null,null,null,null,"",{"$f":"IF(ISERROR(VLOOKUP(City!B1861,miasta,4,0)),\"\",IF(VLOOKUP(City!B1861,miasta,4,0)=\"\",\"\",VLOOKUP(City!B1861,miasta,4,0)))","v":""},null,null,null,"","","","","","","","","","","",""]
[null,null,null,null,"",{"$f":"IF(ISERROR(VLOOKUP(City!B1862,miasta,4,0)),\"\",IF(VLOOKUP(City!B1862,miasta,4,0)=\"\",\"\",VLOOKUP(City!B1862,miasta,4,0)))","v":""},null,null,null,"","","","","","","","","","","",""]
[null,null,null,null,"",{"$f":"IF(ISERROR(VLOOKUP(City!B1863,miasta,4,0)),\"\",IF(VLOOKUP(City!B1863,miasta,4,0)=\"\",\"\",VLOOKUP(City!B1863,miasta,4,0)))","v":""},null,null,null,"","","","","","","","","","","",""]
[null,null,null,null,"",{"$f":"IF(ISERROR(VLOOKUP(City!B1864,miasta,4,0)),\"\",IF(VLOOKUP(City!B1864,miasta,4,0)=\"\",\"\",VLOOKUP(City!B1864,miasta,4,0)))","v":""},null,null,null,"","","","","","","","","","","",""]
[null,null,null,null,"",{"$f":"IF(ISERROR(VLOOKUP(City!B1865,miasta,4,0)),\"\",IF(VLOOKUP(City!B1865,miasta,4,0)=\"\",\"\",VLOOKUP(City!B1865,miasta,4,0)))","v":""},null,null,null,"","","","","","","","","","","",""]
[null,null,null,null,"",{"$f":"IF(ISERROR(VLOOKUP(City!B1866,miasta,4,0)),\"\",IF(VLOOKUP(City!B1866,miasta,4,0)=\"\",\"\",VLOOKUP(City!B1866,miasta,4,0)))","v":""},null,null,null,"","","","","","","","","","","",""]
[null,null,null,null,"",{"$f":"IF(ISERROR(VLOOKUP(City!B1867,miasta,4,0)),\"\",IF(VLOOKUP(City!B1867,miasta,4,0)=\"\",\"\",VLOOKUP(City!B1867,miasta,4,0)))","v":""},null,null,null,"","","","","","","","","","","",""]
[null,null,null,null,"",{"$f":"IF(ISERROR(VLOOKUP(City!B1868,miasta,4,0)),\"\",IF(VLOOKUP(City!B1868,miasta,4,0)=\"\",\"\",VLOOKUP(City!B1868,miasta,4,0)))","v":""},null,null,null,"","","","","","","","","","","",""]
[null,null,null,null,"",{"$f":"IF(ISERROR(VLOOKUP(City!B1869,miasta,4,0)),\"\",IF(VLOOKUP(City!B1869,miasta,4,0)=\"\",\"\",VLOOKUP(City!B1869,miasta,4,0)))","v":""},null,null,null,"","","","","","","","","","","",""]
[null,null,null,null,"",{"$f":"IF(ISERROR(VLOOKUP(City!B1870,miasta,4,0)),\"\",IF(VLOOKUP(City!B1870,miasta,4,0)=\"\",\"\",VLOOKUP(City!B1870,miasta,4,0)))","v":""},null,null,null,"","","","","","","","","","","",""]
[null,null,null,null,"",{"$f":"IF(ISERROR(VLOOKUP(City!B1871,miasta,4,0)),\"\",IF(VLOOKUP(City!B1871,miasta,4,0)=\"\",\"\",VLOOKUP(City!B1871,miasta,4,0)))","v":""},null,null,null,"",{"$f":"IF($J1871=COLUMN(K1871)-10,$E1871,\"\")","v":""},"","","","","","","","","",""]
[null,null,null,null,"",{"$f":"IF(ISERROR(VLOOKUP(City!B1872,miasta,4,0)),\"\",IF(VLOOKUP(City!B1872,miasta,4,0)=\"\",\"\",VLOOKUP(City!B1872,miasta,4,0)))","v":""},null,null,null,"","","","","","","","","","","",""]
[null,null,null,null,"",{"$f":"IF(ISERROR(VLOOKUP(City!B1873,miasta,4,0)),\"\",IF(VLOOKUP(City!B1873,miasta,4,0)=\"\",\"\",VLOOKUP(City!B1873,miasta,4,0)))","v":""},null,null,null,"","","","","","","","","","","",""]
[null,null,null,null,"",{"$f":"IF(ISERROR(VLOOKUP(City!B1874,miasta,4,0)),\"\",IF(VLOOKUP(City!B1874,miasta,4,0)=\"\",\"\",VLOOKUP(City!B1874,miasta,4,0)))","v":""},null,null,null,"","","","","","","","","","","",""]
[null,null,null,null,"",{"$f":"IF(ISERROR(VLOOKUP(City!B1875,miasta,4,0)),\"\",IF(VLOOKUP(City!B1875,miasta,4,0)=\"\",\"\",VLOOKUP(City!B1875,miasta,4,0)))","v":""},null,null,null,"","","","","","","","","","","",""]
[null,null,null,null,"",{"$f":"IF(ISERROR(VLOOKUP(City!B1876,miasta,4,0)),\"\",IF(VLOOKUP(City!B1876,miasta,4,0)=\"\",\"\",VLOOKUP(City!B1876,miasta,4,0)))","v":""},null,null,null,"","","","","","","","","",{"$f":"IF($J1876=COLUMN(S1876)-10,$E1876,\"\")","v":""},"",""]
[null,null,null,null,"",{"$f":"IF(ISERROR(VLOOKUP(City!B1877,miasta,4,0)),\"\",IF(VLOOKUP(City!B1877,miasta,4,0)=\"\",\"\",VLOOKUP(City!B1877,miasta,4,0)))","v":""},null,null,null,"","","","","","","","","","","",""]
[null,null,null,null,"",{"$f":"IF(ISERROR(VLOOKUP(City!B1878,miasta,4,0)),\"\",IF(VLOOKUP(City!B1878,miasta,4,0)=\"\",\"\",VLOOKUP(City!B1878,miasta,4,0)))","v":""},null,null,null,"","","","","","","","","","","",""]
[null,null,null,null,"",{"$f":"IF(ISERROR(VLOOKUP(City!B1879,miasta,4,0)),\"\",IF(VLOOKUP(City!B1879,miasta,4,0)=\"\",\"\",VLOOKUP(City!B1879,miasta,4,0)))","v":""},null,null,null,"","","","","","","","","","","",""]
[null,null,null,null,"",{"$f":"IF(ISERROR(VLOOKUP(City!B1880,miasta,4,0)),\"\",IF(VLOOKUP(City!B1880,miasta,4,0)=\"\",\"\",VLOOKUP(City!B1880,miasta,4,0)))","v":""},null,null,null,"","","","","","","","","","","",""]
[null,null,null,null,"",{"$f":"IF(ISERROR(VLOOKUP(City!B1881,miasta,4,0)),\"\",IF(VLOOKUP(City!B1881,miasta,4,0)=\"\",\"\",VLOOKUP(City!B1881,miasta,4,0)))","v":""},null,null,null,"","","","","","","","","","","",""]
[null,null,null,null,"",{"$f":"IF(ISERROR(VLOOKUP(City!B1882,miasta,4,0)),\"\",IF(VLOOKUP(City!B1882,miasta,4,0)=\"\",\"\",VLOOKUP(City!B1882,miasta,4,0)))","v":""},null,null,null,"","","","","","","","","","","",""]
[null,null,null,null,"",{"$f":"IF(ISERROR(VLOOKUP(City!B1883,miasta,4,0)),\"\",IF(VLOOKUP(City!B1883,miasta,4,0)=\"\",\"\",VLOOKUP(City!B1883,miasta,4,0)))","v":""},null,null,null,"","","","","","","","","","","",""]
[null,null,null,null,"",{"$f":"IF(ISERROR(VLOOKUP(City!B1884,miasta,4,0)),\"\",IF(VLOOKUP(City!B1884,miasta,4,0)=\"\",\"\",VLOOKUP(City!B1884,miasta,4,0)))","v":""},null,null,null,"","","","","","","","","","","",""]
[null,null,null,null,"",{"$f":"IF(ISERROR(VLOOKUP(City!B1885,miasta,4,0)),\"\",IF(VLOOKUP(City!B1885,miasta,4,0)=\"\",\"\",VLOOKUP(City!B1885,miasta,4,0)))","v":""},null,null,null,"","","","","","","","","","","",""]
[null,null,null,null,"",{"$f":"IF(ISERROR(VLOOKUP(City!B1886,miasta,4,0)),\"\",IF(VLOOKUP(City!B1886,miasta,4,0)=\"\",\"\",VLOOKUP(City!B1886,miasta,4,0)))","v":""},null,null,null,"","","","","","","","","","","",""]
[null,null,null,null,"",{"$f":"IF(ISERROR(VLOOKUP(City!B1887,miasta,4,0)),\"\",IF(VLOOKUP(City!B1887,miasta,4,0)=\"\",\"\",VLOOKUP(City!B1887,miasta,4,0)))","v":""},null,null,null,"","","","","","","","","","","",""]
[null,null,null,null,"",{"$f":"IF(ISERROR(VLOOKUP(City!B1888,miasta,4,0)),\"\",IF(VLOOKUP(City!B1888,miasta,4,0)=\"\",\"\",VLOOKUP(City!B1888,miasta,4,0)))","v":""},null,null,null,"","","","","","","","","","","",""]
[null,null,null,null,"",{"$f":"IF(ISERROR(VLOOKUP(City!B1889,miasta,4,0)),\"\",IF(VLOOKUP(City!B1889,miasta,4,0)=\"\",\"\",VLOOKUP(City!B1889,miasta,4,0)))","v":""},null,null,null,"","","","","","","","","","","",""]
[null,null,null,null,"",{"$f":"IF(ISERROR(VLOOKUP(City!B1890,miasta,4,0)),\"\",IF(VLOOKUP(City!B1890,miasta,4,0)=\"\",\"\",VLOOKUP(City!B1890,miasta,4,0)))","v":""},null,null,null,"","","","","","","","","","","",""]
[null,null,null,null,"",{"$f":"IF(ISERROR(VLOOKUP(City!B1891,miasta,4,0)),\"\",IF(VLOOKUP(City!B1891,miasta,4,0)=\"\",\"\",VLOOKUP(City!B1891,miasta,4,0)))","v":""},null,null,null,"","","","","","","","","","","",""]
[null,null,null,null,"",{"$f":"IF(ISERROR(VLOOKUP(City!B1892,miasta,4,0)),\"\",IF(VLOOKUP(City!B1892,miasta,4,0)=\"\",\"\",VLOOKUP(City!B1892,miasta,4,0)))","v":""},null,null,null,"","","","","","","","","","","",""]
[null,null,null,null,"",{"$f":"IF(ISERROR(VLOOKUP(City!B1893,miasta,4,0)),\"\",IF(VLOOKUP(City!B1893,miasta,4,0)=\"\",\"\",VLOOKUP(City!B1893,miasta,4,0)))","v":""},null,null,null,"","","","","","","","","","","",""]
[null,null,null,null,"",{"$f":"IF(ISERROR(VLOOKUP(City!B1894,miasta,4,0)),\"\",IF(VLOOKUP(City!B1894,miasta,4,0)=\"\",\"\",VLOOKUP(City!B1894,miasta,4,0)))","v":""},null,null,null,"","","","","","","","","","","",""]
[null,null,null,null,"",{"$f":"IF(ISERROR(VLOOKUP(City!B1895,miasta,4,0)),\"\",IF(VLOOKUP(City!B1895,miasta,4,0)=\"\",\"\",VLOOKUP(City!B1895,miasta,4,0)))","v":""},null,null,null,"","","","","","","","","","","",""]
[null,null,null,null,"",{"$f":"IF(ISERROR(VLOOKUP(City!B1896,miasta,4,0)),\"\",IF(VLOOKUP(City!B1896,miasta,4,0)=\"\",\"\",VLOOKUP(City!B1896,miasta,4,0)))","v":""},null,null,null,"","","","","","","","","","","",""]
[null,null,null,null,"",{"$f":"IF(ISERROR(VLOOKUP(City!B1897,miasta,4,0)),\"\",IF(VLOOKUP(City!B1897,miasta,4,0)=\"\",\"\",VLOOKUP(City!B1897,miasta,4,0)))","v":""},null,null,null,"","","","","","","","","","","",""]
[null,null,null,null,"",{"$f":"IF(ISERROR(VLOOKUP(City!B1898,miasta,4,0)),\"\",IF(VLOOKUP(City!B1898,miasta,4,0)=\"\",\"\",VLOOKUP(City!B1898,miasta,4,0)))","v":""},null,null,null,"","","","","","","","","","","",""]
[null,null,null,null,"",{"$f":"IF(ISERROR(VLOOKUP(City!B1899,miasta,4,0)),\"\",IF(VLOOKUP(City!B1899,miasta,4,0)=\"\",\"\",VLOOKUP(City!B1899,miasta,4,0)))","v":""},null,null,null,"","","","","","","","","","","",""]
[null,null,null,null,"",{"$f":"IF(ISERROR(VLOOKUP(City!B1900,miasta,4,0)),\"\",IF(VLOOKUP(City!B1900,miasta,4,0)=\"\",\"\",VLOOKUP(City!B1900,miasta,4,0)))","v":""},null,null,null,"","","","","","","","","","","",""]
[null,null,null,null,"",{"$f":"IF(ISERROR(VLOOKUP(City!B1901,miasta,4,0)),\"\",IF(VLOOKUP(City!B1901,miasta,4,0)=\"\",\"\",VLOOKUP(City!B1901,miasta,4,0)))","v":""},null,null,null,"","","","","","","","","","","",""]
[null,null,null,null,"",{"$f":"IF(ISERROR(VLOOKUP(City!B1902,miasta,4,0)),\"\",IF(VLOOKUP(City!B1902,miasta,4,0)=\"\",\"\",VLOOKUP(City!B1902,miasta,4,0)))","v":""},null,null,null,"","","","","","","","","","","",""]
[null,null,null,null,"",{"$f":"IF(ISERROR(VLOOKUP(City!B1903,miasta,4,0)),\"\",IF(VLOOKUP(City!B1903,miasta,4,0)=\"\",\"\",VLOOKUP(City!B1903,miasta,4,0)))","v":""},null,null,null,"","","","","","","","","","","",""]
[null,null,null,null,"",{"$f":"IF(ISERROR(VLOOKUP(City!B1904,miasta,4,0)),\"\",IF(VLOOKUP(City!B1904,miasta,4,0)=\"\",\"\",VLOOKUP(City!B1904,miasta,4,0)))","v":""},null,null,null,"","","","","","","","","","","",""]
[null,null,null,null,"",{"$f":"IF(ISERROR(VLOOKUP(City!B1905,miasta,4,0)),\"\",IF(VLOOKUP(City!B1905,miasta,4,0)=\"\",\"\",VLOOKUP(City!B1905,miasta,4,0)))","v":""},null,null,null,"","",{"$f":"IF($J1905=COLUMN(L1905)-10,$E1905,\"\")","v":""},"","","","","","","","",""]
[null,null,null,null,"",{"$f":"IF(ISERROR(VLOOKUP(City!B1906,miasta,4,0)),\"\",IF(VLOOKUP(City!B1906,miasta,4,0)=\"\",\"\",VLOOKUP(City!B1906,miasta,4,0)))","v":""},null,null,null,"",{"$f":"IF($J1906=COLUMN(K1906)-10,$E1906,\"\")","v":""},"","","","","","","","","",""]
[null,null,null,null,"",{"$f":"IF(ISERROR(VLOOKUP(City!B1907,miasta,4,0)),\"\",IF(VLOOKUP(City!B1907,miasta,4,0)=\"\",\"\",VLOOKUP(City!B1907,miasta,4,0)))","v":""},null,null,null,"","","","","","","","","","","",""]
[null,null,null,null,"",{"$f":"IF(ISERROR(VLOOKUP(City!B1908,miasta,4,0)),\"\",IF(VLOOKUP(City!B1908,miasta,4,0)=\"\",\"\",VLOOKUP(City!B1908,miasta,4,0)))","v":""},null,null,null,"","","","","","","","","","","",""]
[null,null,null,null,"",{"$f":"IF(ISERROR(VLOOKUP(City!B1909,miasta,4,0)),\"\",IF(VLOOKUP(City!B1909,miasta,4,0)=\"\",\"\",VLOOKUP(City!B1909,miasta,4,0)))","v":""},null,null,null,"","","","","","","","","","","",""]
[null,null,null,null,"",{"$f":"IF(ISERROR(VLOOKUP(City!B1910,miasta,4,0)),\"\",IF(VLOOKUP(City!B1910,miasta,4,0)=\"\",\"\",VLOOKUP(City!B1910,miasta,4,0)))","v":""},null,null,null,"","","","","","","","","","","",""]
[null,null,null,null,"",{"$f":"IF(ISERROR(VLOOKUP(City!B1911,miasta,4,0)),\"\",IF(VLOOKUP(City!B1911,miasta,4,0)=\"\",\"\",VLOOKUP(City!B1911,miasta,4,0)))","v":""},null,null,null,"","","","","","","","","","","",""]
[null,null,null,null,"",{"$f":"IF(ISERROR(VLOOKUP(City!B1912,miasta,4,0)),\"\",IF(VLOOKUP(City!B1912,miasta,4,0)=\"\",\"\",VLOOKUP(City!B1912,miasta,4,0)))","v":""},null,null,null,"","","","","","","","","","","",""]
[null,null,null,null,"",{"$f":"IF(ISERROR(VLOOKUP(City!B1913,miasta,4,0)),\"\",IF(VLOOKUP(City!B1913,miasta,4,0)=\"\",\"\",VLOOKUP(City!B1913,miasta,4,0)))","v":""},null,null,null,"","","","","","","","","","","",""]
[null,null,null,null,"",{"$f":"IF(ISERROR(VLOOKUP(City!B1914,miasta,4,0)),\"\",IF(VLOOKUP(City!B1914,miasta,4,0)=\"\",\"\",VLOOKUP(City!B1914,miasta,4,0)))","v":""},null,null,null,"","","","","","","","","","","",""]
[null,null,null,null,"",{"$f":"IF(ISERROR(VLOOKUP(City!B1915,miasta,4,0)),\"\",IF(VLOOKUP(City!B1915,miasta,4,0)=\"\",\"\",VLOOKUP(City!B1915,miasta,4,0)))","v":""},null,null,null,"","","","","","","","","","","",""]
[null,null,null,null,"",{"$f":"IF(ISERROR(VLOOKUP(City!B1916,miasta,4,0)),\"\",IF(VLOOKUP(City!B1916,miasta,4,0)=\"\",\"\",VLOOKUP(City!B1916,miasta,4,0)))","v":""},null,null,null,"","","","","","","","","","","",""]
[null,null,null,null,"",{"$f":"IF(ISERROR(VLOOKUP(City!B1917,miasta,4,0)),\"\",IF(VLOOKUP(City!B1917,miasta,4,0)=\"\",\"\",VLOOKUP(City!B1917,miasta,4,0)))","v":""},null,null,null,"","","","","","","","","","","",""]
[null,null,null,null,"",{"$f":"IF(ISERROR(VLOOKUP(City!B1918,miasta,4,0)),\"\",IF(VLOOKUP(City!B1918,miasta,4,0)=\"\",\"\",VLOOKUP(City!B1918,miasta,4,0)))","v":""},null,null,null,"","","","","","","","","","","",""]
[null,null,null,null,"",{"$f":"IF(ISERROR(VLOOKUP(City!B1919,miasta,4,0)),\"\",IF(VLOOKUP(City!B1919,miasta,4,0)=\"\",\"\",VLOOKUP(City!B1919,miasta,4,0)))","v":""},null,null,null,"","","","","","","","","","","",""]
[null,null,null,null,"",{"$f":"IF(ISERROR(VLOOKUP(City!B1920,miasta,4,0)),\"\",IF(VLOOKUP(City!B1920,miasta,4,0)=\"\",\"\",VLOOKUP(City!B1920,miasta,4,0)))","v":""},null,null,null,"","","","","","","","","","","",""]
[null,null,null,null,"",{"$f":"IF(ISERROR(VLOOKUP(City!B1921,miasta,4,0)),\"\",IF(VLOOKUP(City!B1921,miasta,4,0)=\"\",\"\",VLOOKUP(City!B1921,miasta,4,0)))","v":""},null,null,null,"","","","","","","","","","","",""]
[null,null,null,null,{"$f":"IF(ISERROR(VLOOKUP(B1922,miasta,3,0)),\"\",VLOOKUP(B1922,miasta,3,0))","v":""},{"$f":"IF(ISERROR(VLOOKUP(City!B1922,miasta,4,0)),\"\",IF(VLOOKUP(City!B1922,miasta,4,0)=\"\",\"\",VLOOKUP(City!B1922,miasta,4,0)))","v":""},null,null,null,"","","","","","","","","","","",""]
[null,null,null,null,"",{"$f":"IF(ISERROR(VLOOKUP(City!B1923,miasta,4,0)),\"\",IF(VLOOKUP(City!B1923,miasta,4,0)=\"\",\"\",VLOOKUP(City!B1923,miasta,4,0)))","v":""},null,null,null,{"$f":"IF(ISERROR(VLOOKUP(F1923,$G$2:$I$12,3,1)),\"\",VLOOKUP(F1923,$G$2:$I$12,3,1))","v":""},"","","","","","","","","","",""]
[null,null,null,null,"",{"$f":"IF(ISERROR(VLOOKUP(City!B1924,miasta,4,0)),\"\",IF(VLOOKUP(City!B1924,miasta,4,0)=\"\",\"\",VLOOKUP(City!B1924,miasta,4,0)))","v":""},null,null,null,"","","","","","","","","","","",""]
[null,null,null,null,"",{"$f":"IF(ISERROR(VLOOKUP(City!B1925,miasta,4,0)),\"\",IF(VLOOKUP(City!B1925,miasta,4,0)=\"\",\"\",VLOOKUP(City!B1925,miasta,4,0)))","v":""},null,null,null,"","","","","","","","","","","",""]
[null,null,null,null,"",{"$f":"IF(ISERROR(VLOOKUP(City!B1926,miasta,4,0)),\"\",IF(VLOOKUP(City!B1926,miasta,4,0)=\"\",\"\",VLOOKUP(City!B1926,miasta,4,0)))","v":""},null,null,null,"","","","","","","","","","","",""]
[null,null,null,null,"",{"$f":"IF(ISERROR(VLOOKUP(City!B1927,miasta,4,0)),\"\",IF(VLOOKUP(City!B1927,miasta,4,0)=\"\",\"\",VLOOKUP(City!B1927,miasta,4,0)))","v":""},null,null,null,"","","","","","","","","","","",""]
[null,null,null,null,"",{"$f":"IF(ISERROR(VLOOKUP(City!B1928,miasta,4,0)),\"\",IF(VLOOKUP(City!B1928,miasta,4,0)=\"\",\"\",VLOOKUP(City!B1928,miasta,4,0)))","v":""},null,null,null,"","","","","","","","","","","",""]
[null,null,null,null,"",{"$f":"IF(ISERROR(VLOOKUP(City!B1929,miasta,4,0)),\"\",IF(VLOOKUP(City!B1929,miasta,4,0)=\"\",\"\",VLOOKUP(City!B1929,miasta,4,0)))","v":""},null,null,null,"","","","","","","","","","","",""]
[null,null,null,null,"",{"$f":"IF(ISERROR(VLOOKUP(City!B1930,miasta,4,0)),\"\",IF(VLOOKUP(City!B1930,miasta,4,0)=\"\",\"\",VLOOKUP(City!B1930,miasta,4,0)))","v":""},null,null,null,"","","","","","","","","","","",""]
[null,null,null,null,"",{"$f":"IF(ISERROR(VLOOKUP(City!B1931,miasta,4,0)),\"\",IF(VLOOKUP(City!B1931,miasta,4,0)=\"\",\"\",VLOOKUP(City!B1931,miasta,4,0)))","v":""},null,null,null,"","","","","","","","","","","",""]
[null,null,null,null,"",{"$f":"IF(ISERROR(VLOOKUP(City!B1932,miasta,4,0)),\"\",IF(VLOOKUP(City!B1932,miasta,4,0)=\"\",\"\",VLOOKUP(City!B1932,miasta,4,0)))","v":""},null,null,null,"","","","","","","","","","","",""]
[null,null,null,null,"",{"$f":"IF(ISERROR(VLOOKUP(City!B1933,miasta,4,0)),\"\",IF(VLOOKUP(City!B1933,miasta,4,0)=\"\",\"\",VLOOKUP(City!B1933,miasta,4,0)))","v":""},null,null,null,"","","","","","","","","","","",""]
[null,null,null,null,"",{"$f":"IF(ISERROR(VLOOKUP(City!B1934,miasta,4,0)),\"\",IF(VLOOKUP(City!B1934,miasta,4,0)=\"\",\"\",VLOOKUP(City!B1934,miasta,4,0)))","v":""},null,null,null,"","","","","","","","","","","",""]
[null,null,null,null,"",{"$f":"IF(ISERROR(VLOOKUP(City!B1935,miasta,4,0)),\"\",IF(VLOOKUP(City!B1935,miasta,4,0)=\"\",\"\",VLOOKUP(City!B1935,miasta,4,0)))","v":""},null,null,null,"","","","","","","","","","","",""]
[null,null,null,null,"",{"$f":"IF(ISERROR(VLOOKUP(City!B1936,miasta,4,0)),\"\",IF(VLOOKUP(City!B1936,miasta,4,0)=\"\",\"\",VLOOKUP(City!B1936,miasta,4,0)))","v":""},null,null,null,"","","","","","","","","","","",""]
[null,null,null,null,"",{"$f":"IF(ISERROR(VLOOKUP(City!B1937,miasta,4,0)),\"\",IF(VLOOKUP(City!B1937,miasta,4,0)=\"\",\"\",VLOOKUP(City!B1937,miasta,4,0)))","v":""},null,null,null,"","","","","","","","","","","",""]
[null,null,null,null,"",{"$f":"IF(ISERROR(VLOOKUP(City!B1938,miasta,4,0)),\"\",IF(VLOOKUP(City!B1938,miasta,4,0)=\"\",\"\",VLOOKUP(City!B1938,miasta,4,0)))","v":""},null,null,null,"","","","","","","","","","","",""]
[null,null,null,null,"",{"$f":"IF(ISERROR(VLOOKUP(City!B1939,miasta,4,0)),\"\",IF(VLOOKUP(City!B1939,miasta,4,0)=\"\",\"\",VLOOKUP(City!B1939,miasta,4,0)))","v":""},null,null,null,"","","","","","","","","","","",""]
[null,null,null,null,"",{"$f":"IF(ISERROR(VLOOKUP(City!B1940,miasta,4,0)),\"\",IF(VLOOKUP(City!B1940,miasta,4,0)=\"\",\"\",VLOOKUP(City!B1940,miasta,4,0)))","v":""},null,null,null,"","","","","","","","","","","",""]
[null,null,null,null,"",{"$f":"IF(ISERROR(VLOOKUP(City!B1941,miasta,4,0)),\"\",IF(VLOOKUP(City!B1941,miasta,4,0)=\"\",\"\",VLOOKUP(City!B1941,miasta,4,0)))","v":""},null,null,null,"","","","","","","","","","","",""]
[null,null,null,null,"",{"$f":"IF(ISERROR(VLOOKUP(City!B1942,miasta,4,0)),\"\",IF(VLOOKUP(City!B1942,miasta,4,0)=\"\",\"\",VLOOKUP(City!B1942,miasta,4,0)))","v":""},null,null,null,"","","","","","","","","","","",""]
[null,null,null,null,"",{"$f":"IF(ISERROR(VLOOKUP(City!B1943,miasta,4,0)),\"\",IF(VLOOKUP(City!B1943,miasta,4,0)=\"\",\"\",VLOOKUP(City!B1943,miasta,4,0)))","v":""},null,null,null,"","","","","","","","","","","",""]
[null,null,null,null,"",{"$f":"IF(ISERROR(VLOOKUP(City!B1944,miasta,4,0)),\"\",IF(VLOOKUP(City!B1944,miasta,4,0)=\"\",\"\",VLOOKUP(City!B1944,miasta,4,0)))","v":""},null,null,null,"","","","","","","","","","","",""]
[null,null,null,null,"",{"$f":"IF(ISERROR(VLOOKUP(City!B1945,miasta,4,0)),\"\",IF(VLOOKUP(City!B1945,miasta,4,0)=\"\",\"\",VLOOKUP(City!B1945,miasta,4,0)))","v":""},null,null,null,"","","","","","","","","","","",""]
[null,null,null,null,"",{"$f":"IF(ISERROR(VLOOKUP(City!B1946,miasta,4,0)),\"\",IF(VLOOKUP(City!B1946,miasta,4,0)=\"\",\"\",VLOOKUP(City!B1946,miasta,4,0)))","v":""},null,null,null,"","","","","","","","","","","",""]
[null,null,null,null,"",{"$f":"IF(ISERROR(VLOOKUP(City!B1947,miasta,4,0)),\"\",IF(VLOOKUP(City!B1947,miasta,4,0)=\"\",\"\",VLOOKUP(City!B1947,miasta,4,0)))","v":""},null,null,null,"","","","","","","","","","","",""]
[null,null,null,null,"",{"$f":"IF(ISERROR(VLOOKUP(City!B1948,miasta,4,0)),\"\",IF(VLOOKUP(City!B1948,miasta,4,0)=\"\",\"\",VLOOKUP(City!B1948,miasta,4,0)))","v":""},null,null,null,"","","","","","","","","","","",""]
[null,null,null,null,"",{"$f":"IF(ISERROR(VLOOKUP(City!B1949,miasta,4,0)),\"\",IF(VLOOKUP(City!B1949,miasta,4,0)=\"\",\"\",VLOOKUP(City!B1949,miasta,4,0)))","v":""},null,null,null,"","","","","","","","","","","",""]
[null,null,null,null,"",{"$f":"IF(ISERROR(VLOOKUP(City!B1950,miasta,4,0)),\"\",IF(VLOOKUP(City!B1950,miasta,4,0)=\"\",\"\",VLOOKUP(City!B1950,miasta,4,0)))","v":""},null,null,null,"","","","","","","","","","","",""]
[null,null,null,null,"",{"$f":"IF(ISERROR(VLOOKUP(City!B1951,miasta,4,0)),\"\",IF(VLOOKUP(City!B1951,miasta,4,0)=\"\",\"\",VLOOKUP(City!B1951,miasta,4,0)))","v":""},null,null,null,"","","","","","","","","","","",""]
[null,null,null,null,"",{"$f":"IF(ISERROR(VLOOKUP(City!B1952,miasta,4,0)),\"\",IF(VLOOKUP(City!B1952,miasta,4,0)=\"\",\"\",VLOOKUP(City!B1952,miasta,4,0)))","v":""},null,null,null,"","","","","","","","","","","",""]
[null,null,null,null,"",{"$f":"IF(ISERROR(VLOOKUP(City!B1953,miasta,4,0)),\"\",IF(VLOOKUP(City!B1953,miasta,4,0)=\"\",\"\",VLOOKUP(City!B1953,miasta,4,0)))","v":""},null,null,null,"","","","","","","","","","","",""]
[null,null,null,null,"",{"$f":"IF(ISERROR(VLOOKUP(City!B1954,miasta,4,0)),\"\",IF(VLOOKUP(City!B1954,miasta,4,0)=\"\",\"\",VLOOKUP(City!B1954,miasta,4,0)))","v":""},null,null,null,"","","","","","","","","","","",""]
[null,null,null,null,"",{"$f":"IF(ISERROR(VLOOKUP(City!B1955,miasta,4,0)),\"\",IF(VLOOKUP(City!B1955,miasta,4,0)=\"\",\"\",VLOOKUP(City!B1955,miasta,4,0)))","v":""},null,null,null,"","","","","","","","","","","",""]
[null,null,null,null,"",{"$f":"IF(ISERROR(VLOOKUP(City!B1956,miasta,4,0)),\"\",IF(VLOOKUP(City!B1956,miasta,4,0)=\"\",\"\",VLOOKUP(City!B1956,miasta,4,0)))","v":""},null,null,null,"","","","","","","","","","","",""]
[null,null,null,null,"",{"$f":"IF(ISERROR(VLOOKUP(City!B1957,miasta,4,0)),\"\",IF(VLOOKUP(City!B1957,miasta,4,0)=\"\",\"\",VLOOKUP(City!B1957,miasta,4,0)))","v":""},null,null,null,"","","","","","","","","","","",""]
[null,null,null,null,"",{"$f":"IF(ISERROR(VLOOKUP(City!B1958,miasta,4,0)),\"\",IF(VLOOKUP(City!B1958,miasta,4,0)=\"\",\"\",VLOOKUP(City!B1958,miasta,4,0)))","v":""},null,null,null,"","","","","","","","","","","",""]
[null,null,null,null,"",{"$f":"IF(ISERROR(VLOOKUP(City!B1959,miasta,4,0)),\"\",IF(VLOOKUP(City!B1959,miasta,4,0)=\"\",\"\",VLOOKUP(City!B1959,miasta,4,0)))","v":""},null,null,null,"","","","","","","","","","","",""]
[null,null,null,null,"",{"$f":"IF(ISERROR(VLOOKUP(City!B1960,miasta,4,0)),\"\",IF(VLOOKUP(City!B1960,miasta,4,0)=\"\",\"\",VLOOKUP(City!B1960,miasta,4,0)))","v":""},null,null,null,"","","","","","","","","","","",""]
[null,null,null,null,"",{"$f":"IF(ISERROR(VLOOKUP(City!B1961,miasta,4,0)),\"\",IF(VLOOKUP(City!B1961,miasta,4,0)=\"\",\"\",VLOOKUP(City!B1961,miasta,4,0)))","v":""},null,null,null,"",{"$f":"IF($J1961=COLUMN(K1961)-10,$E1961,\"\")","v":""},"","","","","","","","","",""]
[null,null,null,null,"",{"$f":"IF(ISERROR(VLOOKUP(City!B1962,miasta,4,0)),\"\",IF(VLOOKUP(City!B1962,miasta,4,0)=\"\",\"\",VLOOKUP(City!B1962,miasta,4,0)))","v":""},null,null,null,"","","","","","","","","","","",""]
[null,null,null,null,"",{"$f":"IF(ISERROR(VLOOKUP(City!B1963,miasta,4,0)),\"\",IF(VLOOKUP(City!B1963,miasta,4,0)=\"\",\"\",VLOOKUP(City!B1963,miasta,4,0)))","v":""},null,null,null,"","","","","","","","","","","",""]
[null,null,null,null,"",{"$f":"IF(ISERROR(VLOOKUP(City!B1964,miasta,4,0)),\"\",IF(VLOOKUP(City!B1964,miasta,4,0)=\"\",\"\",VLOOKUP(City!B1964,miasta,4,0)))","v":""},null,null,null,"","","","","","","","","","","",""]
[null,null,null,null,"",{"$f":"IF(ISERROR(VLOOKUP(City!B1965,miasta,4,0)),\"\",IF(VLOOKUP(City!B1965,miasta,4,0)=\"\",\"\",VLOOKUP(City!B1965,miasta,4,0)))","v":""},null,null,null,"","","","","","","","","","","",""]
[null,null,null,null,"",{"$f":"IF(ISERROR(VLOOKUP(City!B1966,miasta,4,0)),\"\",IF(VLOOKUP(City!B1966,miasta,4,0)=\"\",\"\",VLOOKUP(City!B1966,miasta,4,0)))","v":""},null,null,null,"","","","","","","","","","","",""]
[null,null,null,null,"",{"$f":"IF(ISERROR(VLOOKUP(City!B1967,miasta,4,0)),\"\",IF(VLOOKUP(City!B1967,miasta,4,0)=\"\",\"\",VLOOKUP(City!B1967,miasta,4,0)))","v":""},null,null,null,"","","","","","","","","","","",""]
[null,null,null,null,"",{"$f":"IF(ISERROR(VLOOKUP(City!B1968,miasta,4,0)),\"\",IF(VLOOKUP(City!B1968,miasta,4,0)=\"\",\"\",VLOOKUP(City!B1968,miasta,4,0)))","v":""},null,null,null,"","","","","","","","","","","",""]
[null,null,null,null,"",{"$f":"IF(ISERROR(VLOOKUP(City!B1969,miasta,4,0)),\"\",IF(VLOOKUP(City!B1969,miasta,4,0)=\"\",\"\",VLOOKUP(City!B1969,miasta,4,0)))","v":""},null,null,null,"","","","","","","","","","","",""]
[null,null,null,null,"",{"$f":"IF(ISERROR(VLOOKUP(City!B1970,miasta,4,0)),\"\",IF(VLOOKUP(City!B1970,miasta,4,0)=\"\",\"\",VLOOKUP(City!B1970,miasta,4,0)))","v":""},null,null,null,"","","","","","","","","","","",""]
[null,null,null,null,"",{"$f":"IF(ISERROR(VLOOKUP(City!B1971,miasta,4,0)),\"\",IF(VLOOKUP(City!B1971,miasta,4,0)=\"\",\"\",VLOOKUP(City!B1971,miasta,4,0)))","v":""},null,null,null,"","","","","","","","","","","",""]
[null,null,null,null,"",{"$f":"IF(ISERROR(VLOOKUP(City!B1972,miasta,4,0)),\"\",IF(VLOOKUP(City!B1972,miasta,4,0)=\"\",\"\",VLOOKUP(City!B1972,miasta,4,0)))","v":""},null,null,null,"","","","","","","","","","","",""]
[null,null,null,null,"",{"$f":"IF(ISERROR(VLOOKUP(City!B1973,miasta,4,0)),\"\",IF(VLOOKUP(City!B1973,miasta,4,0)=\"\",\"\",VLOOKUP(City!B1973,miasta,4,0)))","v":""},null,null,null,"","","","","","","","","","","",""]
[null,null,null,null,"",{"$f":"IF(ISERROR(VLOOKUP(City!B1974,miasta,4,0)),\"\",IF(VLOOKUP(City!B1974,miasta,4,0)=\"\",\"\",VLOOKUP(City!B1974,miasta,4,0)))","v":""},null,null,null,"","","","","","","","","","","",""]
[null,null,null,null,"",{"$f":"IF(ISERROR(VLOOKUP(City!B1975,miasta,4,0)),\"\",IF(VLOOKUP(City!B1975,miasta,4,0)=\"\",\"\",VLOOKUP(City!B1975,miasta,4,0)))","v":""},null,null,null,"","","","","","","","","","","",""]
[null,null,null,null,"",{"$f":"IF(ISERROR(VLOOKUP(City!B1976,miasta,4,0)),\"\",IF(VLOOKUP(City!B1976,miasta,4,0)=\"\",\"\",VLOOKUP(City!B1976,miasta,4,0)))","v":""},null,null,null,"","","","","","","","","","","",""]
[null,null,null,null,"",{"$f":"IF(ISERROR(VLOOKUP(City!B1977,miasta,4,0)),\"\",IF(VLOOKUP(City!B1977,miasta,4,0)=\"\",\"\",VLOOKUP(City!B1977,miasta,4,0)))","v":""},null,null,null,"","","","","","","","","","","",""]
[null,null,null,null,"",{"$f":"IF(ISERROR(VLOOKUP(City!B1978,miasta,4,0)),\"\",IF(VLOOKUP(City!B1978,miasta,4,0)=\"\",\"\",VLOOKUP(City!B1978,miasta,4,0)))","v":""},null,null,null,"","","","","","","","","","","",""]
[null,null,null,null,"",{"$f":"IF(ISERROR(VLOOKUP(City!B1979,miasta,4,0)),\"\",IF(VLOOKUP(City!B1979,miasta,4,0)=\"\",\"\",VLOOKUP(City!B1979,miasta,4,0)))","v":""},null,null,null,"","","","","","","","","","","",""]
[null,null,null,null,"",{"$f":"IF(ISERROR(VLOOKUP(City!B1980,miasta,4,0)),\"\",IF(VLOOKUP(City!B1980,miasta,4,0)=\"\",\"\",VLOOKUP(City!B1980,miasta,4,0)))","v":""},null,null,null,"","","","","","","","","","","",""]
[null,null,null,null,"",{"$f":"IF(ISERROR(VLOOKUP(City!B1981,miasta,4,0)),\"\",IF(VLOOKUP(City!B1981,miasta,4,0)=\"\",\"\",VLOOKUP(City!B1981,miasta,4,0)))","v":""},null,null,null,"","","","","","","","","","","",""]
[null,null,null,null,"",{"$f":"IF(ISERROR(VLOOKUP(City!B1982,miasta,4,0)),\"\",IF(VLOOKUP(City!B1982,miasta,4,0)=\"\",\"\",VLOOKUP(City!B1982,miasta,4,0)))","v":""},null,null,null,"","","","","","","","","","","",""]
[null,null,null,null,"",{"$f":"IF(ISERROR(VLOOKUP(City!B1983,miasta,4,0)),\"\",IF(VLOOKUP(City!B1983,miasta,4,0)=\"\",\"\",VLOOKUP(City!B1983,miasta,4,0)))","v":""},null,null,null,"","","","","","","","","","","",""]
[null,null,null,null,"",{"$f":"IF(ISERROR(VLOOKUP(City!B1984,miasta,4,0)),\"\",IF(VLOOKUP(City!B1984,miasta,4,0)=\"\",\"\",VLOOKUP(City!B1984,miasta,4,0)))","v":""},null,null,null,"","","",{"$f":"IF($J1984=COLUMN(M1984)-10,$E1984,\"\")","v":""},"","","","","","","",""]
[null,null,null,null,"",{"$f":"IF(ISERROR(VLOOKUP(City!B1985,miasta,4,0)),\"\",IF(VLOOKUP(City!B1985,miasta,4,0)=\"\",\"\",VLOOKUP(City!B1985,miasta,4,0)))","v":""},null,null,null,"",{"$f":"IF($J1985=COLUMN(K1985)-10,$E1985,\"\")","v":""},"","","","","","","","","",""]
[null,null,null,null,{"$f":"IF(ISERROR(VLOOKUP(B1986,miasta,3,0)),\"\",VLOOKUP(B1986,miasta,3,0))","v":""},{"$f":"IF(ISERROR(VLOOKUP(City!B1986,miasta,4,0)),\"\",IF(VLOOKUP(City!B1986,miasta,4,0)=\"\",\"\",VLOOKUP(City!B1986,miasta,4,0)))","v":""},null,null,null,"","","","","","","","","","","",""]
[null,null,null,null,"",{"$f":"IF(ISERROR(VLOOKUP(City!B1987,miasta,4,0)),\"\",IF(VLOOKUP(City!B1987,miasta,4,0)=\"\",\"\",VLOOKUP(City!B1987,miasta,4,0)))","v":""},null,null,null,{"$f":"IF(ISERROR(VLOOKUP(F1987,$G$2:$I$12,3,1)),\"\",VLOOKUP(F1987,$G$2:$I$12,3,1))","v":""},"","","","","","","","","","",""]
[null,null,null,null,"",{"$f":"IF(ISERROR(VLOOKUP(City!B1988,miasta,4,0)),\"\",IF(VLOOKUP(City!B1988,miasta,4,0)=\"\",\"\",VLOOKUP(City!B1988,miasta,4,0)))","v":""},null,null,null,"","","","","","","","","","","",""]
[null,null,null,null,"",{"$f":"IF(ISERROR(VLOOKUP(City!B1989,miasta,4,0)),\"\",IF(VLOOKUP(City!B1989,miasta,4,0)=\"\",\"\",VLOOKUP(City!B1989,miasta,4,0)))","v":""},null,null,null,"","","","","","","","","","","",""]
[null,null,null,null,"",{"$f":"IF(ISERROR(VLOOKUP(City!B1990,miasta,4,0)),\"\",IF(VLOOKUP(City!B1990,miasta,4,0)=\"\",\"\",VLOOKUP(City!B1990,miasta,4,0)))","v":""},null,null,null,"","","","","","","","","","","",""]
[null,null,null,null,"",{"$f":"IF(ISERROR(VLOOKUP(City!B1991,miasta,4,0)),\"\",IF(VLOOKUP(City!B1991,miasta,4,0)=\"\",\"\",VLOOKUP(City!B1991,miasta,4,0)))","v":""},null,null,null,"","","","","","","","","","","",""]
[null,null,null,null,"",{"$f":"IF(ISERROR(VLOOKUP(City!B1992,miasta,4,0)),\"\",IF(VLOOKUP(City!B1992,miasta,4,0)=\"\",\"\",VLOOKUP(City!B1992,miasta,4,0)))","v":""},null,null,null,"","","","","","","","","","","",""]
[null,null,null,null,"",{"$f":"IF(ISERROR(VLOOKUP(City!B1993,miasta,4,0)),\"\",IF(VLOOKUP(City!B1993,miasta,4,0)=\"\",\"\",VLOOKUP(City!B1993,miasta,4,0)))","v":""},null,null,null,"","","","","","","","","","","",""]
[null,null,null,null,"",{"$f":"IF(ISERROR(VLOOKUP(City!B1994,miasta,4,0)),\"\",IF(VLOOKUP(City!B1994,miasta,4,0)=\"\",\"\",VLOOKUP(City!B1994,miasta,4,0)))","v":""},null,null,null,"","","","","","","","","","","",""]
[null,null,null,null,"",{"$f":"IF(ISERROR(VLOOKUP(City!B1995,miasta,4,0)),\"\",IF(VLOOKUP(City!B1995,miasta,4,0)=\"\",\"\",VLOOKUP(City!B1995,miasta,4,0)))","v":""},null,null,null,"","","","","","","","","","","",""]
[null,null,null,null,"",{"$f":"IF(ISERROR(VLOOKUP(City!B1996,miasta,4,0)),\"\",IF(VLOOKUP(City!B1996,miasta,4,0)=\"\",\"\",VLOOKUP(City!B1996,miasta,4,0)))","v":""},null,null,null,"","","","","","","","","","","",""]
[null,null,null,null,"",{"$f":"IF(ISERROR(VLOOKUP(City!B1997,miasta,4,0)),\"\",IF(VLOOKUP(City!B1997,miasta,4,0)=\"\",\"\",VLOOKUP(City!B1997,miasta,4,0)))","v":""},null,null,null,"","","","","","","","","","","",""]
[null,null,null,null,"",{"$f":"IF(ISERROR(VLOOKUP(City!B1998,miasta,4,0)),\"\",IF(VLOOKUP(City!B1998,miasta,4,0)=\"\",\"\",VLOOKUP(City!B1998,miasta,4,0)))","v":""},null,null,null,"","","","","","","","","","","",""]
[null,null,null,null,"",{"$f":"IF(ISERROR(VLOOKUP(City!B1999,miasta,4,0)),\"\",IF(VLOOKUP(City!B1999,miasta,4,0)=\"\",\"\",VLOOKUP(City!B1999,miasta,4,0)))","v":""},null,null,null,"","","","","","","","","","","",""]
[null,null,null,null,"",{"$f":"IF(ISERROR(VLOOKUP(City!B2000,miasta,4,0)),\"\",IF(VLOOKUP(City!B2000,miasta,4,0)=\"\",\"\",VLOOKUP(City!B2000,miasta,4,0)))","v":""},null,null,null,"","","","","","","","","","","",""]
[null,null,null,null,"",{"$f":"IF(ISERROR(VLOOKUP(City!B2001,miasta,4,0)),\"\",IF(VLOOKUP(City!B2001,miasta,4,0)=\"\",\"\",VLOOKUP(City!B2001,miasta,4,0)))","v":""},null,null,null,"","","","","","","","","","","",""]
[null,null,null,null,"",{"$f":"IF(ISERROR(VLOOKUP(City!B2002,miasta,4,0)),\"\",IF(VLOOKUP(City!B2002,miasta,4,0)=\"\",\"\",VLOOKUP(City!B2002,miasta,4,0)))","v":""},null,null,null,"","","","","","","","","","","",""]
[null,null,null,null,"",{"$f":"IF(ISERROR(VLOOKUP(City!B2003,miasta,4,0)),\"\",IF(VLOOKUP(City!B2003,miasta,4,0)=\"\",\"\",VLOOKUP(City!B2003,miasta,4,0)))","v":""},null,null,null,"","","","","","","","","","","",""]
[null,null,null,null,"",{"$f":"IF(ISERROR(VLOOKUP(City!B2004,miasta,4,0)),\"\",IF(VLOOKUP(City!B2004,miasta,4,0)=\"\",\"\",VLOOKUP(City!B2004,miasta,4,0)))","v":""},null,null,null,"","","","","","","","","","","",""]
[null,null,null,null,"",{"$f":"IF(ISERROR(VLOOKUP(City!B2005,miasta,4,0)),\"\",IF(VLOOKUP(City!B2005,miasta,4,0)=\"\",\"\",VLOOKUP(City!B2005,miasta,4,0)))","v":""},null,null,null,"","","","","","","","","","","",""]
[null,null,null,null,"",{"$f":"IF(ISERROR(VLOOKUP(City!B2006,miasta,4,0)),\"\",IF(VLOOKUP(City!B2006,miasta,4,0)=\"\",\"\",VLOOKUP(City!B2006,miasta,4,0)))","v":""},null,null,null,"","","","","","","","","","","",""]
[null,null,null,null,"",{"$f":"IF(ISERROR(VLOOKUP(City!B2007,miasta,4,0)),\"\",IF(VLOOKUP(City!B2007,miasta,4,0)=\"\",\"\",VLOOKUP(City!B2007,miasta,4,0)))","v":""},null,null,null,"","","","","","","","","","","",""]
[null,null,null,null,"",{"$f":"IF(ISERROR(VLOOKUP(City!B2008,miasta,4,0)),\"\",IF(VLOOKUP(City!B2008,miasta,4,0)=\"\",\"\",VLOOKUP(City!B2008,miasta,4,0)))","v":""},null,null,null,"","","","","","","","","","","",""]
[null,null,null,null,"",{"$f":"IF(ISERROR(VLOOKUP(City!B2009,miasta,4,0)),\"\",IF(VLOOKUP(City!B2009,miasta,4,0)=\"\",\"\",VLOOKUP(City!B2009,miasta,4,0)))","v":""},null,null,null,"","","","","","","","","","","",""]
[null,null,null,null,"",{"$f":"IF(ISERROR(VLOOKUP(City!B2010,miasta,4,0)),\"\",IF(VLOOKUP(City!B2010,miasta,4,0)=\"\",\"\",VLOOKUP(City!B2010,miasta,4,0)))","v":""},null,null,null,"","","","","","","","","","","",""]
[null,null,null,null,"",{"$f":"IF(ISERROR(VLOOKUP(City!B2011,miasta,4,0)),\"\",IF(VLOOKUP(City!B2011,miasta,4,0)=\"\",\"\",VLOOKUP(City!B2011,miasta,4,0)))","v":""},null,null,null,"","","","","","","","","","","",""]
[null,null,null,null,"",{"$f":"IF(ISERROR(VLOOKUP(City!B2012,miasta,4,0)),\"\",IF(VLOOKUP(City!B2012,miasta,4,0)=\"\",\"\",VLOOKUP(City!B2012,miasta,4,0)))","v":""},null,null,null,"","","","","","",{"$f":"IF($J2012=COLUMN(P2012)-10,$E2012,\"\")","v":""},"","","","",""]
[null,null,null,null,"",{"$f":"IF(ISERROR(VLOOKUP(City!B2013,miasta,4,0)),\"\",IF(VLOOKUP(City!B2013,miasta,4,0)=\"\",\"\",VLOOKUP(City!B2013,miasta,4,0)))","v":""},null,null,null,"","","","","","","","","","","",""]
[null,null,null,null,"",{"$f":"IF(ISERROR(VLOOKUP(City!B2014,miasta,4,0)),\"\",IF(VLOOKUP(City!B2014,miasta,4,0)=\"\",\"\",VLOOKUP(City!B2014,miasta,4,0)))","v":""},null,null,null,"","","","","","","","","","","",""]
[null,null,null,null,"",{"$f":"IF(ISERROR(VLOOKUP(City!B2015,miasta,4,0)),\"\",IF(VLOOKUP(City!B2015,miasta,4,0)=\"\",\"\",VLOOKUP(City!B2015,miasta,4,0)))","v":""},null,null,null,"","","","","","","","","","","",""]
[null,null,null,null,"",{"$f":"IF(ISERROR(VLOOKUP(City!B2016,miasta,4,0)),\"\",IF(VLOOKUP(City!B2016,miasta,4,0)=\"\",\"\",VLOOKUP(City!B2016,miasta,4,0)))","v":""},null,null,null,"","","","","","","","","","","",""]
[null,null,null,null,"",{"$f":"IF(ISERROR(VLOOKUP(City!B2017,miasta,4,0)),\"\",IF(VLOOKUP(City!B2017,miasta,4,0)=\"\",\"\",VLOOKUP(City!B2017,miasta,4,0)))","v":""},null,null,null,"","","","","","","","","","","",""]
[null,null,null,null,"",{"$f":"IF(ISERROR(VLOOKUP(City!B2018,miasta,4,0)),\"\",IF(VLOOKUP(City!B2018,miasta,4,0)=\"\",\"\",VLOOKUP(City!B2018,miasta,4,0)))","v":""},null,null,null,"","","","","","","","","","","",""]
[null,null,null,null,"",{"$f":"IF(ISERROR(VLOOKUP(City!B2019,miasta,4,0)),\"\",IF(VLOOKUP(City!B2019,miasta,4,0)=\"\",\"\",VLOOKUP(City!B2019,miasta,4,0)))","v":""},null,null,null,"","","","","","","","","","","",""]
[null,null,null,null,"",{"$f":"IF(ISERROR(VLOOKUP(City!B2020,miasta,4,0)),\"\",IF(VLOOKUP(City!B2020,miasta,4,0)=\"\",\"\",VLOOKUP(City!B2020,miasta,4,0)))","v":""},null,null,null,"","","","","","","","","","","",""]
[null,null,null,null,"",{"$f":"IF(ISERROR(VLOOKUP(City!B2021,miasta,4,0)),\"\",IF(VLOOKUP(City!B2021,miasta,4,0)=\"\",\"\",VLOOKUP(City!B2021,miasta,4,0)))","v":""},null,null,null,"","","","","","","","","","","",""]
[null,null,null,null,"",{"$f":"IF(ISERROR(VLOOKUP(City!B2022,miasta,4,0)),\"\",IF(VLOOKUP(City!B2022,miasta,4,0)=\"\",\"\",VLOOKUP(City!B2022,miasta,4,0)))","v":""},null,null,null,"","","","","","","","","","","",""]
[null,null,null,null,"",{"$f":"IF(ISERROR(VLOOKUP(City!B2023,miasta,4,0)),\"\",IF(VLOOKUP(City!B2023,miasta,4,0)=\"\",\"\",VLOOKUP(City!B2023,miasta,4,0)))","v":""},null,null,null,"","","","","","","","","","","",""]
[null,null,null,null,"",{"$f":"IF(ISERROR(VLOOKUP(City!B2024,miasta,4,0)),\"\",IF(VLOOKUP(City!B2024,miasta,4,0)=\"\",\"\",VLOOKUP(City!B2024,miasta,4,0)))","v":""},null,null,null,"","","","","","","","","","","",""]
[null,null,null,null,"",{"$f":"IF(ISERROR(VLOOKUP(City!B2025,miasta,4,0)),\"\",IF(VLOOKUP(City!B2025,miasta,4,0)=\"\",\"\",VLOOKUP(City!B2025,miasta,4,0)))","v":""},null,null,null,"","","","","","","","","","","",""]
[null,null,null,null,"",{"$f":"IF(ISERROR(VLOOKUP(City!B2026,miasta,4,0)),\"\",IF(VLOOKUP(City!B2026,miasta,4,0)=\"\",\"\",VLOOKUP(City!B2026,miasta,4,0)))","v":""},null,null,null,"","","","","","","","","","","",""]
[null,null,null,null,"",{"$f":"IF(ISERROR(VLOOKUP(City!B2027,miasta,4,0)),\"\",IF(VLOOKUP(City!B2027,miasta,4,0)=\"\",\"\",VLOOKUP(City!B2027,miasta,4,0)))","v":""},null,null,null,"","","","","","","","","","","",""]
[null,null,null,null,"",{"$f":"IF(ISERROR(VLOOKUP(City!B2028,miasta,4,0)),\"\",IF(VLOOKUP(City!B2028,miasta,4,0)=\"\",\"\",VLOOKUP(City!B2028,miasta,4,0)))","v":""},null,null,null,"","","","","","","","","","","",""]
[null,null,null,null,"",{"$f":"IF(ISERROR(VLOOKUP(City!B2029,miasta,4,0)),\"\",IF(VLOOKUP(City!B2029,miasta,4,0)=\"\",\"\",VLOOKUP(City!B2029,miasta,4,0)))","v":""},null,null,null,"","","","","","","","","","","",""]
[null,null,null,null,"",{"$f":"IF(ISERROR(VLOOKUP(City!B2030,miasta,4,0)),\"\",IF(VLOOKUP(City!B2030,miasta,4,0)=\"\",\"\",VLOOKUP(City!B2030,miasta,4,0)))","v":""},null,null,null,"","","","","","","","","","","",""]
[null,null,null,null,"",{"$f":"IF(ISERROR(VLOOKUP(City!B2031,miasta,4,0)),\"\",IF(VLOOKUP(City!B2031,miasta,4,0)=\"\",\"\",VLOOKUP(City!B2031,miasta,4,0)))","v":""},null,null,null,"","","","","","","","","","","",""]
[null,null,null,null,"",{"$f":"IF(ISERROR(VLOOKUP(City!B2032,miasta,4,0)),\"\",IF(VLOOKUP(City!B2032,miasta,4,0)=\"\",\"\",VLOOKUP(City!B2032,miasta,4,0)))","v":""},null,null,null,"","","","","","","","","","","",""]
[null,null,null,null,"",{"$f":"IF(ISERROR(VLOOKUP(City!B2033,miasta,4,0)),\"\",IF(VLOOKUP(City!B2033,miasta,4,0)=\"\",\"\",VLOOKUP(City!B2033,miasta,4,0)))","v":""},null,null,null,"","","","","","","","","","","",""]
[null,null,null,null,"",{"$f":"IF(ISERROR(VLOOKUP(City!B2034,miasta,4,0)),\"\",IF(VLOOKUP(City!B2034,miasta,4,0)=\"\",\"\",VLOOKUP(City!B2034,miasta,4,0)))","v":""},null,null,null,"","","","","","","","","","","",""]
[null,null,null,null,"",{"$f":"IF(ISERROR(VLOOKUP(City!B2035,miasta,4,0)),\"\",IF(VLOOKUP(City!B2035,miasta,4,0)=\"\",\"\",VLOOKUP(City!B2035,miasta,4,0)))","v":""},null,null,null,"","","","","","","","","","","",""]
[null,null,null,null,"",{"$f":"IF(ISERROR(VLOOKUP(City!B2036,miasta,4,0)),\"\",IF(VLOOKUP(City!B2036,miasta,4,0)=\"\",\"\",VLOOKUP(City!B2036,miasta,4,0)))","v":""},null,null,null,"","","","","","","","","","","",""]
[null,null,null,null,"",{"$f":"IF(ISERROR(VLOOKUP(City!B2037,miasta,4,0)),\"\",IF(VLOOKUP(City!B2037,miasta,4,0)=\"\",\"\",VLOOKUP(City!B2037,miasta,4,0)))","v":""},null,null,null,"","","","","","","","","","","",""]
[null,null,null,null,"",{"$f":"IF(ISERROR(VLOOKUP(City!B2038,miasta,4,0)),\"\",IF(VLOOKUP(City!B2038,miasta,4,0)=\"\",\"\",VLOOKUP(City!B2038,miasta,4,0)))","v":""},null,null,null,"","","","","","","","","","","",""]
[null,null,null,null,"",{"$f":"IF(ISERROR(VLOOKUP(City!B2039,miasta,4,0)),\"\",IF(VLOOKUP(City!B2039,miasta,4,0)=\"\",\"\",VLOOKUP(City!B2039,miasta,4,0)))","v":""},null,null,null,"","","","","","","","","","","",""]
[null,null,null,null,"",{"$f":"IF(ISERROR(VLOOKUP(City!B2040,miasta,4,0)),\"\",IF(VLOOKUP(City!B2040,miasta,4,0)=\"\",\"\",VLOOKUP(City!B2040,miasta,4,0)))","v":""},null,null,null,"","","","","","","","","","","",""]
[null,null,null,null,"",{"$f":"IF(ISERROR(VLOOKUP(City!B2041,miasta,4,0)),\"\",IF(VLOOKUP(City!B2041,miasta,4,0)=\"\",\"\",VLOOKUP(City!B2041,miasta,4,0)))","v":""},null,null,null,"","","","","","","","","","","",""]
[null,null,null,null,"",{"$f":"IF(ISERROR(VLOOKUP(City!B2042,miasta,4,0)),\"\",IF(VLOOKUP(City!B2042,miasta,4,0)=\"\",\"\",VLOOKUP(City!B2042,miasta,4,0)))","v":""},null,null,null,"","","","","","","","","","","",""]
[null,null,null,null,"",{"$f":"IF(ISERROR(VLOOKUP(City!B2043,miasta,4,0)),\"\",IF(VLOOKUP(City!B2043,miasta,4,0)=\"\",\"\",VLOOKUP(City!B2043,miasta,4,0)))","v":""},null,null,null,"","","","","","","","","","","",""]
[null,null,null,null,"",{"$f":"IF(ISERROR(VLOOKUP(City!B2044,miasta,4,0)),\"\",IF(VLOOKUP(City!B2044,miasta,4,0)=\"\",\"\",VLOOKUP(City!B2044,miasta,4,0)))","v":""},null,null,null,"","","","","","","","","","","",""]
[null,null,null,null,"",{"$f":"IF(ISERROR(VLOOKUP(City!B2045,miasta,4,0)),\"\",IF(VLOOKUP(City!B2045,miasta,4,0)=\"\",\"\",VLOOKUP(City!B2045,miasta,4,0)))","v":""},null,null,null,"","","","","","","","","","","",""]
[null,null,null,null,"",{"$f":"IF(ISERROR(VLOOKUP(City!B2046,miasta,4,0)),\"\",IF(VLOOKUP(City!B2046,miasta,4,0)=\"\",\"\",VLOOKUP(City!B2046,miasta,4,0)))","v":""},null,null,null,"","","","","","","","","","","",""]
[null,null,null,null,"",{"$f":"IF(ISERROR(VLOOKUP(City!B2047,miasta,4,0)),\"\",IF(VLOOKUP(City!B2047,miasta,4,0)=\"\",\"\",VLOOKUP(City!B2047,miasta,4,0)))","v":""},null,null,null,"","","","","","","","","","","",""]
[null,null,null,null,"",{"$f":"IF(ISERROR(VLOOKUP(City!B2048,miasta,4,0)),\"\",IF(VLOOKUP(City!B2048,miasta,4,0)=\"\",\"\",VLOOKUP(City!B2048,miasta,4,0)))","v":""},null,null,null,"","","","","","","","","","","",""]
[null,null,null,null,"",{"$f":"IF(ISERROR(VLOOKUP(City!B2049,miasta,4,0)),\"\",IF(VLOOKUP(City!B2049,miasta,4,0)=\"\",\"\",VLOOKUP(City!B2049,miasta,4,0)))","v":""},null,null,null,"",{"$f":"IF($J2049=COLUMN(K2049)-10,$E2049,\"\")","v":""},"","","","","","","","","",""]
[null,null,null,null,{"$f":"IF(ISERROR(VLOOKUP(B2050,miasta,3,0)),\"\",VLOOKUP(B2050,miasta,3,0))","v":""},{"$f":"IF(ISERROR(VLOOKUP(City!B2050,miasta,4,0)),\"\",IF(VLOOKUP(City!B2050,miasta,4,0)=\"\",\"\",VLOOKUP(City!B2050,miasta,4,0)))","v":""},null,null,null,"","","","","","","","","","","",""]
[null,null,null,null,"",{"$f":"IF(ISERROR(VLOOKUP(City!B2051,miasta,4,0)),\"\",IF(VLOOKUP(City!B2051,miasta,4,0)=\"\",\"\",VLOOKUP(City!B2051,miasta,4,0)))","v":""},null,null,null,{"$f":"IF(ISERROR(VLOOKUP(F2051,$G$2:$I$12,3,1)),\"\",VLOOKUP(F2051,$G$2:$I$12,3,1))","v":""},"","","","","","","","","","",""]
[null,null,null,null,"",{"$f":"IF(ISERROR(VLOOKUP(City!B2052,miasta,4,0)),\"\",IF(VLOOKUP(City!B2052,miasta,4,0)=\"\",\"\",VLOOKUP(City!B2052,miasta,4,0)))","v":""},null,null,null,"","","","","","","","","","","",""]
[null,null,null,null,"",{"$f":"IF(ISERROR(VLOOKUP(City!B2053,miasta,4,0)),\"\",IF(VLOOKUP(City!B2053,miasta,4,0)=\"\",\"\",VLOOKUP(City!B2053,miasta,4,0)))","v":""},null,null,null,"","","","","","","","","","","",""]
[null,null,null,null,"",{"$f":"IF(ISERROR(VLOOKUP(City!B2054,miasta,4,0)),\"\",IF(VLOOKUP(City!B2054,miasta,4,0)=\"\",\"\",VLOOKUP(City!B2054,miasta,4,0)))","v":""},null,null,null,"","","","","","","","","",{"$f":"IF($J2054=COLUMN(S2054)-10,$E2054,\"\")","v":""},"",""]
[null,null,null,null,"",{"$f":"IF(ISERROR(VLOOKUP(City!B2055,miasta,4,0)),\"\",IF(VLOOKUP(City!B2055,miasta,4,0)=\"\",\"\",VLOOKUP(City!B2055,miasta,4,0)))","v":""},null,null,null,"","","","","","","","","","","",""]
[null,null,null,null,"",{"$f":"IF(ISERROR(VLOOKUP(City!B2056,miasta,4,0)),\"\",IF(VLOOKUP(City!B2056,miasta,4,0)=\"\",\"\",VLOOKUP(City!B2056,miasta,4,0)))","v":""},null,null,null,"","","","","","","","","","","",""]
[null,null,null,null,"",{"$f":"IF(ISERROR(VLOOKUP(City!B2057,miasta,4,0)),\"\",IF(VLOOKUP(City!B2057,miasta,4,0)=\"\",\"\",VLOOKUP(City!B2057,miasta,4,0)))","v":""},null,null,null,"","","","","","","","","","","",""]
[null,null,null,null,"",{"$f":"IF(ISERROR(VLOOKUP(City!B2058,miasta,4,0)),\"\",IF(VLOOKUP(City!B2058,miasta,4,0)=\"\",\"\",VLOOKUP(City!B2058,miasta,4,0)))","v":""},null,null,null,"","","","","","","","","","","",""]
[null,null,null,null,"",{"$f":"IF(ISERROR(VLOOKUP(City!B2059,miasta,4,0)),\"\",IF(VLOOKUP(City!B2059,miasta,4,0)=\"\",\"\",VLOOKUP(City!B2059,miasta,4,0)))","v":""},null,null,null,"","","","","","","","","","","",""]
[null,null,null,null,"",{"$f":"IF(ISERROR(VLOOKUP(City!B2060,miasta,4,0)),\"\",IF(VLOOKUP(City!B2060,miasta,4,0)=\"\",\"\",VLOOKUP(City!B2060,miasta,4,0)))","v":""},null,null,null,"","","","","","","","","","","",""]
[null,null,null,null,"",{"$f":"IF(ISERROR(VLOOKUP(City!B2061,miasta,4,0)),\"\",IF(VLOOKUP(City!B2061,miasta,4,0)=\"\",\"\",VLOOKUP(City!B2061,miasta,4,0)))","v":""},null,null,null,"","","","","","","","","","","",""]
[null,null,null,null,"",{"$f":"IF(ISERROR(VLOOKUP(City!B2062,miasta,4,0)),\"\",IF(VLOOKUP(City!B2062,miasta,4,0)=\"\",\"\",VLOOKUP(City!B2062,miasta,4,0)))","v":""},null,null,null,"","","","","","","","","","","",""]
[null,null,null,null,"",{"$f":"IF(ISERROR(VLOOKUP(City!B2063,miasta,4,0)),\"\",IF(VLOOKUP(City!B2063,miasta,4,0)=\"\",\"\",VLOOKUP(City!B2063,miasta,4,0)))","v":""},null,null,null,"","","","","","","","","","","",""]
[null,null,null,null,"",{"$f":"IF(ISERROR(VLOOKUP(City!B2064,miasta,4,0)),\"\",IF(VLOOKUP(City!B2064,miasta,4,0)=\"\",\"\",VLOOKUP(City!B2064,miasta,4,0)))","v":""},null,null,null,"","","","","","","","","","","",""]
[null,null,null,null,"",{"$f":"IF(ISERROR(VLOOKUP(City!B2065,miasta,4,0)),\"\",IF(VLOOKUP(City!B2065,miasta,4,0)=\"\",\"\",VLOOKUP(City!B2065,miasta,4,0)))","v":""},null,null,null,"","","","","","","","","","","",""]
[null,null,null,null,"",{"$f":"IF(ISERROR(VLOOKUP(City!B2066,miasta,4,0)),\"\",IF(VLOOKUP(City!B2066,miasta,4,0)=\"\",\"\",VLOOKUP(City!B2066,miasta,4,0)))","v":""},null,null,null,"","","","","","","","","","","",""]
[null,null,null,null,"",{"$f":"IF(ISERROR(VLOOKUP(City!B2067,miasta,4,0)),\"\",IF(VLOOKUP(City!B2067,miasta,4,0)=\"\",\"\",VLOOKUP(City!B2067,miasta,4,0)))","v":""},null,null,null,"","","","","","","","","","","",""]
[null,null,null,null,"",{"$f":"IF(ISERROR(VLOOKUP(City!B2068,miasta,4,0)),\"\",IF(VLOOKUP(City!B2068,miasta,4,0)=\"\",\"\",VLOOKUP(City!B2068,miasta,4,0)))","v":""},null,null,null,"","","","","","","","","","","",""]
[null,null,null,null,"",{"$f":"IF(ISERROR(VLOOKUP(City!B2069,miasta,4,0)),\"\",IF(VLOOKUP(City!B2069,miasta,4,0)=\"\",\"\",VLOOKUP(City!B2069,miasta,4,0)))","v":""},null,null,null,"","","","","","","","","","","",""]
[null,null,null,null,"",{"$f":"IF(ISERROR(VLOOKUP(City!B2070,miasta,4,0)),\"\",IF(VLOOKUP(City!B2070,miasta,4,0)=\"\",\"\",VLOOKUP(City!B2070,miasta,4,0)))","v":""},null,null,null,"","","","","","","","","","","",""]
[null,null,null,null,"",{"$f":"IF(ISERROR(VLOOKUP(City!B2071,miasta,4,0)),\"\",IF(VLOOKUP(City!B2071,miasta,4,0)=\"\",\"\",VLOOKUP(City!B2071,miasta,4,0)))","v":""},null,null,null,"","","","","","","","","","","",""]
[null,null,null,null,"",{"$f":"IF(ISERROR(VLOOKUP(City!B2072,miasta,4,0)),\"\",IF(VLOOKUP(City!B2072,miasta,4,0)=\"\",\"\",VLOOKUP(City!B2072,miasta,4,0)))","v":""},null,null,null,"","","","","","","","","","","",""]
[null,null,null,null,"",{"$f":"IF(ISERROR(VLOOKUP(City!B2073,miasta,4,0)),\"\",IF(VLOOKUP(City!B2073,miasta,4,0)=\"\",\"\",VLOOKUP(City!B2073,miasta,4,0)))","v":""},null,null,null,"","","","","","","","","","","",""]
[null,null,null,null,"",{"$f":"IF(ISERROR(VLOOKUP(City!B2074,miasta,4,0)),\"\",IF(VLOOKUP(City!B2074,miasta,4,0)=\"\",\"\",VLOOKUP(City!B2074,miasta,4,0)))","v":""},null,null,null,"","","","","","","","","","","",""]
[null,null,null,null,"",{"$f":"IF(ISERROR(VLOOKUP(City!B2075,miasta,4,0)),\"\",IF(VLOOKUP(City!B2075,miasta,4,0)=\"\",\"\",VLOOKUP(City!B2075,miasta,4,0)))","v":""},null,null,null,"","","","","","","","","","","",""]
[null,null,null,null,"",{"$f":"IF(ISERROR(VLOOKUP(City!B2076,miasta,4,0)),\"\",IF(VLOOKUP(City!B2076,miasta,4,0)=\"\",\"\",VLOOKUP(City!B2076,miasta,4,0)))","v":""},null,null,null,"","","","","","","","","","","",""]
[null,null,null,null,"",{"$f":"IF(ISERROR(VLOOKUP(City!B2077,miasta,4,0)),\"\",IF(VLOOKUP(City!B2077,miasta,4,0)=\"\",\"\",VLOOKUP(City!B2077,miasta,4,0)))","v":""},null,null,null,"","","","","","","","","","","",""]
[null,null,null,null,"",{"$f":"IF(ISERROR(VLOOKUP(City!B2078,miasta,4,0)),\"\",IF(VLOOKUP(City!B2078,miasta,4,0)=\"\",\"\",VLOOKUP(City!B2078,miasta,4,0)))","v":""},null,null,null,"","","","","","","","","","","",""]
[null,null,null,null,"",{"$f":"IF(ISERROR(VLOOKUP(City!B2079,miasta,4,0)),\"\",IF(VLOOKUP(City!B2079,miasta,4,0)=\"\",\"\",VLOOKUP(City!B2079,miasta,4,0)))","v":""},null,null,null,"","","","","","","","","","","",""]
[null,null,null,null,"",{"$f":"IF(ISERROR(VLOOKUP(City!B2080,miasta,4,0)),\"\",IF(VLOOKUP(City!B2080,miasta,4,0)=\"\",\"\",VLOOKUP(City!B2080,miasta,4,0)))","v":""},null,null,null,"","","","","","","","","","","",""]
[null,null,null,null,"",{"$f":"IF(ISERROR(VLOOKUP(City!B2081,miasta,4,0)),\"\",IF(VLOOKUP(City!B2081,miasta,4,0)=\"\",\"\",VLOOKUP(City!B2081,miasta,4,0)))","v":""},null,null,null,"","","","","","","","","","","",""]
[null,null,null,null,"",{"$f":"IF(ISERROR(VLOOKUP(City!B2082,miasta,4,0)),\"\",IF(VLOOKUP(City!B2082,miasta,4,0)=\"\",\"\",VLOOKUP(City!B2082,miasta,4,0)))","v":""},null,null,null,"","","","","","","","","","","",""]
[null,null,null,null,"",{"$f":"IF(ISERROR(VLOOKUP(City!B2083,miasta,4,0)),\"\",IF(VLOOKUP(City!B2083,miasta,4,0)=\"\",\"\",VLOOKUP(City!B2083,miasta,4,0)))","v":""},null,null,null,"","",{"$f":"IF($J2083=COLUMN(L2083)-10,$E2083,\"\")","v":""},"","","","","","","","",""]
[null,null,null,null,"",{"$f":"IF(ISERROR(VLOOKUP(City!B2084,miasta,4,0)),\"\",IF(VLOOKUP(City!B2084,miasta,4,0)=\"\",\"\",VLOOKUP(City!B2084,miasta,4,0)))","v":""},null,null,null,"",{"$f":"IF($J2084=COLUMN(K2084)-10,$E2084,\"\")","v":""},"","","","","","","","","",""]
[null,null,null,null,"",{"$f":"IF(ISERROR(VLOOKUP(City!B2085,miasta,4,0)),\"\",IF(VLOOKUP(City!B2085,miasta,4,0)=\"\",\"\",VLOOKUP(City!B2085,miasta,4,0)))","v":""},null,null,null,"","","","","","","","","","","",""]
[null,null,null,null,"",{"$f":"IF(ISERROR(VLOOKUP(City!B2086,miasta,4,0)),\"\",IF(VLOOKUP(City!B2086,miasta,4,0)=\"\",\"\",VLOOKUP(City!B2086,miasta,4,0)))","v":""},null,null,null,"","","","","","","","","","","",""]
[null,null,null,null,"",{"$f":"IF(ISERROR(VLOOKUP(City!B2087,miasta,4,0)),\"\",IF(VLOOKUP(City!B2087,miasta,4,0)=\"\",\"\",VLOOKUP(City!B2087,miasta,4,0)))","v":""},null,null,null,"","","","","","","","","","","",""]
[null,null,null,null,"",{"$f":"IF(ISERROR(VLOOKUP(City!B2088,miasta,4,0)),\"\",IF(VLOOKUP(City!B2088,miasta,4,0)=\"\",\"\",VLOOKUP(City!B2088,miasta,4,0)))","v":""},null,null,null,"","","","","","","","","","","",""]
[null,null,null,null,"",{"$f":"IF(ISERROR(VLOOKUP(City!B2089,miasta,4,0)),\"\",IF(VLOOKUP(City!B2089,miasta,4,0)=\"\",\"\",VLOOKUP(City!B2089,miasta,4,0)))","v":""},null,null,null,"","","","","","","","","","","",""]
[null,null,null,null,"",{"$f":"IF(ISERROR(VLOOKUP(City!B2090,miasta,4,0)),\"\",IF(VLOOKUP(City!B2090,miasta,4,0)=\"\",\"\",VLOOKUP(City!B2090,miasta,4,0)))","v":""},null,null,null,"","","","","","","","","","","",""]
[null,null,null,null,"",{"$f":"IF(ISERROR(VLOOKUP(City!B2091,miasta,4,0)),\"\",IF(VLOOKUP(City!B2091,miasta,4,0)=\"\",\"\",VLOOKUP(City!B2091,miasta,4,0)))","v":""},null,null,null,"","","","","","","","","","","",""]
[null,null,null,null,"",{"$f":"IF(ISERROR(VLOOKUP(City!B2092,miasta,4,0)),\"\",IF(VLOOKUP(City!B2092,miasta,4,0)=\"\",\"\",VLOOKUP(City!B2092,miasta,4,0)))","v":""},null,null,null,"","","","","","","","","","","",""]
[null,null,null,null,"",{"$f":"IF(ISERROR(VLOOKUP(City!B2093,miasta,4,0)),\"\",IF(VLOOKUP(City!B2093,miasta,4,0)=\"\",\"\",VLOOKUP(City!B2093,miasta,4,0)))","v":""},null,null,null,"","","","","","","","","","","",""]
[null,null,null,null,"",{"$f":"IF(ISERROR(VLOOKUP(City!B2094,miasta,4,0)),\"\",IF(VLOOKUP(City!B2094,miasta,4,0)=\"\",\"\",VLOOKUP(City!B2094,miasta,4,0)))","v":""},null,null,null,"","","","","","","","","","","",""]
[null,null,null,null,"",{"$f":"IF(ISERROR(VLOOKUP(City!B2095,miasta,4,0)),\"\",IF(VLOOKUP(City!B2095,miasta,4,0)=\"\",\"\",VLOOKUP(City!B2095,miasta,4,0)))","v":""},null,null,null,"","","","","","","","","","","",""]
[null,null,null,null,"",{"$f":"IF(ISERROR(VLOOKUP(City!B2096,miasta,4,0)),\"\",IF(VLOOKUP(City!B2096,miasta,4,0)=\"\",\"\",VLOOKUP(City!B2096,miasta,4,0)))","v":""},null,null,null,"","","","","","","","","","","",""]
[null,null,null,null,"",{"$f":"IF(ISERROR(VLOOKUP(City!B2097,miasta,4,0)),\"\",IF(VLOOKUP(City!B2097,miasta,4,0)=\"\",\"\",VLOOKUP(City!B2097,miasta,4,0)))","v":""},null,null,null,"","","","","","","","","","","",""]
[null,null,null,null,"",{"$f":"IF(ISERROR(VLOOKUP(City!B2098,miasta,4,0)),\"\",IF(VLOOKUP(City!B2098,miasta,4,0)=\"\",\"\",VLOOKUP(City!B2098,miasta,4,0)))","v":""},null,null,null,"","","","","","","","","","","",""]
[null,null,null,null,"",{"$f":"IF(ISERROR(VLOOKUP(City!B2099,miasta,4,0)),\"\",IF(VLOOKUP(City!B2099,miasta,4,0)=\"\",\"\",VLOOKUP(City!B2099,miasta,4,0)))","v":""},null,null,null,"","","","","","","","","","","",""]
[null,null,null,null,"",{"$f":"IF(ISERROR(VLOOKUP(City!B2100,miasta,4,0)),\"\",IF(VLOOKUP(City!B2100,miasta,4,0)=\"\",\"\",VLOOKUP(City!B2100,miasta,4,0)))","v":""},null,null,null,"","","","","","","","","","","",""]
[null,null,null,null,"",{"$f":"IF(ISERROR(VLOOKUP(City!B2101,miasta,4,0)),\"\",IF(VLOOKUP(City!B2101,miasta,4,0)=\"\",\"\",VLOOKUP(City!B2101,miasta,4,0)))","v":""},null,null,null,"","","","","","","","","","","",""]
[null,null,null,null,"",{"$f":"IF(ISERROR(VLOOKUP(City!B2102,miasta,4,0)),\"\",IF(VLOOKUP(City!B2102,miasta,4,0)=\"\",\"\",VLOOKUP(City!B2102,miasta,4,0)))","v":""},null,null,null,"","","","","","","","","","","",""]
[null,null,null,null,"",{"$f":"IF(ISERROR(VLOOKUP(City!B2103,miasta,4,0)),\"\",IF(VLOOKUP(City!B2103,miasta,4,0)=\"\",\"\",VLOOKUP(City!B2103,miasta,4,0)))","v":""},null,null,null,"","","","","","","","","","","",""]
[null,null,null,null,"",{"$f":"IF(ISERROR(VLOOKUP(City!B2104,miasta,4,0)),\"\",IF(VLOOKUP(City!B2104,miasta,4,0)=\"\",\"\",VLOOKUP(City!B2104,miasta,4,0)))","v":""},null,null,null,"","","","","","","","","","","",""]
[null,null,null,null,"",{"$f":"IF(ISERROR(VLOOKUP(City!B2105,miasta,4,0)),\"\",IF(VLOOKUP(City!B2105,miasta,4,0)=\"\",\"\",VLOOKUP(City!B2105,miasta,4,0)))","v":""},null,null,null,"","","","","","","","","","","",""]
[null,null,null,null,"",{"$f":"IF(ISERROR(VLOOKUP(City!B2106,miasta,4,0)),\"\",IF(VLOOKUP(City!B2106,miasta,4,0)=\"\",\"\",VLOOKUP(City!B2106,miasta,4,0)))","v":""},null,null,null,"","","","","","","","","","","",""]
[null,null,null,null,"",{"$f":"IF(ISERROR(VLOOKUP(City!B2107,miasta,4,0)),\"\",IF(VLOOKUP(City!B2107,miasta,4,0)=\"\",\"\",VLOOKUP(City!B2107,miasta,4,0)))","v":""},null,null,null,"","","","","","","","","","","",""]
[null,null,null,null,"",{"$f":"IF(ISERROR(VLOOKUP(City!B2108,miasta,4,0)),\"\",IF(VLOOKUP(City!B2108,miasta,4,0)=\"\",\"\",VLOOKUP(City!B2108,miasta,4,0)))","v":""},null,null,null,"","","","","","","","","","","",""]
[null,null,null,null,"",{"$f":"IF(ISERROR(VLOOKUP(City!B2109,miasta,4,0)),\"\",IF(VLOOKUP(City!B2109,miasta,4,0)=\"\",\"\",VLOOKUP(City!B2109,miasta,4,0)))","v":""},null,null,null,"","","","","","","","","","","",""]
[null,null,null,null,"",{"$f":"IF(ISERROR(VLOOKUP(City!B2110,miasta,4,0)),\"\",IF(VLOOKUP(City!B2110,miasta,4,0)=\"\",\"\",VLOOKUP(City!B2110,miasta,4,0)))","v":""},null,null,null,"","","","","","","","","","","",""]
[null,null,null,null,"",{"$f":"IF(ISERROR(VLOOKUP(City!B2111,miasta,4,0)),\"\",IF(VLOOKUP(City!B2111,miasta,4,0)=\"\",\"\",VLOOKUP(City!B2111,miasta,4,0)))","v":""},null,null,null,"","","","","","","","","","","",""]
[null,null,null,null,"",{"$f":"IF(ISERROR(VLOOKUP(City!B2112,miasta,4,0)),\"\",IF(VLOOKUP(City!B2112,miasta,4,0)=\"\",\"\",VLOOKUP(City!B2112,miasta,4,0)))","v":""},null,null,null,"","","","","","","","","","","",""]
[null,null,null,null,"",{"$f":"IF(ISERROR(VLOOKUP(City!B2113,miasta,4,0)),\"\",IF(VLOOKUP(City!B2113,miasta,4,0)=\"\",\"\",VLOOKUP(City!B2113,miasta,4,0)))","v":""},null,null,null,"","","","","","","","","","","",""]
[null,null,null,null,{"$f":"IF(ISERROR(VLOOKUP(B2114,miasta,3,0)),\"\",VLOOKUP(B2114,miasta,3,0))","v":""},{"$f":"IF(ISERROR(VLOOKUP(City!B2114,miasta,4,0)),\"\",IF(VLOOKUP(City!B2114,miasta,4,0)=\"\",\"\",VLOOKUP(City!B2114,miasta,4,0)))","v":""},null,null,null,"","","","","","","","","","","",""]
[null,null,null,null,"",{"$f":"IF(ISERROR(VLOOKUP(City!B2115,miasta,4,0)),\"\",IF(VLOOKUP(City!B2115,miasta,4,0)=\"\",\"\",VLOOKUP(City!B2115,miasta,4,0)))","v":""},null,null,null,{"$f":"IF(ISERROR(VLOOKUP(F2115,$G$2:$I$12,3,1)),\"\",VLOOKUP(F2115,$G$2:$I$12,3,1))","v":""},"","","","","","","","","","",""]
[null,null,null,null,"",{"$f":"IF(ISERROR(VLOOKUP(City!B2116,miasta,4,0)),\"\",IF(VLOOKUP(City!B2116,miasta,4,0)=\"\",\"\",VLOOKUP(City!B2116,miasta,4,0)))","v":""},null,null,null,"","","","","","","","","","","",""]
[null,null,null,null,"",{"$f":"IF(ISERROR(VLOOKUP(City!B2117,miasta,4,0)),\"\",IF(VLOOKUP(City!B2117,miasta,4,0)=\"\",\"\",VLOOKUP(City!B2117,miasta,4,0)))","v":""},null,null,null,"","","","","","","","","","","",""]
[null,null,null,null,"",{"$f":"IF(ISERROR(VLOOKUP(City!B2118,miasta,4,0)),\"\",IF(VLOOKUP(City!B2118,miasta,4,0)=\"\",\"\",VLOOKUP(City!B2118,miasta,4,0)))","v":""},null,null,null,"","","","","","","","","","","",""]
[null,null,null,null,"",{"$f":"IF(ISERROR(VLOOKUP(City!B2119,miasta,4,0)),\"\",IF(VLOOKUP(City!B2119,miasta,4,0)=\"\",\"\",VLOOKUP(City!B2119,miasta,4,0)))","v":""},null,null,null,"","","","","","","","","","","",""]
[null,null,null,null,"",{"$f":"IF(ISERROR(VLOOKUP(City!B2120,miasta,4,0)),\"\",IF(VLOOKUP(City!B2120,miasta,4,0)=\"\",\"\",VLOOKUP(City!B2120,miasta,4,0)))","v":""},null,null,null,"","","","","","","","","","","",""]
[null,null,null,null,"",{"$f":"IF(ISERROR(VLOOKUP(City!B2121,miasta,4,0)),\"\",IF(VLOOKUP(City!B2121,miasta,4,0)=\"\",\"\",VLOOKUP(City!B2121,miasta,4,0)))","v":""},null,null,null,"","","","","","","","","","","",""]
[null,null,null,null,"",{"$f":"IF(ISERROR(VLOOKUP(City!B2122,miasta,4,0)),\"\",IF(VLOOKUP(City!B2122,miasta,4,0)=\"\",\"\",VLOOKUP(City!B2122,miasta,4,0)))","v":""},null,null,null,"","","","","","","","","","","",""]
[null,null,null,null,"",{"$f":"IF(ISERROR(VLOOKUP(City!B2123,miasta,4,0)),\"\",IF(VLOOKUP(City!B2123,miasta,4,0)=\"\",\"\",VLOOKUP(City!B2123,miasta,4,0)))","v":""},null,null,null,"","","","","","","","","","","",""]
[null,null,null,null,"",{"$f":"IF(ISERROR(VLOOKUP(City!B2124,miasta,4,0)),\"\",IF(VLOOKUP(City!B2124,miasta,4,0)=\"\",\"\",VLOOKUP(City!B2124,miasta,4,0)))","v":""},null,null,null,"","","","","","","","","","","",""]
[null,null,null,null,"",{"$f":"IF(ISERROR(VLOOKUP(City!B2125,miasta,4,0)),\"\",IF(VLOOKUP(City!B2125,miasta,4,0)=\"\",\"\",VLOOKUP(City!B2125,miasta,4,0)))","v":""},null,null,null,"","","","","","","","","","","",""]
[null,null,null,null,"",{"$f":"IF(ISERROR(VLOOKUP(City!B2126,miasta,4,0)),\"\",IF(VLOOKUP(City!B2126,miasta,4,0)=\"\",\"\",VLOOKUP(City!B2126,miasta,4,0)))","v":""},null,null,null,"","","","","","","","","","","",""]
[null,null,null,null,"",{"$f":"IF(ISERROR(VLOOKUP(City!B2127,miasta,4,0)),\"\",IF(VLOOKUP(City!B2127,miasta,4,0)=\"\",\"\",VLOOKUP(City!B2127,miasta,4,0)))","v":""},null,null,null,"","","","","","","","","","","",""]
[null,null,null,null,"",{"$f":"IF(ISERROR(VLOOKUP(City!B2128,miasta,4,0)),\"\",IF(VLOOKUP(City!B2128,miasta,4,0)=\"\",\"\",VLOOKUP(City!B2128,miasta,4,0)))","v":""},null,null,null,"","","","","","","","","","","",""]
[null,null,null,null,"",{"$f":"IF(ISERROR(VLOOKUP(City!B2129,miasta,4,0)),\"\",IF(VLOOKUP(City!B2129,miasta,4,0)=\"\",\"\",VLOOKUP(City!B2129,miasta,4,0)))","v":""},null,null,null,"","","","","","","","","","","",""]
[null,null,null,null,"",{"$f":"IF(ISERROR(VLOOKUP(City!B2130,miasta,4,0)),\"\",IF(VLOOKUP(City!B2130,miasta,4,0)=\"\",\"\",VLOOKUP(City!B2130,miasta,4,0)))","v":""},null,null,null,"","","","","","","","","","","",""]
[null,null,null,null,"",{"$f":"IF(ISERROR(VLOOKUP(City!B2131,miasta,4,0)),\"\",IF(VLOOKUP(City!B2131,miasta,4,0)=\"\",\"\",VLOOKUP(City!B2131,miasta,4,0)))","v":""},null,null,null,"","","","","","","","","","","",""]
[null,null,null,null,"",{"$f":"IF(ISERROR(VLOOKUP(City!B2132,miasta,4,0)),\"\",IF(VLOOKUP(City!B2132,miasta,4,0)=\"\",\"\",VLOOKUP(City!B2132,miasta,4,0)))","v":""},null,null,null,"","","","","","","","","","","",""]
[null,null,null,null,"",{"$f":"IF(ISERROR(VLOOKUP(City!B2133,miasta,4,0)),\"\",IF(VLOOKUP(City!B2133,miasta,4,0)=\"\",\"\",VLOOKUP(City!B2133,miasta,4,0)))","v":""},null,null,null,"","","","","","","","","","","",""]
[null,null,null,null,"",{"$f":"IF(ISERROR(VLOOKUP(City!B2134,miasta,4,0)),\"\",IF(VLOOKUP(City!B2134,miasta,4,0)=\"\",\"\",VLOOKUP(City!B2134,miasta,4,0)))","v":""},null,null,null,"","","","","","","","","","","",""]
[null,null,null,null,"",{"$f":"IF(ISERROR(VLOOKUP(City!B2135,miasta,4,0)),\"\",IF(VLOOKUP(City!B2135,miasta,4,0)=\"\",\"\",VLOOKUP(City!B2135,miasta,4,0)))","v":""},null,null,null,"","","","","","","","","","","",""]
[null,null,null,null,"",{"$f":"IF(ISERROR(VLOOKUP(City!B2136,miasta,4,0)),\"\",IF(VLOOKUP(City!B2136,miasta,4,0)=\"\",\"\",VLOOKUP(City!B2136,miasta,4,0)))","v":""},null,null,null,"","","","","","","","","","","",""]
[null,null,null,null,"",{"$f":"IF(ISERROR(VLOOKUP(City!B2137,miasta,4,0)),\"\",IF(VLOOKUP(City!B2137,miasta,4,0)=\"\",\"\",VLOOKUP(City!B2137,miasta,4,0)))","v":""},null,null,null,"","","","","","","","","","","",""]
[null,null,null,null,"",{"$f":"IF(ISERROR(VLOOKUP(City!B2138,miasta,4,0)),\"\",IF(VLOOKUP(City!B2138,miasta,4,0)=\"\",\"\",VLOOKUP(City!B2138,miasta,4,0)))","v":""},null,null,null,"","","","","","","","","","","",""]
[null,null,null,null,"",{"$f":"IF(ISERROR(VLOOKUP(City!B2139,miasta,4,0)),\"\",IF(VLOOKUP(City!B2139,miasta,4,0)=\"\",\"\",VLOOKUP(City!B2139,miasta,4,0)))","v":""},null,null,null,"",{"$f":"IF($J2139=COLUMN(K2139)-10,$E2139,\"\")","v":""},"","","","","","","","","",""]
[null,null,null,null,"",{"$f":"IF(ISERROR(VLOOKUP(City!B2140,miasta,4,0)),\"\",IF(VLOOKUP(City!B2140,miasta,4,0)=\"\",\"\",VLOOKUP(City!B2140,miasta,4,0)))","v":""},null,null,null,"","","","","","","","","","","",""]
[null,null,null,null,"",{"$f":"IF(ISERROR(VLOOKUP(City!B2141,miasta,4,0)),\"\",IF(VLOOKUP(City!B2141,miasta,4,0)=\"\",\"\",VLOOKUP(City!B2141,miasta,4,0)))","v":""},null,null,null,"","","","","","","","","","","",""]
[null,null,null,null,"",{"$f":"IF(ISERROR(VLOOKUP(City!B2142,miasta,4,0)),\"\",IF(VLOOKUP(City!B2142,miasta,4,0)=\"\",\"\",VLOOKUP(City!B2142,miasta,4,0)))","v":""},null,null,null,"","","","","","","","","","","",""]
[null,null,null,null,"",{"$f":"IF(ISERROR(VLOOKUP(City!B2143,miasta,4,0)),\"\",IF(VLOOKUP(City!B2143,miasta,4,0)=\"\",\"\",VLOOKUP(City!B2143,miasta,4,0)))","v":""},null,null,null,"","","","","","","","","","","",""]
[null,null,null,null,"",{"$f":"IF(ISERROR(VLOOKUP(City!B2144,miasta,4,0)),\"\",IF(VLOOKUP(City!B2144,miasta,4,0)=\"\",\"\",VLOOKUP(City!B2144,miasta,4,0)))","v":""},null,null,null,"","","","","","","","","","","",""]
[null,null,null,null,"",{"$f":"IF(ISERROR(VLOOKUP(City!B2145,miasta,4,0)),\"\",IF(VLOOKUP(City!B2145,miasta,4,0)=\"\",\"\",VLOOKUP(City!B2145,miasta,4,0)))","v":""},null,null,null,"","","","","","","","","","","",""]
[null,null,null,null,"",{"$f":"IF(ISERROR(VLOOKUP(City!B2146,miasta,4,0)),\"\",IF(VLOOKUP(City!B2146,miasta,4,0)=\"\",\"\",VLOOKUP(City!B2146,miasta,4,0)))","v":""},null,null,null,"","","","","","","","","","","",""]
[null,null,null,null,"",{"$f":"IF(ISERROR(VLOOKUP(City!B2147,miasta,4,0)),\"\",IF(VLOOKUP(City!B2147,miasta,4,0)=\"\",\"\",VLOOKUP(City!B2147,miasta,4,0)))","v":""},null,null,null,"","","","","","","","","","","",""]
[null,null,null,null,"",{"$f":"IF(ISERROR(VLOOKUP(City!B2148,miasta,4,0)),\"\",IF(VLOOKUP(City!B2148,miasta,4,0)=\"\",\"\",VLOOKUP(City!B2148,miasta,4,0)))","v":""},null,null,null,"","","","","","","","","","","",""]
[null,null,null,null,"",{"$f":"IF(ISERROR(VLOOKUP(City!B2149,miasta,4,0)),\"\",IF(VLOOKUP(City!B2149,miasta,4,0)=\"\",\"\",VLOOKUP(City!B2149,miasta,4,0)))","v":""},null,null,null,"","","","","","","","","","","",""]
[null,null,null,null,"",{"$f":"IF(ISERROR(VLOOKUP(City!B2150,miasta,4,0)),\"\",IF(VLOOKUP(City!B2150,miasta,4,0)=\"\",\"\",VLOOKUP(City!B2150,miasta,4,0)))","v":""},null,null,null,"","","","","","","","","","","",""]
[null,null,null,null,"",{"$f":"IF(ISERROR(VLOOKUP(City!B2151,miasta,4,0)),\"\",IF(VLOOKUP(City!B2151,miasta,4,0)=\"\",\"\",VLOOKUP(City!B2151,miasta,4,0)))","v":""},null,null,null,"","","","","","","","","","","",""]
[null,null,null,null,"",{"$f":"IF(ISERROR(VLOOKUP(City!B2152,miasta,4,0)),\"\",IF(VLOOKUP(City!B2152,miasta,4,0)=\"\",\"\",VLOOKUP(City!B2152,miasta,4,0)))","v":""},null,null,null,"","","","","","","","","","","",""]
[null,null,null,null,"",{"$f":"IF(ISERROR(VLOOKUP(City!B2153,miasta,4,0)),\"\",IF(VLOOKUP(City!B2153,miasta,4,0)=\"\",\"\",VLOOKUP(City!B2153,miasta,4,0)))","v":""},null,null,null,"","","","","","","","","","","",""]
[null,null,null,null,"",{"$f":"IF(ISERROR(VLOOKUP(City!B2154,miasta,4,0)),\"\",IF(VLOOKUP(City!B2154,miasta,4,0)=\"\",\"\",VLOOKUP(City!B2154,miasta,4,0)))","v":""},null,null,null,"","","","","","","","","","","",""]
[null,null,null,null,"",{"$f":"IF(ISERROR(VLOOKUP(City!B2155,miasta,4,0)),\"\",IF(VLOOKUP(City!B2155,miasta,4,0)=\"\",\"\",VLOOKUP(City!B2155,miasta,4,0)))","v":""},null,null,null,"","","","","","","","","","","",""]
[null,null,null,null,"",{"$f":"IF(ISERROR(VLOOKUP(City!B2156,miasta,4,0)),\"\",IF(VLOOKUP(City!B2156,miasta,4,0)=\"\",\"\",VLOOKUP(City!B2156,miasta,4,0)))","v":""},null,null,null,"","","","","","","","","","","",""]
[null,null,null,null,"",{"$f":"IF(ISERROR(VLOOKUP(City!B2157,miasta,4,0)),\"\",IF(VLOOKUP(City!B2157,miasta,4,0)=\"\",\"\",VLOOKUP(City!B2157,miasta,4,0)))","v":""},null,null,null,"","","","","","","","","","","",""]
[null,null,null,null,"",{"$f":"IF(ISERROR(VLOOKUP(City!B2158,miasta,4,0)),\"\",IF(VLOOKUP(City!B2158,miasta,4,0)=\"\",\"\",VLOOKUP(City!B2158,miasta,4,0)))","v":""},null,null,null,"","","","","","","","","","","",""]
[null,null,null,null,"",{"$f":"IF(ISERROR(VLOOKUP(City!B2159,miasta,4,0)),\"\",IF(VLOOKUP(City!B2159,miasta,4,0)=\"\",\"\",VLOOKUP(City!B2159,miasta,4,0)))","v":""},null,null,null,"","","","","","","","","","","",""]
[null,null,null,null,"",{"$f":"IF(ISERROR(VLOOKUP(City!B2160,miasta,4,0)),\"\",IF(VLOOKUP(City!B2160,miasta,4,0)=\"\",\"\",VLOOKUP(City!B2160,miasta,4,0)))","v":""},null,null,null,"","","","","","","","","","","",""]
[null,null,null,null,"",{"$f":"IF(ISERROR(VLOOKUP(City!B2161,miasta,4,0)),\"\",IF(VLOOKUP(City!B2161,miasta,4,0)=\"\",\"\",VLOOKUP(City!B2161,miasta,4,0)))","v":""},null,null,null,"","","","","","","","","","","",""]
[null,null,null,null,"",{"$f":"IF(ISERROR(VLOOKUP(City!B2162,miasta,4,0)),\"\",IF(VLOOKUP(City!B2162,miasta,4,0)=\"\",\"\",VLOOKUP(City!B2162,miasta,4,0)))","v":""},null,null,null,"","","",{"$f":"IF($J2162=COLUMN(M2162)-10,$E2162,\"\")","v":""},"","","","","","","",""]
[null,null,null,null,"",{"$f":"IF(ISERROR(VLOOKUP(City!B2163,miasta,4,0)),\"\",IF(VLOOKUP(City!B2163,miasta,4,0)=\"\",\"\",VLOOKUP(City!B2163,miasta,4,0)))","v":""},null,null,null,"",{"$f":"IF($J2163=COLUMN(K2163)-10,$E2163,\"\")","v":""},"","","","","","","","","",""]
[null,null,null,null,"",{"$f":"IF(ISERROR(VLOOKUP(City!B2164,miasta,4,0)),\"\",IF(VLOOKUP(City!B2164,miasta,4,0)=\"\",\"\",VLOOKUP(City!B2164,miasta,4,0)))","v":""},null,null,null,"","","","","","","","","","","",""]
[null,null,null,null,"",{"$f":"IF(ISERROR(VLOOKUP(City!B2165,miasta,4,0)),\"\",IF(VLOOKUP(City!B2165,miasta,4,0)=\"\",\"\",VLOOKUP(City!B2165,miasta,4,0)))","v":""},null,null,null,"","","","","","","","","","","",""]
[null,null,null,null,"",{"$f":"IF(ISERROR(VLOOKUP(City!B2166,miasta,4,0)),\"\",IF(VLOOKUP(City!B2166,miasta,4,0)=\"\",\"\",VLOOKUP(City!B2166,miasta,4,0)))","v":""},null,null,null,"","","","","","","","","","","",""]
[null,null,null,null,"",{"$f":"IF(ISERROR(VLOOKUP(City!B2167,miasta,4,0)),\"\",IF(VLOOKUP(City!B2167,miasta,4,0)=\"\",\"\",VLOOKUP(City!B2167,miasta,4,0)))","v":""},null,null,null,"","","","","","","","","","","",""]
[null,null,null,null,"",{"$f":"IF(ISERROR(VLOOKUP(City!B2168,miasta,4,0)),\"\",IF(VLOOKUP(City!B2168,miasta,4,0)=\"\",\"\",VLOOKUP(City!B2168,miasta,4,0)))","v":""},null,null,null,"","","","","","","","","","","",""]
[null,null,null,null,"",{"$f":"IF(ISERROR(VLOOKUP(City!B2169,miasta,4,0)),\"\",IF(VLOOKUP(City!B2169,miasta,4,0)=\"\",\"\",VLOOKUP(City!B2169,miasta,4,0)))","v":""},null,null,null,"","","","","","","","","","","",""]
[null,null,null,null,"",{"$f":"IF(ISERROR(VLOOKUP(City!B2170,miasta,4,0)),\"\",IF(VLOOKUP(City!B2170,miasta,4,0)=\"\",\"\",VLOOKUP(City!B2170,miasta,4,0)))","v":""},null,null,null,"","","","","","","","","","","",""]
[null,null,null,null,"",{"$f":"IF(ISERROR(VLOOKUP(City!B2171,miasta,4,0)),\"\",IF(VLOOKUP(City!B2171,miasta,4,0)=\"\",\"\",VLOOKUP(City!B2171,miasta,4,0)))","v":""},null,null,null,"","","","","","","","","","","",""]
[null,null,null,null,"",{"$f":"IF(ISERROR(VLOOKUP(City!B2172,miasta,4,0)),\"\",IF(VLOOKUP(City!B2172,miasta,4,0)=\"\",\"\",VLOOKUP(City!B2172,miasta,4,0)))","v":""},null,null,null,"","","","","","","","","","","",""]
[null,null,null,null,"",{"$f":"IF(ISERROR(VLOOKUP(City!B2173,miasta,4,0)),\"\",IF(VLOOKUP(City!B2173,miasta,4,0)=\"\",\"\",VLOOKUP(City!B2173,miasta,4,0)))","v":""},null,null,null,"","","","","","","","","","","",""]
[null,null,null,null,"",{"$f":"IF(ISERROR(VLOOKUP(City!B2174,miasta,4,0)),\"\",IF(VLOOKUP(City!B2174,miasta,4,0)=\"\",\"\",VLOOKUP(City!B2174,miasta,4,0)))","v":""},null,null,null,"","","","","","","","","","","",""]
[null,null,null,null,"",{"$f":"IF(ISERROR(VLOOKUP(City!B2175,miasta,4,0)),\"\",IF(VLOOKUP(City!B2175,miasta,4,0)=\"\",\"\",VLOOKUP(City!B2175,miasta,4,0)))","v":""},null,null,null,"","","","","","","","","","","",""]
[null,null,null,null,"",{"$f":"IF(ISERROR(VLOOKUP(City!B2176,miasta,4,0)),\"\",IF(VLOOKUP(City!B2176,miasta,4,0)=\"\",\"\",VLOOKUP(City!B2176,miasta,4,0)))","v":""},null,null,null,"","","","","","","","","","","",""]
[null,null,null,null,"",{"$f":"IF(ISERROR(VLOOKUP(City!B2177,miasta,4,0)),\"\",IF(VLOOKUP(City!B2177,miasta,4,0)=\"\",\"\",VLOOKUP(City!B2177,miasta,4,0)))","v":""},null,null,null,"","","","","","","","","","","",""]
[null,null,null,null,{"$f":"IF(ISERROR(VLOOKUP(B2178,miasta,3,0)),\"\",VLOOKUP(B2178,miasta,3,0))","v":""},{"$f":"IF(ISERROR(VLOOKUP(City!B2178,miasta,4,0)),\"\",IF(VLOOKUP(City!B2178,miasta,4,0)=\"\",\"\",VLOOKUP(City!B2178,miasta,4,0)))","v":""},null,null,null,"","","","","","","","","","","",""]
[null,null,null,null,"",{"$f":"IF(ISERROR(VLOOKUP(City!B2179,miasta,4,0)),\"\",IF(VLOOKUP(City!B2179,miasta,4,0)=\"\",\"\",VLOOKUP(City!B2179,miasta,4,0)))","v":""},null,null,null,{"$f":"IF(ISERROR(VLOOKUP(F2179,$G$2:$I$12,3,1)),\"\",VLOOKUP(F2179,$G$2:$I$12,3,1))","v":""},"","","","","","","","","","",""]
[null,null,null,null,"",{"$f":"IF(ISERROR(VLOOKUP(City!B2180,miasta,4,0)),\"\",IF(VLOOKUP(City!B2180,miasta,4,0)=\"\",\"\",VLOOKUP(City!B2180,miasta,4,0)))","v":""},null,null,null,"","","","","","","","","","","",""]
[null,null,null,null,"",{"$f":"IF(ISERROR(VLOOKUP(City!B2181,miasta,4,0)),\"\",IF(VLOOKUP(City!B2181,miasta,4,0)=\"\",\"\",VLOOKUP(City!B2181,miasta,4,0)))","v":""},null,null,null,"","","","","","","","","","","",""]
[null,null,null,null,"",{"$f":"IF(ISERROR(VLOOKUP(City!B2182,miasta,4,0)),\"\",IF(VLOOKUP(City!B2182,miasta,4,0)=\"\",\"\",VLOOKUP(City!B2182,miasta,4,0)))","v":""},null,null,null,"","","","","","","","","","","",""]
[null,null,null,null,"",{"$f":"IF(ISERROR(VLOOKUP(City!B2183,miasta,4,0)),\"\",IF(VLOOKUP(City!B2183,miasta,4,0)=\"\",\"\",VLOOKUP(City!B2183,miasta,4,0)))","v":""},null,null,null,"","","","","","","","","","","",""]
[null,null,null,null,"",{"$f":"IF(ISERROR(VLOOKUP(City!B2184,miasta,4,0)),\"\",IF(VLOOKUP(City!B2184,miasta,4,0)=\"\",\"\",VLOOKUP(City!B2184,miasta,4,0)))","v":""},null,null,null,"","","","","","","","","","","",""]
[null,null,null,null,"",{"$f":"IF(ISERROR(VLOOKUP(City!B2185,miasta,4,0)),\"\",IF(VLOOKUP(City!B2185,miasta,4,0)=\"\",\"\",VLOOKUP(City!B2185,miasta,4,0)))","v":""},null,null,null,"","","","","","","","","","","",""]
[null,null,null,null,"",{"$f":"IF(ISERROR(VLOOKUP(City!B2186,miasta,4,0)),\"\",IF(VLOOKUP(City!B2186,miasta,4,0)=\"\",\"\",VLOOKUP(City!B2186,miasta,4,0)))","v":""},null,null,null,"","","","","","","","","","","",""]
[null,null,null,null,"",{"$f":"IF(ISERROR(VLOOKUP(City!B2187,miasta,4,0)),\"\",IF(VLOOKUP(City!B2187,miasta,4,0)=\"\",\"\",VLOOKUP(City!B2187,miasta,4,0)))","v":""},null,null,null,"","","","","","","","","","","",""]
[null,null,null,null,"",{"$f":"IF(ISERROR(VLOOKUP(City!B2188,miasta,4,0)),\"\",IF(VLOOKUP(City!B2188,miasta,4,0)=\"\",\"\",VLOOKUP(City!B2188,miasta,4,0)))","v":""},null,null,null,"","","","","","","","","","","",""]
[null,null,null,null,"",{"$f":"IF(ISERROR(VLOOKUP(City!B2189,miasta,4,0)),\"\",IF(VLOOKUP(City!B2189,miasta,4,0)=\"\",\"\",VLOOKUP(City!B2189,miasta,4,0)))","v":""},null,null,null,"","","","","","","","","","","",""]
[null,null,null,null,"",{"$f":"IF(ISERROR(VLOOKUP(City!B2190,miasta,4,0)),\"\",IF(VLOOKUP(City!B2190,miasta,4,0)=\"\",\"\",VLOOKUP(City!B2190,miasta,4,0)))","v":""},null,null,null,"","","","","","",{"$f":"IF($J2190=COLUMN(P2190)-10,$E2190,\"\")","v":""},"","","","",""]
[null,null,null,null,"",{"$f":"IF(ISERROR(VLOOKUP(City!B2191,miasta,4,0)),\"\",IF(VLOOKUP(City!B2191,miasta,4,0)=\"\",\"\",VLOOKUP(City!B2191,miasta,4,0)))","v":""},null,null,null,"","","","","","","","","","","",""]
[null,null,null,null,"",{"$f":"IF(ISERROR(VLOOKUP(City!B2192,miasta,4,0)),\"\",IF(VLOOKUP(City!B2192,miasta,4,0)=\"\",\"\",VLOOKUP(City!B2192,miasta,4,0)))","v":""},null,null,null,"","","","","","","","","","","",""]
[null,null,null,null,"",{"$f":"IF(ISERROR(VLOOKUP(City!B2193,miasta,4,0)),\"\",IF(VLOOKUP(City!B2193,miasta,4,0)=\"\",\"\",VLOOKUP(City!B2193,miasta,4,0)))","v":""},null,null,null,"","","","","","","","","","","",""]
[null,null,null,null,"",{"$f":"IF(ISERROR(VLOOKUP(City!B2194,miasta,4,0)),\"\",IF(VLOOKUP(City!B2194,miasta,4,0)=\"\",\"\",VLOOKUP(City!B2194,miasta,4,0)))","v":""},null,null,null,"","","","","","","","","","","",""]
[null,null,null,null,"",{"$f":"IF(ISERROR(VLOOKUP(City!B2195,miasta,4,0)),\"\",IF(VLOOKUP(City!B2195,miasta,4,0)=\"\",\"\",VLOOKUP(City!B2195,miasta,4,0)))","v":""},null,null,null,"",{"$f":"IF($J2195=COLUMN(K2195)-10,$E2195,\"\")","v":""},"","","","","","","","","",""]
[null,null,null,null,"",{"$f":"IF(ISERROR(VLOOKUP(City!B2196,miasta,4,0)),\"\",IF(VLOOKUP(City!B2196,miasta,4,0)=\"\",\"\",VLOOKUP(City!B2196,miasta,4,0)))","v":""},null,null,null,"","","","","","","","","","","",""]
[null,null,null,null,"",{"$f":"IF(ISERROR(VLOOKUP(City!B2197,miasta,4,0)),\"\",IF(VLOOKUP(City!B2197,miasta,4,0)=\"\",\"\",VLOOKUP(City!B2197,miasta,4,0)))","v":""},null,null,null,"","","","","","","","","","","",""]
[null,null,null,null,"",{"$f":"IF(ISERROR(VLOOKUP(City!B2198,miasta,4,0)),\"\",IF(VLOOKUP(City!B2198,miasta,4,0)=\"\",\"\",VLOOKUP(City!B2198,miasta,4,0)))","v":""},null,null,null,"","","","","","","","","","","",""]
[null,null,null,null,"",{"$f":"IF(ISERROR(VLOOKUP(City!B2199,miasta,4,0)),\"\",IF(VLOOKUP(City!B2199,miasta,4,0)=\"\",\"\",VLOOKUP(City!B2199,miasta,4,0)))","v":""},null,null,null,"","","","","","","","","","","",""]
[null,null,null,null,"",{"$f":"IF(ISERROR(VLOOKUP(City!B2200,miasta,4,0)),\"\",IF(VLOOKUP(City!B2200,miasta,4,0)=\"\",\"\",VLOOKUP(City!B2200,miasta,4,0)))","v":""},null,null,null,"","","","","","","","","","","",""]
[null,null,null,null,"",{"$f":"IF(ISERROR(VLOOKUP(City!B2201,miasta,4,0)),\"\",IF(VLOOKUP(City!B2201,miasta,4,0)=\"\",\"\",VLOOKUP(City!B2201,miasta,4,0)))","v":""},null,null,null,"","","","","","","","","","","",""]
[null,null,null,null,"",{"$f":"IF(ISERROR(VLOOKUP(City!B2202,miasta,4,0)),\"\",IF(VLOOKUP(City!B2202,miasta,4,0)=\"\",\"\",VLOOKUP(City!B2202,miasta,4,0)))","v":""},null,null,null,"","","","","","","","","","","",""]
[null,null,null,null,"",{"$f":"IF(ISERROR(VLOOKUP(City!B2203,miasta,4,0)),\"\",IF(VLOOKUP(City!B2203,miasta,4,0)=\"\",\"\",VLOOKUP(City!B2203,miasta,4,0)))","v":""},null,null,null,"","","","","","","","","","","",""]
[null,null,null,null,"",{"$f":"IF(ISERROR(VLOOKUP(City!B2204,miasta,4,0)),\"\",IF(VLOOKUP(City!B2204,miasta,4,0)=\"\",\"\",VLOOKUP(City!B2204,miasta,4,0)))","v":""},null,null,null,"","","","","","","","","","","",""]
[null,null,null,null,"",{"$f":"IF(ISERROR(VLOOKUP(City!B2205,miasta,4,0)),\"\",IF(VLOOKUP(City!B2205,miasta,4,0)=\"\",\"\",VLOOKUP(City!B2205,miasta,4,0)))","v":""},null,null,null,"","","","","","","","","","","",""]
[null,null,null,null,"",{"$f":"IF(ISERROR(VLOOKUP(City!B2206,miasta,4,0)),\"\",IF(VLOOKUP(City!B2206,miasta,4,0)=\"\",\"\",VLOOKUP(City!B2206,miasta,4,0)))","v":""},null,null,null,"","","","","","","","","","","",""]
[null,null,null,null,"",{"$f":"IF(ISERROR(VLOOKUP(City!B2207,miasta,4,0)),\"\",IF(VLOOKUP(City!B2207,miasta,4,0)=\"\",\"\",VLOOKUP(City!B2207,miasta,4,0)))","v":""},null,null,null,"","","","","","","","","","","",""]
[null,null,null,null,"",{"$f":"IF(ISERROR(VLOOKUP(City!B2208,miasta,4,0)),\"\",IF(VLOOKUP(City!B2208,miasta,4,0)=\"\",\"\",VLOOKUP(City!B2208,miasta,4,0)))","v":""},null,null,null,"","","","","","","","","","","",""]
[null,null,null,null,"",{"$f":"IF(ISERROR(VLOOKUP(City!B2209,miasta,4,0)),\"\",IF(VLOOKUP(City!B2209,miasta,4,0)=\"\",\"\",VLOOKUP(City!B2209,miasta,4,0)))","v":""},null,null,null,"","","","","","","","","","","",""]
[null,null,null,null,"",{"$f":"IF(ISERROR(VLOOKUP(City!B2210,miasta,4,0)),\"\",IF(VLOOKUP(City!B2210,miasta,4,0)=\"\",\"\",VLOOKUP(City!B2210,miasta,4,0)))","v":""},null,null,null,"","","","","","","","","","","",""]
[null,null,null,null,"",{"$f":"IF(ISERROR(VLOOKUP(City!B2211,miasta,4,0)),\"\",IF(VLOOKUP(City!B2211,miasta,4,0)=\"\",\"\",VLOOKUP(City!B2211,miasta,4,0)))","v":""},null,null,null,"","","","","","","","","","","",""]
[null,null,null,null,"",{"$f":"IF(ISERROR(VLOOKUP(City!B2212,miasta,4,0)),\"\",IF(VLOOKUP(City!B2212,miasta,4,0)=\"\",\"\",VLOOKUP(City!B2212,miasta,4,0)))","v":""},null,null,null,"","","","","","","","","","","",""]
[null,null,null,null,"",{"$f":"IF(ISERROR(VLOOKUP(City!B2213,miasta,4,0)),\"\",IF(VLOOKUP(City!B2213,miasta,4,0)=\"\",\"\",VLOOKUP(City!B2213,miasta,4,0)))","v":""},null,null,null,"","","","","","","","","","","",""]
[null,null,null,null,"",{"$f":"IF(ISERROR(VLOOKUP(City!B2214,miasta,4,0)),\"\",IF(VLOOKUP(City!B2214,miasta,4,0)=\"\",\"\",VLOOKUP(City!B2214,miasta,4,0)))","v":""},null,null,null,"","","","","","","","","","","",""]
[null,null,null,null,"",{"$f":"IF(ISERROR(VLOOKUP(City!B2215,miasta,4,0)),\"\",IF(VLOOKUP(City!B2215,miasta,4,0)=\"\",\"\",VLOOKUP(City!B2215,miasta,4,0)))","v":""},null,null,null,"","","","","","","","","","","",""]
[null,null,null,null,"",{"$f":"IF(ISERROR(VLOOKUP(City!B2216,miasta,4,0)),\"\",IF(VLOOKUP(City!B2216,miasta,4,0)=\"\",\"\",VLOOKUP(City!B2216,miasta,4,0)))","v":""},null,null,null,"","","","","","","","","","","",""]
[null,null,null,null,"",{"$f":"IF(ISERROR(VLOOKUP(City!B2217,miasta,4,0)),\"\",IF(VLOOKUP(City!B2217,miasta,4,0)=\"\",\"\",VLOOKUP(City!B2217,miasta,4,0)))","v":""},null,null,null,"","","","","","","","","","","",""]
[null,null,null,null,"",{"$f":"IF(ISERROR(VLOOKUP(City!B2218,miasta,4,0)),\"\",IF(VLOOKUP(City!B2218,miasta,4,0)=\"\",\"\",VLOOKUP(City!B2218,miasta,4,0)))","v":""},null,null,null,"","","","","","","","","","","",""]
[null,null,null,null,"",{"$f":"IF(ISERROR(VLOOKUP(City!B2219,miasta,4,0)),\"\",IF(VLOOKUP(City!B2219,miasta,4,0)=\"\",\"\",VLOOKUP(City!B2219,miasta,4,0)))","v":""},null,null,null,"","","","","","","","","","","",""]
[null,null,null,null,"",{"$f":"IF(ISERROR(VLOOKUP(City!B2220,miasta,4,0)),\"\",IF(VLOOKUP(City!B2220,miasta,4,0)=\"\",\"\",VLOOKUP(City!B2220,miasta,4,0)))","v":""},null,null,null,"","","","","","","","","","","",""]
[null,null,null,null,"",{"$f":"IF(ISERROR(VLOOKUP(City!B2221,miasta,4,0)),\"\",IF(VLOOKUP(City!B2221,miasta,4,0)=\"\",\"\",VLOOKUP(City!B2221,miasta,4,0)))","v":""},null,null,null,"","","","","","","","","","","",""]
[null,null,null,null,"",{"$f":"IF(ISERROR(VLOOKUP(City!B2222,miasta,4,0)),\"\",IF(VLOOKUP(City!B2222,miasta,4,0)=\"\",\"\",VLOOKUP(City!B2222,miasta,4,0)))","v":""},null,null,null,"","","","","","","","","","","",""]
[null,null,null,null,"",{"$f":"IF(ISERROR(VLOOKUP(City!B2223,miasta,4,0)),\"\",IF(VLOOKUP(City!B2223,miasta,4,0)=\"\",\"\",VLOOKUP(City!B2223,miasta,4,0)))","v":""},null,null,null,"","","","","","","","","","","",""]
[null,null,null,null,"",{"$f":"IF(ISERROR(VLOOKUP(City!B2224,miasta,4,0)),\"\",IF(VLOOKUP(City!B2224,miasta,4,0)=\"\",\"\",VLOOKUP(City!B2224,miasta,4,0)))","v":""},null,null,null,"","","","","","","","","","","",""]
[null,null,null,null,"",{"$f":"IF(ISERROR(VLOOKUP(City!B2225,miasta,4,0)),\"\",IF(VLOOKUP(City!B2225,miasta,4,0)=\"\",\"\",VLOOKUP(City!B2225,miasta,4,0)))","v":""},null,null,null,"","","","","","","","","","","",""]
[null,null,null,null,"",{"$f":"IF(ISERROR(VLOOKUP(City!B2226,miasta,4,0)),\"\",IF(VLOOKUP(City!B2226,miasta,4,0)=\"\",\"\",VLOOKUP(City!B2226,miasta,4,0)))","v":""},null,null,null,"","","","","","","","","","","",""]
[null,null,null,null,"",{"$f":"IF(ISERROR(VLOOKUP(City!B2227,miasta,4,0)),\"\",IF(VLOOKUP(City!B2227,miasta,4,0)=\"\",\"\",VLOOKUP(City!B2227,miasta,4,0)))","v":""},null,null,null,"",{"$f":"IF($J2227=COLUMN(K2227)-10,$E2227,\"\")","v":""},"","","","","","","","","",""]
[null,null,null,null,"",{"$f":"IF(ISERROR(VLOOKUP(City!B2228,miasta,4,0)),\"\",IF(VLOOKUP(City!B2228,miasta,4,0)=\"\",\"\",VLOOKUP(City!B2228,miasta,4,0)))","v":""},null,null,null,"","","","","","","","","","","",""]
[null,null,null,null,"",{"$f":"IF(ISERROR(VLOOKUP(City!B2229,miasta,4,0)),\"\",IF(VLOOKUP(City!B2229,miasta,4,0)=\"\",\"\",VLOOKUP(City!B2229,miasta,4,0)))","v":""},null,null,null,"","","","","","","","","","","",""]
[null,null,null,null,"",{"$f":"IF(ISERROR(VLOOKUP(City!B2230,miasta,4,0)),\"\",IF(VLOOKUP(City!B2230,miasta,4,0)=\"\",\"\",VLOOKUP(City!B2230,miasta,4,0)))","v":""},null,null,null,"","","","","","","","","","","",""]
[null,null,null,null,"",{"$f":"IF(ISERROR(VLOOKUP(City!B2231,miasta,4,0)),\"\",IF(VLOOKUP(City!B2231,miasta,4,0)=\"\",\"\",VLOOKUP(City!B2231,miasta,4,0)))","v":""},null,null,null,"","","","","","","","","","","",""]
[null,null,null,null,"",{"$f":"IF(ISERROR(VLOOKUP(City!B2232,miasta,4,0)),\"\",IF(VLOOKUP(City!B2232,miasta,4,0)=\"\",\"\",VLOOKUP(City!B2232,miasta,4,0)))","v":""},null,null,null,"","","","","","","","","","","",""]
[null,null,null,null,"",{"$f":"IF(ISERROR(VLOOKUP(City!B2233,miasta,4,0)),\"\",IF(VLOOKUP(City!B2233,miasta,4,0)=\"\",\"\",VLOOKUP(City!B2233,miasta,4,0)))","v":""},null,null,null,"","","","","","","","","","","",""]
[null,null,null,null,"",{"$f":"IF(ISERROR(VLOOKUP(City!B2234,miasta,4,0)),\"\",IF(VLOOKUP(City!B2234,miasta,4,0)=\"\",\"\",VLOOKUP(City!B2234,miasta,4,0)))","v":""},null,null,null,"","","","","","","","","","","",""]
[null,null,null,null,"",{"$f":"IF(ISERROR(VLOOKUP(City!B2235,miasta,4,0)),\"\",IF(VLOOKUP(City!B2235,miasta,4,0)=\"\",\"\",VLOOKUP(City!B2235,miasta,4,0)))","v":""},null,null,null,"","","","","","","","","","","",""]
[null,null,null,null,"",{"$f":"IF(ISERROR(VLOOKUP(City!B2236,miasta,4,0)),\"\",IF(VLOOKUP(City!B2236,miasta,4,0)=\"\",\"\",VLOOKUP(City!B2236,miasta,4,0)))","v":""},null,null,null,"","","","","","","","","","","",""]
[null,null,null,null,"",{"$f":"IF(ISERROR(VLOOKUP(City!B2237,miasta,4,0)),\"\",IF(VLOOKUP(City!B2237,miasta,4,0)=\"\",\"\",VLOOKUP(City!B2237,miasta,4,0)))","v":""},null,null,null,"","","","","","","","","","","",""]
[null,null,null,null,"",{"$f":"IF(ISERROR(VLOOKUP(City!B2238,miasta,4,0)),\"\",IF(VLOOKUP(City!B2238,miasta,4,0)=\"\",\"\",VLOOKUP(City!B2238,miasta,4,0)))","v":""},null,null,null,"","","","","","","","","","","",""]
[null,null,null,null,"",{"$f":"IF(ISERROR(VLOOKUP(City!B2239,miasta,4,0)),\"\",IF(VLOOKUP(City!B2239,miasta,4,0)=\"\",\"\",VLOOKUP(City!B2239,miasta,4,0)))","v":""},null,null,null,"","","","","","","","","","","",""]
[null,null,null,null,"",{"$f":"IF(ISERROR(VLOOKUP(City!B2240,miasta,4,0)),\"\",IF(VLOOKUP(City!B2240,miasta,4,0)=\"\",\"\",VLOOKUP(City!B2240,miasta,4,0)))","v":""},null,null,null,"","","","","","","","","","","",""]
[null,null,null,null,"",{"$f":"IF(ISERROR(VLOOKUP(City!B2241,miasta,4,0)),\"\",IF(VLOOKUP(City!B2241,miasta,4,0)=\"\",\"\",VLOOKUP(City!B2241,miasta,4,0)))","v":""},null,null,null,"","","","","","","","","","","",""]
[null,null,null,null,{"$f":"IF(ISERROR(VLOOKUP(B2242,miasta,3,0)),\"\",VLOOKUP(B2242,miasta,3,0))","v":""},{"$f":"IF(ISERROR(VLOOKUP(City!B2242,miasta,4,0)),\"\",IF(VLOOKUP(City!B2242,miasta,4,0)=\"\",\"\",VLOOKUP(City!B2242,miasta,4,0)))","v":""},null,null,null,"","","","","","","","","","","",""]
[null,null,null,null,"",{"$f":"IF(ISERROR(VLOOKUP(City!B2243,miasta,4,0)),\"\",IF(VLOOKUP(City!B2243,miasta,4,0)=\"\",\"\",VLOOKUP(City!B2243,miasta,4,0)))","v":""},null,null,null,{"$f":"IF(ISERROR(VLOOKUP(F2243,$G$2:$I$12,3,1)),\"\",VLOOKUP(F2243,$G$2:$I$12,3,1))","v":""},"","","","","","","","","","",""]
[null,null,null,null,"",{"$f":"IF(ISERROR(VLOOKUP(City!B2244,miasta,4,0)),\"\",IF(VLOOKUP(City!B2244,miasta,4,0)=\"\",\"\",VLOOKUP(City!B2244,miasta,4,0)))","v":""},null,null,null,"","","","","","","","","","","",""]
[null,null,null,null,"",{"$f":"IF(ISERROR(VLOOKUP(City!B2245,miasta,4,0)),\"\",IF(VLOOKUP(City!B2245,miasta,4,0)=\"\",\"\",VLOOKUP(City!B2245,miasta,4,0)))","v":""},null,null,null,"","","","","","","","","","","",""]
[null,null,null,null,"",{"$f":"IF(ISERROR(VLOOKUP(City!B2246,miasta,4,0)),\"\",IF(VLOOKUP(City!B2246,miasta,4,0)=\"\",\"\",VLOOKUP(City!B2246,miasta,4,0)))","v":""},null,null,null,"","","","","","","","","","","",""]
[null,null,null,null,"",{"$f":"IF(ISERROR(VLOOKUP(City!B2247,miasta,4,0)),\"\",IF(VLOOKUP(City!B2247,miasta,4,0)=\"\",\"\",VLOOKUP(City!B2247,miasta,4,0)))","v":""},null,null,null,"","","","","","","","","","","",""]
[null,null,null,null,"",{"$f":"IF(ISERROR(VLOOKUP(City!B2248,miasta,4,0)),\"\",IF(VLOOKUP(City!B2248,miasta,4,0)=\"\",\"\",VLOOKUP(City!B2248,miasta,4,0)))","v":""},null,null,null,"","","","","","","","","","","",""]
[null,null,null,null,"",{"$f":"IF(ISERROR(VLOOKUP(City!B2249,miasta,4,0)),\"\",IF(VLOOKUP(City!B2249,miasta,4,0)=\"\",\"\",VLOOKUP(City!B2249,miasta,4,0)))","v":""},null,null,null,"","","","","","","","","","","",""]
[null,null,null,null,"",{"$f":"IF(ISERROR(VLOOKUP(City!B2250,miasta,4,0)),\"\",IF(VLOOKUP(City!B2250,miasta,4,0)=\"\",\"\",VLOOKUP(City!B2250,miasta,4,0)))","v":""},null,null,null,"","","",{"$f":"IF($J2250=COLUMN(M2250)-10,$E2250,\"\")","v":""},"","","","","","","",""]
[null,null,null,null,"",{"$f":"IF(ISERROR(VLOOKUP(City!B2251,miasta,4,0)),\"\",IF(VLOOKUP(City!B2251,miasta,4,0)=\"\",\"\",VLOOKUP(City!B2251,miasta,4,0)))","v":""},null,null,null,"",{"$f":"IF($J2251=COLUMN(K2251)-10,$E2251,\"\")","v":""},"","","","","","","","","",""]
[null,null,null,null,"",{"$f":"IF(ISERROR(VLOOKUP(City!B2252,miasta,4,0)),\"\",IF(VLOOKUP(City!B2252,miasta,4,0)=\"\",\"\",VLOOKUP(City!B2252,miasta,4,0)))","v":""},null,null,null,"","","","","","","","","","","",""]
[null,null,null,null,"",{"$f":"IF(ISERROR(VLOOKUP(City!B2253,miasta,4,0)),\"\",IF(VLOOKUP(City!B2253,miasta,4,0)=\"\",\"\",VLOOKUP(City!B2253,miasta,4,0)))","v":""},null,null,null,"","","","","","","","","","","",""]
[null,null,null,null,"",{"$f":"IF(ISERROR(VLOOKUP(City!B2254,miasta,4,0)),\"\",IF(VLOOKUP(City!B2254,miasta,4,0)=\"\",\"\",VLOOKUP(City!B2254,miasta,4,0)))","v":""},null,null,null,"","","","","","","","","","","",""]
[null,null,null,null,"",{"$f":"IF(ISERROR(VLOOKUP(City!B2255,miasta,4,0)),\"\",IF(VLOOKUP(City!B2255,miasta,4,0)=\"\",\"\",VLOOKUP(City!B2255,miasta,4,0)))","v":""},null,null,null,"","","","","","","","","","","",""]
[null,null,null,null,"",{"$f":"IF(ISERROR(VLOOKUP(City!B2256,miasta,4,0)),\"\",IF(VLOOKUP(City!B2256,miasta,4,0)=\"\",\"\",VLOOKUP(City!B2256,miasta,4,0)))","v":""},null,null,null,"","","","","","","","","","","",""]
[null,null,null,null,"",{"$f":"IF(ISERROR(VLOOKUP(City!B2257,miasta,4,0)),\"\",IF(VLOOKUP(City!B2257,miasta,4,0)=\"\",\"\",VLOOKUP(City!B2257,miasta,4,0)))","v":""},null,null,null,"","","","","","","","","","","",""]
[null,null,null,null,"",{"$f":"IF(ISERROR(VLOOKUP(City!B2258,miasta,4,0)),\"\",IF(VLOOKUP(City!B2258,miasta,4,0)=\"\",\"\",VLOOKUP(City!B2258,miasta,4,0)))","v":""},null,null,null,"","","","","","","","","","","",""]
[null,null,null,null,"",{"$f":"IF(ISERROR(VLOOKUP(City!B2259,miasta,4,0)),\"\",IF(VLOOKUP(City!B2259,miasta,4,0)=\"\",\"\",VLOOKUP(City!B2259,miasta,4,0)))","v":""},null,null,null,"","","","","","","","","","","",""]
[null,null,null,null,"",{"$f":"IF(ISERROR(VLOOKUP(City!B2260,miasta,4,0)),\"\",IF(VLOOKUP(City!B2260,miasta,4,0)=\"\",\"\",VLOOKUP(City!B2260,miasta,4,0)))","v":""},null,null,null,"","","","","","","","","","","",""]
[null,null,null,null,"",{"$f":"IF(ISERROR(VLOOKUP(City!B2261,miasta,4,0)),\"\",IF(VLOOKUP(City!B2261,miasta,4,0)=\"\",\"\",VLOOKUP(City!B2261,miasta,4,0)))","v":""},null,null,null,"","","","","","","","","","","",""]
[null,null,null,null,"",{"$f":"IF(ISERROR(VLOOKUP(City!B2262,miasta,4,0)),\"\",IF(VLOOKUP(City!B2262,miasta,4,0)=\"\",\"\",VLOOKUP(City!B2262,miasta,4,0)))","v":""},null,null,null,"","","","","","","","","","","",""]
[null,null,null,null,"",{"$f":"IF(ISERROR(VLOOKUP(City!B2263,miasta,4,0)),\"\",IF(VLOOKUP(City!B2263,miasta,4,0)=\"\",\"\",VLOOKUP(City!B2263,miasta,4,0)))","v":""},null,null,null,"","","","","","","","","","","",""]
[null,null,null,null,"",{"$f":"IF(ISERROR(VLOOKUP(City!B2264,miasta,4,0)),\"\",IF(VLOOKUP(City!B2264,miasta,4,0)=\"\",\"\",VLOOKUP(City!B2264,miasta,4,0)))","v":""},null,null,null,"","","","","","","","","","","",""]
[null,null,null,null,"",{"$f":"IF(ISERROR(VLOOKUP(City!B2265,miasta,4,0)),\"\",IF(VLOOKUP(City!B2265,miasta,4,0)=\"\",\"\",VLOOKUP(City!B2265,miasta,4,0)))","v":""},null,null,null,"","","","","","","","","","","",""]
[null,null,null,null,"",{"$f":"IF(ISERROR(VLOOKUP(City!B2266,miasta,4,0)),\"\",IF(VLOOKUP(City!B2266,miasta,4,0)=\"\",\"\",VLOOKUP(City!B2266,miasta,4,0)))","v":""},null,null,null,"","","","","","","","","","","",""]
[null,null,null,null,"",{"$f":"IF(ISERROR(VLOOKUP(City!B2267,miasta,4,0)),\"\",IF(VLOOKUP(City!B2267,miasta,4,0)=\"\",\"\",VLOOKUP(City!B2267,miasta,4,0)))","v":""},null,null,null,"","","","","","","","","","","",""]
[null,null,null,null,"",{"$f":"IF(ISERROR(VLOOKUP(City!B2268,miasta,4,0)),\"\",IF(VLOOKUP(City!B2268,miasta,4,0)=\"\",\"\",VLOOKUP(City!B2268,miasta,4,0)))","v":""},null,null,null,"","","","","","","","","","","",""]
[null,null,null,null,"",{"$f":"IF(ISERROR(VLOOKUP(City!B2269,miasta,4,0)),\"\",IF(VLOOKUP(City!B2269,miasta,4,0)=\"\",\"\",VLOOKUP(City!B2269,miasta,4,0)))","v":""},null,null,null,"","","","","","","","","","","",""]
[null,null,null,null,"",{"$f":"IF(ISERROR(VLOOKUP(City!B2270,miasta,4,0)),\"\",IF(VLOOKUP(City!B2270,miasta,4,0)=\"\",\"\",VLOOKUP(City!B2270,miasta,4,0)))","v":""},null,null,null,"","","","","","","","","","","",""]
[null,null,null,null,"",{"$f":"IF(ISERROR(VLOOKUP(City!B2271,miasta,4,0)),\"\",IF(VLOOKUP(City!B2271,miasta,4,0)=\"\",\"\",VLOOKUP(City!B2271,miasta,4,0)))","v":""},null,null,null,"","","","","","","","","","","",""]
[null,null,null,null,"",{"$f":"IF(ISERROR(VLOOKUP(City!B2272,miasta,4,0)),\"\",IF(VLOOKUP(City!B2272,miasta,4,0)=\"\",\"\",VLOOKUP(City!B2272,miasta,4,0)))","v":""},null,null,null,"","","","","","","","","","","",""]
[null,null,null,null,"",{"$f":"IF(ISERROR(VLOOKUP(City!B2273,miasta,4,0)),\"\",IF(VLOOKUP(City!B2273,miasta,4,0)=\"\",\"\",VLOOKUP(City!B2273,miasta,4,0)))","v":""},null,null,null,"","","","","","","","","","","",""]
[null,null,null,null,"",{"$f":"IF(ISERROR(VLOOKUP(City!B2274,miasta,4,0)),\"\",IF(VLOOKUP(City!B2274,miasta,4,0)=\"\",\"\",VLOOKUP(City!B2274,miasta,4,0)))","v":""},null,null,null,"","","","","","","","","","","",""]
[null,null,null,null,"",{"$f":"IF(ISERROR(VLOOKUP(City!B2275,miasta,4,0)),\"\",IF(VLOOKUP(City!B2275,miasta,4,0)=\"\",\"\",VLOOKUP(City!B2275,miasta,4,0)))","v":""},null,null,null,"","","","","","","","","","","",""]
[null,null,null,null,"",{"$f":"IF(ISERROR(VLOOKUP(City!B2276,miasta,4,0)),\"\",IF(VLOOKUP(City!B2276,miasta,4,0)=\"\",\"\",VLOOKUP(City!B2276,miasta,4,0)))","v":""},null,null,null,"","","","","","","","","","","",""]
[null,null,null,null,"",{"$f":"IF(ISERROR(VLOOKUP(City!B2277,miasta,4,0)),\"\",IF(VLOOKUP(City!B2277,miasta,4,0)=\"\",\"\",VLOOKUP(City!B2277,miasta,4,0)))","v":""},null,null,null,"","","","","","","","","","","",""]
[null,null,null,null,"",{"$f":"IF(ISERROR(VLOOKUP(City!B2278,miasta,4,0)),\"\",IF(VLOOKUP(City!B2278,miasta,4,0)=\"\",\"\",VLOOKUP(City!B2278,miasta,4,0)))","v":""},null,null,null,"","","","","","",{"$f":"IF($J2278=COLUMN(P2278)-10,$E2278,\"\")","v":""},"","","","",""]
[null,null,null,null,"",{"$f":"IF(ISERROR(VLOOKUP(City!B2279,miasta,4,0)),\"\",IF(VLOOKUP(City!B2279,miasta,4,0)=\"\",\"\",VLOOKUP(City!B2279,miasta,4,0)))","v":""},null,null,null,"","","","","","","","","","","",""]
[null,null,null,null,"",{"$f":"IF(ISERROR(VLOOKUP(City!B2280,miasta,4,0)),\"\",IF(VLOOKUP(City!B2280,miasta,4,0)=\"\",\"\",VLOOKUP(City!B2280,miasta,4,0)))","v":""},null,null,null,"","","","","","","","","","","",""]
[null,null,null,null,"",{"$f":"IF(ISERROR(VLOOKUP(City!B2281,miasta,4,0)),\"\",IF(VLOOKUP(City!B2281,miasta,4,0)=\"\",\"\",VLOOKUP(City!B2281,miasta,4,0)))","v":""},null,null,null,"","","","","","","","","","","",""]
[null,null,null,null,"",{"$f":"IF(ISERROR(VLOOKUP(City!B2282,miasta,4,0)),\"\",IF(VLOOKUP(City!B2282,miasta,4,0)=\"\",\"\",VLOOKUP(City!B2282,miasta,4,0)))","v":""},null,null,null,"","","","","","","","","","","",""]
[null,null,null,null,"",{"$f":"IF(ISERROR(VLOOKUP(City!B2283,miasta,4,0)),\"\",IF(VLOOKUP(City!B2283,miasta,4,0)=\"\",\"\",VLOOKUP(City!B2283,miasta,4,0)))","v":""},null,null,null,"",{"$f":"IF($J2283=COLUMN(K2283)-10,$E2283,\"\")","v":""},"","","","","","","","","",""]
[null,null,null,null,"",{"$f":"IF(ISERROR(VLOOKUP(City!B2284,miasta,4,0)),\"\",IF(VLOOKUP(City!B2284,miasta,4,0)=\"\",\"\",VLOOKUP(City!B2284,miasta,4,0)))","v":""},null,null,null,"","","","","","","","","","","",""]
[null,null,null,null,"",{"$f":"IF(ISERROR(VLOOKUP(City!B2285,miasta,4,0)),\"\",IF(VLOOKUP(City!B2285,miasta,4,0)=\"\",\"\",VLOOKUP(City!B2285,miasta,4,0)))","v":""},null,null,null,"","","","","","","","","","","",""]
[null,null,null,null,"",{"$f":"IF(ISERROR(VLOOKUP(City!B2286,miasta,4,0)),\"\",IF(VLOOKUP(City!B2286,miasta,4,0)=\"\",\"\",VLOOKUP(City!B2286,miasta,4,0)))","v":""},null,null,null,"","","","","","","","","","","",""]
[null,null,null,null,"",{"$f":"IF(ISERROR(VLOOKUP(City!B2287,miasta,4,0)),\"\",IF(VLOOKUP(City!B2287,miasta,4,0)=\"\",\"\",VLOOKUP(City!B2287,miasta,4,0)))","v":""},null,null,null,"","","","","","","","","","","",""]
[null,null,null,null,"",{"$f":"IF(ISERROR(VLOOKUP(City!B2288,miasta,4,0)),\"\",IF(VLOOKUP(City!B2288,miasta,4,0)=\"\",\"\",VLOOKUP(City!B2288,miasta,4,0)))","v":""},null,null,null,"","","","","","","","","","","",""]
[null,null,null,null,"",{"$f":"IF(ISERROR(VLOOKUP(City!B2289,miasta,4,0)),\"\",IF(VLOOKUP(City!B2289,miasta,4,0)=\"\",\"\",VLOOKUP(City!B2289,miasta,4,0)))","v":""},null,null,null,"","","","","","","","","","","",""]
[null,null,null,null,"",{"$f":"IF(ISERROR(VLOOKUP(City!B2290,miasta,4,0)),\"\",IF(VLOOKUP(City!B2290,miasta,4,0)=\"\",\"\",VLOOKUP(City!B2290,miasta,4,0)))","v":""},null,null,null,"","","","","","","","","","","",""]
[null,null,null,null,"",{"$f":"IF(ISERROR(VLOOKUP(City!B2291,miasta,4,0)),\"\",IF(VLOOKUP(City!B2291,miasta,4,0)=\"\",\"\",VLOOKUP(City!B2291,miasta,4,0)))","v":""},null,null,null,"","","","","","","","","","","",""]
[null,null,null,null,"",{"$f":"IF(ISERROR(VLOOKUP(City!B2292,miasta,4,0)),\"\",IF(VLOOKUP(City!B2292,miasta,4,0)=\"\",\"\",VLOOKUP(City!B2292,miasta,4,0)))","v":""},null,null,null,"","","","","","","","","","","",""]
[null,null,null,null,"",{"$f":"IF(ISERROR(VLOOKUP(City!B2293,miasta,4,0)),\"\",IF(VLOOKUP(City!B2293,miasta,4,0)=\"\",\"\",VLOOKUP(City!B2293,miasta,4,0)))","v":""},null,null,null,"","","","","","","","","","","",""]
[null,null,null,null,"",{"$f":"IF(ISERROR(VLOOKUP(City!B2294,miasta,4,0)),\"\",IF(VLOOKUP(City!B2294,miasta,4,0)=\"\",\"\",VLOOKUP(City!B2294,miasta,4,0)))","v":""},null,null,null,"","","","","","","","","","","",""]
[null,null,null,null,"",{"$f":"IF(ISERROR(VLOOKUP(City!B2295,miasta,4,0)),\"\",IF(VLOOKUP(City!B2295,miasta,4,0)=\"\",\"\",VLOOKUP(City!B2295,miasta,4,0)))","v":""},null,null,null,"","","","","","","","","","","",""]
[null,null,null,null,"",{"$f":"IF(ISERROR(VLOOKUP(City!B2296,miasta,4,0)),\"\",IF(VLOOKUP(City!B2296,miasta,4,0)=\"\",\"\",VLOOKUP(City!B2296,miasta,4,0)))","v":""},null,null,null,"","","","","","","","","","","",""]
[null,null,null,null,"",{"$f":"IF(ISERROR(VLOOKUP(City!B2297,miasta,4,0)),\"\",IF(VLOOKUP(City!B2297,miasta,4,0)=\"\",\"\",VLOOKUP(City!B2297,miasta,4,0)))","v":""},null,null,null,"","","","","","","","","","","",""]
[null,null,null,null,"",{"$f":"IF(ISERROR(VLOOKUP(City!B2298,miasta,4,0)),\"\",IF(VLOOKUP(City!B2298,miasta,4,0)=\"\",\"\",VLOOKUP(City!B2298,miasta,4,0)))","v":""},null,null,null,"","","","","","","","","","","",""]
[null,null,null,null,"",{"$f":"IF(ISERROR(VLOOKUP(City!B2299,miasta,4,0)),\"\",IF(VLOOKUP(City!B2299,miasta,4,0)=\"\",\"\",VLOOKUP(City!B2299,miasta,4,0)))","v":""},null,null,null,"","","","","","","","","","","",""]
[null,null,null,null,"",{"$f":"IF(ISERROR(VLOOKUP(City!B2300,miasta,4,0)),\"\",IF(VLOOKUP(City!B2300,miasta,4,0)=\"\",\"\",VLOOKUP(City!B2300,miasta,4,0)))","v":""},null,null,null,"","","","","","","","","","","",""]
[null,null,null,null,"",{"$f":"IF(ISERROR(VLOOKUP(City!B2301,miasta,4,0)),\"\",IF(VLOOKUP(City!B2301,miasta,4,0)=\"\",\"\",VLOOKUP(City!B2301,miasta,4,0)))","v":""},null,null,null,"","","","","","","","","","","",""]
[null,null,null,null,"",{"$f":"IF(ISERROR(VLOOKUP(City!B2302,miasta,4,0)),\"\",IF(VLOOKUP(City!B2302,miasta,4,0)=\"\",\"\",VLOOKUP(City!B2302,miasta,4,0)))","v":""},null,null,null,"","","","","","","","","","","",""]
[null,null,null,null,"",{"$f":"IF(ISERROR(VLOOKUP(City!B2303,miasta,4,0)),\"\",IF(VLOOKUP(City!B2303,miasta,4,0)=\"\",\"\",VLOOKUP(City!B2303,miasta,4,0)))","v":""},null,null,null,"","","","","","","","","","","",""]
[null,null,null,null,"",{"$f":"IF(ISERROR(VLOOKUP(City!B2304,miasta,4,0)),\"\",IF(VLOOKUP(City!B2304,miasta,4,0)=\"\",\"\",VLOOKUP(City!B2304,miasta,4,0)))","v":""},null,null,null,"","","","","","","","","","","",""]
[null,null,null,null,"",{"$f":"IF(ISERROR(VLOOKUP(City!B2305,miasta,4,0)),\"\",IF(VLOOKUP(City!B2305,miasta,4,0)=\"\",\"\",VLOOKUP(City!B2305,miasta,4,0)))","v":""},null,null,null,"","","","","","","","","","","",""]
[null,null,null,null,{"$f":"IF(ISERROR(VLOOKUP(B2306,miasta,3,0)),\"\",VLOOKUP(B2306,miasta,3,0))","v":""},{"$f":"IF(ISERROR(VLOOKUP(City!B2306,miasta,4,0)),\"\",IF(VLOOKUP(City!B2306,miasta,4,0)=\"\",\"\",VLOOKUP(City!B2306,miasta,4,0)))","v":""},null,null,null,"","","","","","","","","","","",""]
[null,null,null,null,"",{"$f":"IF(ISERROR(VLOOKUP(City!B2307,miasta,4,0)),\"\",IF(VLOOKUP(City!B2307,miasta,4,0)=\"\",\"\",VLOOKUP(City!B2307,miasta,4,0)))","v":""},null,null,null,{"$f":"IF(ISERROR(VLOOKUP(F2307,$G$2:$I$12,3,1)),\"\",VLOOKUP(F2307,$G$2:$I$12,3,1))","v":""},"","","","","","","","","","",""]
[null,null,null,null,"",{"$f":"IF(ISERROR(VLOOKUP(City!B2308,miasta,4,0)),\"\",IF(VLOOKUP(City!B2308,miasta,4,0)=\"\",\"\",VLOOKUP(City!B2308,miasta,4,0)))","v":""},null,null,null,"","","","","","","","","","","",""]
[null,null,null,null,"",{"$f":"IF(ISERROR(VLOOKUP(City!B2309,miasta,4,0)),\"\",IF(VLOOKUP(City!B2309,miasta,4,0)=\"\",\"\",VLOOKUP(City!B2309,miasta,4,0)))","v":""},null,null,null,"","","","","","","","","","","",""]
[null,null,null,null,"",{"$f":"IF(ISERROR(VLOOKUP(City!B2310,miasta,4,0)),\"\",IF(VLOOKUP(City!B2310,miasta,4,0)=\"\",\"\",VLOOKUP(City!B2310,miasta,4,0)))","v":""},null,null,null,"","","","","","","","","","","",""]
[null,null,null,null,"",{"$f":"IF(ISERROR(VLOOKUP(City!B2311,miasta,4,0)),\"\",IF(VLOOKUP(City!B2311,miasta,4,0)=\"\",\"\",VLOOKUP(City!B2311,miasta,4,0)))","v":""},null,null,null,"","","","","","","","","","","",""]
[null,null,null,null,"",{"$f":"IF(ISERROR(VLOOKUP(City!B2312,miasta,4,0)),\"\",IF(VLOOKUP(City!B2312,miasta,4,0)=\"\",\"\",VLOOKUP(City!B2312,miasta,4,0)))","v":""},null,null,null,"","","","","","","","","","","",""]
[null,null,null,null,"",{"$f":"IF(ISERROR(VLOOKUP(City!B2313,miasta,4,0)),\"\",IF(VLOOKUP(City!B2313,miasta,4,0)=\"\",\"\",VLOOKUP(City!B2313,miasta,4,0)))","v":""},null,null,null,"","","","","","","","","","","",""]
[null,null,null,null,"",{"$f":"IF(ISERROR(VLOOKUP(City!B2314,miasta,4,0)),\"\",IF(VLOOKUP(City!B2314,miasta,4,0)=\"\",\"\",VLOOKUP(City!B2314,miasta,4,0)))","v":""},null,null,null,"","","","","","","","","","","",""]
[null,null,null,null,"",{"$f":"IF(ISERROR(VLOOKUP(City!B2315,miasta,4,0)),\"\",IF(VLOOKUP(City!B2315,miasta,4,0)=\"\",\"\",VLOOKUP(City!B2315,miasta,4,0)))","v":""},null,null,null,"","","","","","","","","","","",""]
[null,null,null,null,"",{"$f":"IF(ISERROR(VLOOKUP(City!B2316,miasta,4,0)),\"\",IF(VLOOKUP(City!B2316,miasta,4,0)=\"\",\"\",VLOOKUP(City!B2316,miasta,4,0)))","v":""},null,null,null,"","","","","","","","","","","",""]
[null,null,null,null,"",{"$f":"IF(ISERROR(VLOOKUP(City!B2317,miasta,4,0)),\"\",IF(VLOOKUP(City!B2317,miasta,4,0)=\"\",\"\",VLOOKUP(City!B2317,miasta,4,0)))","v":""},null,null,null,"","","","","","","","","","","",""]
[null,null,null,null,"",{"$f":"IF(ISERROR(VLOOKUP(City!B2318,miasta,4,0)),\"\",IF(VLOOKUP(City!B2318,miasta,4,0)=\"\",\"\",VLOOKUP(City!B2318,miasta,4,0)))","v":""},null,null,null,"","","","","","","","","","","",""]
[null,null,null,null,"",{"$f":"IF(ISERROR(VLOOKUP(City!B2319,miasta,4,0)),\"\",IF(VLOOKUP(City!B2319,miasta,4,0)=\"\",\"\",VLOOKUP(City!B2319,miasta,4,0)))","v":""},null,null,null,"","","","","","","","","","","",""]
[null,"Bąbelek1",6.25,49,{"$f":"MIN(E2:E2319)","v":0}]
[null,"Bąbelek2",6.25,{"$f":"D2320-0.25","v":48.75},{"$f":"(E2324-E2320)/4+E2320","v":0}]
[null,"Bąbelek3",6.25,{"$f":"D2321-0.3","v":48.45},{"$f":"E2321+E2321-E2320","v":0}]
[null,"Bąbelek4",6.25,{"$f":"D2322-0.35","v":48.1},{"$f":"E2322+E2322-E2321","v":0}]
[null,"Bąbelek5",6.25,{"$f":"D2323-0.4","v":47.7},{"$f":"MAX(E2:E2319)","v":0}]

{"sheet":"Palette","index":4,"n_rows":22,"n_cols":12,"rows_kept":22,"cut":false,"hidden":true,"merged":[]}
["red-blue",2031719,2824370,5071062,8562164,13097981,16250871,15787473,14599570,12817219,11298337,6369285]
["red-yellow-violet",4325790,5193429,4419060,6401789,9167102,12582911,10024422,10804651,10863206,12421170,10637150]
["red-green",2490533,2568407,4419060,6401789,9167102,12582911,9170905,7002534,6536550,5281818,3631104]
["red-black",2031719,2824370,5071062,8562164,13097981,16777215,14737632,12237498,8882055,5066061,1710618]
["brown-blue",340052,676236,2982335,8241887,12839158,16119285,15067847,12701056,9410357,6186497,3161088]
["yellow",16777215,15073279,12384255,9561086,5227774,2726398,1339628,150732,275609,402790,0]
["red",16777215,15791615,13820158,10599420,7508732,4877051,2898927,1906891,1380261,852071,0]
["green",16777215,16121079,14743013,12642759,10213793,7783540,6138689,4557603,2911488,1786880,0]
["blue",16777215,16776183,16247774,15719366,14797470,14069355,13013570,11890977,10244360,7024648,0]
["black",16777215,16777215,15790320,14277081,12434877,9868950,7566195,5395026,2434341,1710618,0]
[]
[null,"Red","Green","Blue","RGB","[funkcja kod_RGB]"]
[null,255,255,255,{"$f":"kod_RGB(B13,C13,D13)","v":16777215}]
[null,111,111,200,{"$f":"kod_RGB(B14,C14,D14)","v":13135727}]
[null,null,null,null,0]
[null,null,null,null,0]
[null,null,null,null,0]
[null,null,null,null,0]
[null,null,null,null,0]
[null,null,null,null,0]
[null,null,null,null,0]
[null,null,null,null,0]